BEGIN:VCALENDAR
VERSION:2.0
PRODID:-//Central Presbyterian Church Denver - ECPv6.15.20//NONSGML v1.0//EN
CALSCALE:GREGORIAN
METHOD:PUBLISH
X-WR-CALNAME:Central Presbyterian Church Denver
X-ORIGINAL-URL:https://centraldenver.com
X-WR-CALDESC:Events for Central Presbyterian Church Denver
REFRESH-INTERVAL;VALUE=DURATION:PT1H
X-Robots-Tag:noindex
X-PUBLISHED-TTL:PT1H
BEGIN:VTIMEZONE
TZID:America/Denver
BEGIN:DAYLIGHT
TZOFFSETFROM:-0700
TZOFFSETTO:-0600
TZNAME:MDT
DTSTART:20230312T090000
END:DAYLIGHT
BEGIN:STANDARD
TZOFFSETFROM:-0600
TZOFFSETTO:-0700
TZNAME:MST
DTSTART:20231105T080000
END:STANDARD
BEGIN:DAYLIGHT
TZOFFSETFROM:-0700
TZOFFSETTO:-0600
TZNAME:MDT
DTSTART:20240310T090000
END:DAYLIGHT
BEGIN:STANDARD
TZOFFSETFROM:-0600
TZOFFSETTO:-0700
TZNAME:MST
DTSTART:20241103T080000
END:STANDARD
BEGIN:DAYLIGHT
TZOFFSETFROM:-0700
TZOFFSETTO:-0600
TZNAME:MDT
DTSTART:20250309T090000
END:DAYLIGHT
BEGIN:STANDARD
TZOFFSETFROM:-0600
TZOFFSETTO:-0700
TZNAME:MST
DTSTART:20251102T080000
END:STANDARD
END:VTIMEZONE
BEGIN:VEVENT
DTSTART;TZID=America/Denver:20240915T103000
DTEND;TZID=America/Denver:20240915T113000
DTSTAMP:20260421T074159
CREATED:20240903T203239Z
LAST-MODIFIED:20240912T171553Z
UID:10001762-1726396200-1726399800@centraldenver.com
SUMMARY:Worship at Central Presbyterian Church
DESCRIPTION:Scripture Reading — Habakkuk 3:17-19 \nAlways Rejoice in the Lord — Rev. Tirisay Martinez \nSpecial Music: Central’s Chancel Choir;  Mallory Bernstein\, piano. \n 
URL:https://centraldenver.com/event/worship-at-central-presbyterian-church-67/
LOCATION:Central Presbyterian Church\, 1660 Sherman St\, Denver\, CO\, United States
CATEGORIES:Community Events,Worship
ATTACH;FMTTYPE=image/jpeg:https://centraldenver.com/wp-content/uploads/2023/08/cenpres.jpeg
END:VEVENT
BEGIN:VEVENT
DTSTART;TZID=America/Denver:20240915T120000
DTEND;TZID=America/Denver:20240915T130000
DTSTAMP:20260421T074159
CREATED:20240905T162127Z
LAST-MODIFIED:20240905T162127Z
UID:10001772-1726401600-1726405200@centraldenver.com
SUMMARY:Faith Formation Class
DESCRIPTION:Rev. Tirisay Martinez and Yosbeni Ochoa will lead a Faith Formation class on The\nChurch in Cuba Today.
URL:https://centraldenver.com/event/faith-formation-class-9/
LOCATION:Central Presbyterian Church\, 1660 Sherman St\, Denver\, CO\, United States
CATEGORIES:Adult Ministries,Community Events
END:VEVENT
BEGIN:VEVENT
DTSTART;TZID=America/Denver:20240915T130000
DTEND;TZID=America/Denver:20240915T140000
DTSTAMP:20260421T074159
CREATED:20240903T203528Z
LAST-MODIFIED:20240903T203724Z
UID:10001763-1726405200-1726408800@centraldenver.com
SUMMARY:Youth Event
DESCRIPTION:Youth Event with Central and Wellshire young people \n  \n 
URL:https://centraldenver.com/event/faith-formation-class-the-church-in-cuba-today/
LOCATION:Central Presbyterian Church\, 1660 Sherman St\, Denver\, CO\, United States
CATEGORIES:Children & Youth Events,Community Events,Family Ministries,Service & Volunteer Opportunies
ATTACH;FMTTYPE=image/jpeg:https://centraldenver.com/wp-content/uploads/2023/08/cenpres.jpeg
END:VEVENT
END:VCALENDAR