BEGIN:VCALENDAR
VERSION:2.0
PRODID:-//Central Presbyterian Church Denver - ECPv6.15.20//NONSGML v1.0//EN
CALSCALE:GREGORIAN
METHOD:PUBLISH
X-WR-CALNAME:Central Presbyterian Church Denver
X-ORIGINAL-URL:https://centraldenver.com
X-WR-CALDESC:Events for Central Presbyterian Church Denver
REFRESH-INTERVAL;VALUE=DURATION:PT1H
X-Robots-Tag:noindex
X-PUBLISHED-TTL:PT1H
BEGIN:VTIMEZONE
TZID:America/Denver
BEGIN:DAYLIGHT
TZOFFSETFROM:-0700
TZOFFSETTO:-0600
TZNAME:MDT
DTSTART:20250309T090000
END:DAYLIGHT
BEGIN:STANDARD
TZOFFSETFROM:-0600
TZOFFSETTO:-0700
TZNAME:MST
DTSTART:20251102T080000
END:STANDARD
BEGIN:DAYLIGHT
TZOFFSETFROM:-0700
TZOFFSETTO:-0600
TZNAME:MDT
DTSTART:20260308T090000
END:DAYLIGHT
BEGIN:STANDARD
TZOFFSETFROM:-0600
TZOFFSETTO:-0700
TZNAME:MST
DTSTART:20261101T080000
END:STANDARD
BEGIN:DAYLIGHT
TZOFFSETFROM:-0700
TZOFFSETTO:-0600
TZNAME:MDT
DTSTART:20270314T090000
END:DAYLIGHT
BEGIN:STANDARD
TZOFFSETFROM:-0600
TZOFFSETTO:-0700
TZNAME:MST
DTSTART:20271107T080000
END:STANDARD
END:VTIMEZONE
BEGIN:VEVENT
DTSTART;TZID=America/Denver:20260301T084500
DTEND;TZID=America/Denver:20260301T100000
DTSTAMP:20260423T082735
CREATED:20260219T221058Z
LAST-MODIFIED:20260219T221207Z
UID:10002150-1772354700-1772359200@centraldenver.com
SUMMARY:Chancel Choir Practice
DESCRIPTION:
URL:https://centraldenver.com/event/chancel-choir-practice-16/2026-03-01/
LOCATION:Central Presbyterian Church\, 1660 Sherman St\, Denver\, CO\, United States
CATEGORIES:Adult Ministries,Holiday & Special Services,Music & Choirs,Worship
ATTACH;FMTTYPE=image/jpeg:https://centraldenver.com/wp-content/uploads/2024/08/This-Is-The-Day-.-Glenn-Ross-15.jpg
END:VEVENT
BEGIN:VEVENT
DTSTART;TZID=America/Denver:20260301T103000
DTEND;TZID=America/Denver:20260301T113000
DTSTAMP:20260423T082735
CREATED:20260219T223352Z
LAST-MODIFIED:20260226T164012Z
UID:10002471-1772361000-1772364600@centraldenver.com
SUMMARY:Worship at Central Presbyterian Church
DESCRIPTION:Scriptures: Psalm 121; John 3:1–17 \nSermon: Where Love Is Found: Look for the Helper – Dorothy Piatt-Esguerra \nThe Chancel Choir; Mallory Bernstein\, piano
URL:https://centraldenver.com/event/worship-at-central-presbyterian-church-138/
LOCATION:Central Presbyterian Church\, 1660 Sherman St\, Denver\, CO\, United States
CATEGORIES:Adult Ministries,Community Events,Worship
ATTACH;FMTTYPE=image/jpeg:https://centraldenver.com/wp-content/uploads/2023/08/cenpres.jpeg
END:VEVENT
BEGIN:VEVENT
DTSTART;TZID=America/Denver:20260308T084500
DTEND;TZID=America/Denver:20260308T100000
DTSTAMP:20260423T082735
CREATED:20260219T221058Z
LAST-MODIFIED:20260219T221207Z
UID:10002151-1772959500-1772964000@centraldenver.com
SUMMARY:Chancel Choir Practice
DESCRIPTION:
URL:https://centraldenver.com/event/chancel-choir-practice-16/2026-03-08/
LOCATION:Central Presbyterian Church\, 1660 Sherman St\, Denver\, CO\, United States
CATEGORIES:Adult Ministries,Holiday & Special Services,Music & Choirs,Worship
ATTACH;FMTTYPE=image/jpeg:https://centraldenver.com/wp-content/uploads/2024/08/This-Is-The-Day-.-Glenn-Ross-15.jpg
END:VEVENT
BEGIN:VEVENT
DTSTART;TZID=America/Denver:20260308T103000
DTEND;TZID=America/Denver:20260308T113000
DTSTAMP:20260423T082735
CREATED:20260302T205400Z
LAST-MODIFIED:20260302T205535Z
UID:10002478-1772965800-1772969400@centraldenver.com
SUMMARY:Worship at Central Presbyterian Church
DESCRIPTION:Scriptures:  Exodus 17:1-7; John 4:5-42 \nSermon: Where Love Is Found: Look for Living Water – Dorothy Piatt-Esguerra \nThe Chancel Choir; Mallory Bernstein\, piano
URL:https://centraldenver.com/event/worship-at-central-presbyterian-church-139/
LOCATION:Central Presbyterian Church\, 1660 Sherman St\, Denver\, CO\, United States
CATEGORIES:Adult Ministries,Community Events,Worship
ATTACH;FMTTYPE=image/jpeg:https://centraldenver.com/wp-content/uploads/2023/08/cenpres.jpeg
END:VEVENT
BEGIN:VEVENT
DTSTART;TZID=America/Denver:20260312T100000
DTEND;TZID=America/Denver:20260312T111500
DTSTAMP:20260423T082735
CREATED:20250814T175251Z
LAST-MODIFIED:20250814T175251Z
UID:10002049-1773309600-1773314100@centraldenver.com
SUMMARY:Women's Bible Study
DESCRIPTION:
URL:https://centraldenver.com/event/womens-bible-study-3/2026-03-12/
LOCATION:CO
CATEGORIES:Adult Ministries,Community Events
END:VEVENT
BEGIN:VEVENT
DTSTART;TZID=America/Denver:20260315T084500
DTEND;TZID=America/Denver:20260315T100000
DTSTAMP:20260423T082735
CREATED:20260219T221058Z
LAST-MODIFIED:20260219T221207Z
UID:10002152-1773564300-1773568800@centraldenver.com
SUMMARY:Chancel Choir Practice
DESCRIPTION:
URL:https://centraldenver.com/event/chancel-choir-practice-16/2026-03-15/
LOCATION:Central Presbyterian Church\, 1660 Sherman St\, Denver\, CO\, United States
CATEGORIES:Adult Ministries,Holiday & Special Services,Music & Choirs,Worship
ATTACH;FMTTYPE=image/jpeg:https://centraldenver.com/wp-content/uploads/2024/08/This-Is-The-Day-.-Glenn-Ross-15.jpg
END:VEVENT
BEGIN:VEVENT
DTSTART;TZID=America/Denver:20260322T084500
DTEND;TZID=America/Denver:20260322T100000
DTSTAMP:20260423T082735
CREATED:20260219T221058Z
LAST-MODIFIED:20260219T221207Z
UID:10002153-1774169100-1774173600@centraldenver.com
SUMMARY:Chancel Choir Practice
DESCRIPTION:
URL:https://centraldenver.com/event/chancel-choir-practice-16/2026-03-22/
LOCATION:Central Presbyterian Church\, 1660 Sherman St\, Denver\, CO\, United States
CATEGORIES:Adult Ministries,Holiday & Special Services,Music & Choirs,Worship
ATTACH;FMTTYPE=image/jpeg:https://centraldenver.com/wp-content/uploads/2024/08/This-Is-The-Day-.-Glenn-Ross-15.jpg
END:VEVENT
BEGIN:VEVENT
DTSTART;TZID=America/Denver:20260322T103000
DTEND;TZID=America/Denver:20260322T113000
DTSTAMP:20260423T082735
CREATED:20260309T162622Z
LAST-MODIFIED:20260317T202525Z
UID:10002479-1774175400-1774179000@centraldenver.com
SUMMARY:Worship at Central Presbyterian Church
DESCRIPTION:Scriptures:  Psalm 130; John 11:1-45 selected verses \nSermon: Where Love Is Found: Look for the Liberator – Dorothy Piatt-Esguerra \nAhna and Liza Smith\, sopranos; The Chancel Choir; Mallory Bernstein\, piano
URL:https://centraldenver.com/event/worship-at-central-presbyterian-church-140/
LOCATION:Central Presbyterian Church\, 1660 Sherman St\, Denver\, CO\, United States
CATEGORIES:Adult Ministries,Community Events,Worship
ATTACH;FMTTYPE=image/jpeg:https://centraldenver.com/wp-content/uploads/2023/08/cenpres.jpeg
END:VEVENT
BEGIN:VEVENT
DTSTART;TZID=America/Denver:20260329T084500
DTEND;TZID=America/Denver:20260329T100000
DTSTAMP:20260423T082735
CREATED:20260219T221058Z
LAST-MODIFIED:20260219T221207Z
UID:10002154-1774773900-1774778400@centraldenver.com
SUMMARY:Chancel Choir Practice
DESCRIPTION:
URL:https://centraldenver.com/event/chancel-choir-practice-16/2026-03-29/
LOCATION:Central Presbyterian Church\, 1660 Sherman St\, Denver\, CO\, United States
CATEGORIES:Adult Ministries,Holiday & Special Services,Music & Choirs,Worship
ATTACH;FMTTYPE=image/jpeg:https://centraldenver.com/wp-content/uploads/2024/08/This-Is-The-Day-.-Glenn-Ross-15.jpg
END:VEVENT
BEGIN:VEVENT
DTSTART;TZID=America/Denver:20260329T094500
DTEND;TZID=America/Denver:20260329T101500
DTSTAMP:20260423T082735
CREATED:20260323T162559Z
LAST-MODIFIED:20260323T162559Z
UID:10002481-1774777500-1774779300@centraldenver.com
SUMMARY:Palm Sunday Prayer Walk
DESCRIPTION:Join us at Central for a Palm Sunday Prayer Walk. We will meet in the Narthex and distribute palms. Our intergenerational Palm Prayer Walk at 10:00 a.m. will take us around our downtown block as we prophetically shout\, “Hosanna or Save us!”
URL:https://centraldenver.com/event/palm-sunday-prayer-walk/
LOCATION:Central Presbyterian Church\, 1660 Sherman St\, Denver\, CO\, United States
CATEGORIES:Adult Ministries,Children & Youth Events,Community Events,Family Ministries,Worship
ATTACH;FMTTYPE=image/jpeg:https://centraldenver.com/wp-content/uploads/2026/03/palm-sunday-usa-e1774283233446.jpg
END:VEVENT
BEGIN:VEVENT
DTSTART;TZID=America/Denver:20260329T103000
DTEND;TZID=America/Denver:20260329T113000
DTSTAMP:20260423T082735
CREATED:20260323T162056Z
LAST-MODIFIED:20260323T162056Z
UID:10002480-1774780200-1774783800@centraldenver.com
SUMMARY:Worship at Central Presbyterian Church
DESCRIPTION:Scriptures:  Psalm 118: 1-2\,19-29; Matthew 21:1-11 selected verses \nSermon: Where Love Is Found: Look for the Unexpected – Dorothy Piatt-Esguerra \nChuck Stevenson\, soloist; The Chancel Choir; Joshua Sawicki\, piano
URL:https://centraldenver.com/event/worship-at-central-presbyterian-church-141/
LOCATION:Central Presbyterian Church\, 1660 Sherman St\, Denver\, CO\, United States
CATEGORIES:Adult Ministries,Community Events,Worship
ATTACH;FMTTYPE=image/jpeg:https://centraldenver.com/wp-content/uploads/2023/08/cenpres.jpeg
END:VEVENT
END:VCALENDAR