BEGIN:VCALENDAR
VERSION:2.0
PRODID:-//Central Presbyterian Church Denver - ECPv6.15.20//NONSGML v1.0//EN
CALSCALE:GREGORIAN
METHOD:PUBLISH
X-ORIGINAL-URL:https://centraldenver.com
X-WR-CALDESC:Events for Central Presbyterian Church Denver
REFRESH-INTERVAL;VALUE=DURATION:PT1H
X-Robots-Tag:noindex
X-PUBLISHED-TTL:PT1H
BEGIN:VTIMEZONE
TZID:America/Denver
BEGIN:DAYLIGHT
TZOFFSETFROM:-0700
TZOFFSETTO:-0600
TZNAME:MDT
DTSTART:20250309T090000
END:DAYLIGHT
BEGIN:STANDARD
TZOFFSETFROM:-0600
TZOFFSETTO:-0700
TZNAME:MST
DTSTART:20251102T080000
END:STANDARD
BEGIN:DAYLIGHT
TZOFFSETFROM:-0700
TZOFFSETTO:-0600
TZNAME:MDT
DTSTART:20260308T090000
END:DAYLIGHT
BEGIN:STANDARD
TZOFFSETFROM:-0600
TZOFFSETTO:-0700
TZNAME:MST
DTSTART:20261101T080000
END:STANDARD
BEGIN:DAYLIGHT
TZOFFSETFROM:-0700
TZOFFSETTO:-0600
TZNAME:MDT
DTSTART:20270314T090000
END:DAYLIGHT
BEGIN:STANDARD
TZOFFSETFROM:-0600
TZOFFSETTO:-0700
TZNAME:MST
DTSTART:20271107T080000
END:STANDARD
END:VTIMEZONE
BEGIN:VEVENT
DTSTART;TZID=America/Denver:20260118T100000
DTEND;TZID=America/Denver:20260118T113000
DTSTAMP:20260420T095644
CREATED:20251230T212300Z
LAST-MODIFIED:20251230T212938Z
UID:10002097-1768730400-1768735800@centraldenver.com
SUMMARY:Worship at Peoples Presbyterian Church
DESCRIPTION:On Sunday\, January 18\, we will worship with our siblings at Peoples Presbyterian in their sanctuary (2780 York St.\, Denver\, CO 80205). The service is at 10 a.m.\, and there will be no in-person or livestream worship at Central that Sunday. We celebrate our continuing partnership with Peoples and hope you can attend this special service!
URL:https://centraldenver.com/event/worship-at-peoples-presbyterian-church-3/
LOCATION:Peoples Presbyterian Church\, 2780 York St\, Denver\, CO\, United States
CATEGORIES:Adult Ministries,Community Events,Worship
END:VEVENT
END:VCALENDAR