BEGIN:VCALENDAR
VERSION:2.0
PRODID:-//Central Presbyterian Church Denver - ECPv6.15.20//NONSGML v1.0//EN
CALSCALE:GREGORIAN
METHOD:PUBLISH
X-WR-CALNAME:Central Presbyterian Church Denver
X-ORIGINAL-URL:https://centraldenver.com
X-WR-CALDESC:Events for Central Presbyterian Church Denver
REFRESH-INTERVAL;VALUE=DURATION:PT1H
X-Robots-Tag:noindex
X-PUBLISHED-TTL:PT1H
BEGIN:VTIMEZONE
TZID:America/Denver
BEGIN:DAYLIGHT
TZOFFSETFROM:-0700
TZOFFSETTO:-0600
TZNAME:MDT
DTSTART:20250309T090000
END:DAYLIGHT
BEGIN:STANDARD
TZOFFSETFROM:-0600
TZOFFSETTO:-0700
TZNAME:MST
DTSTART:20251102T080000
END:STANDARD
BEGIN:DAYLIGHT
TZOFFSETFROM:-0700
TZOFFSETTO:-0600
TZNAME:MDT
DTSTART:20260308T090000
END:DAYLIGHT
BEGIN:STANDARD
TZOFFSETFROM:-0600
TZOFFSETTO:-0700
TZNAME:MST
DTSTART:20261101T080000
END:STANDARD
BEGIN:DAYLIGHT
TZOFFSETFROM:-0700
TZOFFSETTO:-0600
TZNAME:MDT
DTSTART:20270314T090000
END:DAYLIGHT
BEGIN:STANDARD
TZOFFSETFROM:-0600
TZOFFSETTO:-0700
TZNAME:MST
DTSTART:20271107T080000
END:STANDARD
END:VTIMEZONE
BEGIN:VEVENT
DTSTART;TZID=America/Denver:20260426T114500
DTEND;TZID=America/Denver:20260426T121500
DTSTAMP:20260420T154520
CREATED:20260415T181027Z
LAST-MODIFIED:20260415T181027Z
UID:10002498-1777203900-1777205700@centraldenver.com
SUMMARY:Kids' Choir Rehearsal
DESCRIPTION:Does your 5-12 year old like to sing? We’d love to have them join Kids’ Choir! We will be singing on Sunday\, May 10\, and all levels are welcome! You may email Charis Smith\, Director of Music\, at charis@centraldenver.com\, for the music and a recording\, or just join us for rehearsal. We will meet after worship on Sunday from 11:45 a.m. to 12:15 p.m. in the choir room. Join us!! \nRehearsals begin THIS Sunday and run for the next 3 Sundays.\nPerformance: Sunday\, May 10
URL:https://centraldenver.com/event/kids-choir-rehearsal-2/
LOCATION:Central Presbyterian Church\, 1660 Sherman St\, Denver\, CO\, United States
CATEGORIES:Children & Youth Events,Community Events,Family Ministries,Music & Choirs
ATTACH;FMTTYPE=image/png:https://centraldenver.com/wp-content/uploads/2026/04/kids-choir.png
END:VEVENT
BEGIN:VEVENT
DTSTART;TZID=America/Denver:20260426T114500
DTEND;TZID=America/Denver:20260426T123000
DTSTAMP:20260420T154521
CREATED:20260415T181604Z
LAST-MODIFIED:20260415T181706Z
UID:10002500-1777203900-1777206600@centraldenver.com
SUMMARY:Central Youth In Service Gathering
DESCRIPTION:Central Youth In Service (8th – 12th graders) Gathering:\nSunday\, April 26 11:45 a.m. at Prodigy Coffee \nMeet Molly Brown at Prodigy Coffee for a complimentary drink or pastry. Prodigy closes at noon.                                                                                                                                                                                              Then head to the nursery space to prepare snack bags for people visiting detained loved ones detained at GEO Detention Center in Aurora.
URL:https://centraldenver.com/event/central-youth-in-service-gathering/
LOCATION:Central Presbyterian Church\, 1660 Sherman St\, Denver\, CO\, United States
CATEGORIES:Children & Youth Events,Community Events,Service & Volunteer Opportunies
ATTACH;FMTTYPE=image/png:https://centraldenver.com/wp-content/uploads/2025/05/prodigy.png
END:VEVENT
END:VCALENDAR