BEGIN:VCALENDAR
VERSION:2.0
PRODID:-//Central Presbyterian Church Denver - ECPv6.15.20//NONSGML v1.0//EN
CALSCALE:GREGORIAN
METHOD:PUBLISH
X-WR-CALNAME:Central Presbyterian Church Denver
X-ORIGINAL-URL:https://centraldenver.com
X-WR-CALDESC:Events for Central Presbyterian Church Denver
REFRESH-INTERVAL;VALUE=DURATION:PT1H
X-Robots-Tag:noindex
X-PUBLISHED-TTL:PT1H
BEGIN:VTIMEZONE
TZID:America/Denver
BEGIN:DAYLIGHT
TZOFFSETFROM:-0700
TZOFFSETTO:-0600
TZNAME:MDT
DTSTART:20250309T090000
END:DAYLIGHT
BEGIN:STANDARD
TZOFFSETFROM:-0600
TZOFFSETTO:-0700
TZNAME:MST
DTSTART:20251102T080000
END:STANDARD
BEGIN:DAYLIGHT
TZOFFSETFROM:-0700
TZOFFSETTO:-0600
TZNAME:MDT
DTSTART:20260308T090000
END:DAYLIGHT
BEGIN:STANDARD
TZOFFSETFROM:-0600
TZOFFSETTO:-0700
TZNAME:MST
DTSTART:20261101T080000
END:STANDARD
BEGIN:DAYLIGHT
TZOFFSETFROM:-0700
TZOFFSETTO:-0600
TZNAME:MDT
DTSTART:20270314T090000
END:DAYLIGHT
BEGIN:STANDARD
TZOFFSETFROM:-0600
TZOFFSETTO:-0700
TZNAME:MST
DTSTART:20271107T080000
END:STANDARD
END:VTIMEZONE
BEGIN:VEVENT
DTSTART;TZID=America/Denver:20260503T084500
DTEND;TZID=America/Denver:20260503T100000
DTSTAMP:20260419T150607
CREATED:20260219T221058Z
LAST-MODIFIED:20260219T221207Z
UID:10002159-1777797900-1777802400@centraldenver.com
SUMMARY:Chancel Choir Practice
DESCRIPTION:
URL:https://centraldenver.com/event/chancel-choir-practice-16/2026-05-03/
LOCATION:Central Presbyterian Church\, 1660 Sherman St\, Denver\, CO\, United States
CATEGORIES:Adult Ministries,Holiday & Special Services,Music & Choirs,Worship
ATTACH;FMTTYPE=image/jpeg:https://centraldenver.com/wp-content/uploads/2024/08/This-Is-The-Day-.-Glenn-Ross-15.jpg
END:VEVENT
BEGIN:VEVENT
DTSTART;TZID=America/Denver:20260503T114500
DTEND;TZID=America/Denver:20260503T121500
DTSTAMP:20260419T150607
CREATED:20260415T181115Z
LAST-MODIFIED:20260415T181123Z
UID:10002499-1777808700-1777810500@centraldenver.com
SUMMARY:Kids' Choir Rehearsal
DESCRIPTION:Does your 5-12 year old like to sing? We’d love to have them join Kids’ Choir! We will be singing on Sunday\, May 10\, and all levels are welcome! You may email Charis Smith\, Director of Music\, at charis@centraldenver.com\, for the music and a recording\, or just join us for rehearsal. We will meet after worship on Sunday from 11:45 a.m. to 12:15 p.m. in the choir room. Join us!! \nRehearsals begin THIS Sunday and run for the next 3 Sundays.\nPerformance: Sunday\, May 10
URL:https://centraldenver.com/event/kids-choir-rehearsal-3/
LOCATION:Central Presbyterian Church\, 1660 Sherman St\, Denver\, CO\, United States
CATEGORIES:Children & Youth Events,Community Events,Family Ministries,Music & Choirs
ATTACH;FMTTYPE=image/png:https://centraldenver.com/wp-content/uploads/2026/04/kids-choir.png
END:VEVENT
BEGIN:VEVENT
DTSTART;TZID=America/Denver:20260503T160000
DTEND;TZID=America/Denver:20260503T180000
DTSTAMP:20260419T150607
CREATED:20260219T230842Z
LAST-MODIFIED:20260219T230842Z
UID:10002475-1777824000-1777831200@centraldenver.com
SUMMARY:Denver Young Artists Orchestra presents Jubilee
DESCRIPTION:Join DYAO for a matinee performance of “Jubilee” featuring String Ensemble\, Allegro Strings\, and Conservatory Orchestra. \n\n\n\n\nCelebrate an afternoon of youthful artistry and joyful music-making at “Jubilee\,” a matinee performance presented by the Denver Young Artists Orchestra on May 3 at 4:00 p.m. at Central Presbyterian Church in Denver. The concert showcases the vibrant talents of the organization’s String Ensemble\, Allegro Strings\, and Conservatory Orchestra\, highlighting the remarkable growth of musicians across all levels. Audiences will be treated to featured appearances by concerto competition winners Olivia Lee\, Gavin Schleiger\, and Rowan Clarke\, all on violin\, performing alongside their peers. The program reflects a spirit of celebration with selections ranging from energetic dances and imaginative contemporary works to beloved classics by Haydn\, Borodin\, and Stravinsky. Join us for an inspiring musical jubilee that honors tradition\, creativity\, and the next generation of orchestral musicians.
URL:https://centraldenver.com/event/denver-young-artists-orchestra-presents-jubilee/
LOCATION:Central Presbyterian Church\, 1660 Sherman St\, Denver\, CO\, United States
CATEGORIES:Community Events,Concerts,Music & Choirs
ATTACH;FMTTYPE=image/jpeg:https://centraldenver.com/wp-content/uploads/2026/02/DYAO-Jubilee.jpg
END:VEVENT
BEGIN:VEVENT
DTSTART;TZID=America/Denver:20260509T140000
DTEND;TZID=America/Denver:20260509T170000
DTSTAMP:20260419T150607
CREATED:20260219T231452Z
LAST-MODIFIED:20260219T231811Z
UID:10002476-1778335200-1778346000@centraldenver.com
SUMMARY:Performing Small Miracles
DESCRIPTION:Colorado Children’s Chorale presents their Prep Choir\, Apprentice Choir\, and Stevens JAMS. \nDoors open approximately 45 minutes before the concert begins.
URL:https://centraldenver.com/event/performing-small-miracles-4/
LOCATION:Central Presbyterian Church\, 1660 Sherman St\, Denver\, CO\, United States
CATEGORIES:Community Events,Concerts,Music & Choirs
ATTACH;FMTTYPE=image/jpeg:https://centraldenver.com/wp-content/uploads/2026/02/choralepromo.jpg
END:VEVENT
BEGIN:VEVENT
DTSTART;TZID=America/Denver:20260510T084500
DTEND;TZID=America/Denver:20260510T100000
DTSTAMP:20260419T150607
CREATED:20260219T221058Z
LAST-MODIFIED:20260219T221207Z
UID:10002160-1778402700-1778407200@centraldenver.com
SUMMARY:Chancel Choir Practice
DESCRIPTION:
URL:https://centraldenver.com/event/chancel-choir-practice-16/2026-05-10/
LOCATION:Central Presbyterian Church\, 1660 Sherman St\, Denver\, CO\, United States
CATEGORIES:Adult Ministries,Holiday & Special Services,Music & Choirs,Worship
ATTACH;FMTTYPE=image/jpeg:https://centraldenver.com/wp-content/uploads/2024/08/This-Is-The-Day-.-Glenn-Ross-15.jpg
END:VEVENT
BEGIN:VEVENT
DTSTART;TZID=America/Denver:20260517T084500
DTEND;TZID=America/Denver:20260517T100000
DTSTAMP:20260419T150607
CREATED:20260219T221058Z
LAST-MODIFIED:20260219T221207Z
UID:10002161-1779007500-1779012000@centraldenver.com
SUMMARY:Chancel Choir Practice
DESCRIPTION:
URL:https://centraldenver.com/event/chancel-choir-practice-16/2026-05-17/
LOCATION:Central Presbyterian Church\, 1660 Sherman St\, Denver\, CO\, United States
CATEGORIES:Adult Ministries,Holiday & Special Services,Music & Choirs,Worship
ATTACH;FMTTYPE=image/jpeg:https://centraldenver.com/wp-content/uploads/2024/08/This-Is-The-Day-.-Glenn-Ross-15.jpg
END:VEVENT
BEGIN:VEVENT
DTSTART;TZID=America/Denver:20260519T190000
DTEND;TZID=America/Denver:20260519T210000
DTSTAMP:20260419T150607
CREATED:20260415T191100Z
LAST-MODIFIED:20260415T191100Z
UID:10002501-1779217200-1779224400@centraldenver.com
SUMMARY:Ensemble Charité PresentsVive La France!
DESCRIPTION:Experience the elegance and emotion of French classical music in an intimate evening featuring two extraordinary artists\, Grammy Award-winning mezzo-soprano Michelle DeYoung and Yumi Hwang-Williams\, Concertmaster of the Colorado Symphony. Presented by Ensemble Charité\, the program includes: \nDebussy: Chanson de Bilitis for mezzo-soprano and string quartet (arr. by Jake Heggie) \nDuparc: Four songs for mezzo-soprano and piano \nFauré: Piano Quintet No. 1\, Op. 89 \nRounding out the ensemble are chamber musician and soloist Claude Sim on violin\, Arts Hub Executive Director Andrew Krimm on viola\, Cultural Caravan Artistic and Executive Director Josh Halpern on cello\, and CU Professor Jeremy Reger on piano. \nThis is a rare opportunity to hear world-class musicians in an up-close\, welcoming setting\, and every ticket purchased directly supports Sister Carmen Community Center and Denver Rescue Mission and the vital work they do in our community.
URL:https://centraldenver.com/event/ensemble-charite-presentsvive-la-france/
LOCATION:Central Presbyterian Church\, 1660 Sherman St\, Denver\, CO\, United States
CATEGORIES:Community Events,Concerts,Music & Choirs
ATTACH;FMTTYPE=image/jpeg:https://centraldenver.com/wp-content/uploads/2023/10/MichelleDeYoung.jpg
END:VEVENT
BEGIN:VEVENT
DTSTART;TZID=America/Denver:20260524T084500
DTEND;TZID=America/Denver:20260524T100000
DTSTAMP:20260419T150607
CREATED:20260219T221058Z
LAST-MODIFIED:20260219T221207Z
UID:10002162-1779612300-1779616800@centraldenver.com
SUMMARY:Chancel Choir Practice
DESCRIPTION:
URL:https://centraldenver.com/event/chancel-choir-practice-16/2026-05-24/
LOCATION:Central Presbyterian Church\, 1660 Sherman St\, Denver\, CO\, United States
CATEGORIES:Adult Ministries,Holiday & Special Services,Music & Choirs,Worship
ATTACH;FMTTYPE=image/jpeg:https://centraldenver.com/wp-content/uploads/2024/08/This-Is-The-Day-.-Glenn-Ross-15.jpg
END:VEVENT
BEGIN:VEVENT
DTSTART;TZID=America/Denver:20260526T200000
DTEND;TZID=America/Denver:20260526T220000
DTSTAMP:20260419T150607
CREATED:20260223T163556Z
LAST-MODIFIED:20260223T163910Z
UID:10002477-1779825600-1779832800@centraldenver.com
SUMMARY:Joscho Stephan Trio
DESCRIPTION:Hailed as one of the most exciting ensembles in the acoustic guitar scene today\, the Joscho Stephan Trio is breathing fresh life into the classic gypsy swing tradition pioneered by Django Reinhardt. Led by the masterful playing of Joscho Stephan and joined by Sven Jungbeck (guitar) and Volker Kamp (double bass)\, their live performances reveal a mesmerizing synergy and technical brilliance that captivate audiences worldwide. \nWith a YouTube channel amassing nearly 40 million views\, Joscho has built a global following. He has collaborated with guitar legends including Tommy Emmanuel\, Stochelo Rosenberg\, and Biréli Lagrène\, and was handpicked as the only European guitarist at the exclusive George Benson Camp. \nAt the heart of the trio’s success is their fearless musical innovation. While they reverently rework timeless jazz standards\, they also infuse their own compositions with influences spanning Latin\, classical\, pop\, and rock—making every set a dynamic feast for the ears.
URL:https://centraldenver.com/event/joscho-stephan-trio/
LOCATION:Central Presbyterian Church\, 1660 Sherman St\, Denver\, CO\, United States
CATEGORIES:Community Events,Concerts,Music & Choirs
ATTACH;FMTTYPE=image/jpeg:https://centraldenver.com/wp-content/uploads/2026/02/Joscho-concert-e1771864742430.jpg
END:VEVENT
BEGIN:VEVENT
DTSTART;TZID=America/Denver:20260531T084500
DTEND;TZID=America/Denver:20260531T100000
DTSTAMP:20260419T150607
CREATED:20260219T221058Z
LAST-MODIFIED:20260219T221207Z
UID:10002163-1780217100-1780221600@centraldenver.com
SUMMARY:Chancel Choir Practice
DESCRIPTION:
URL:https://centraldenver.com/event/chancel-choir-practice-16/2026-05-31/
LOCATION:Central Presbyterian Church\, 1660 Sherman St\, Denver\, CO\, United States
CATEGORIES:Adult Ministries,Holiday & Special Services,Music & Choirs,Worship
ATTACH;FMTTYPE=image/jpeg:https://centraldenver.com/wp-content/uploads/2024/08/This-Is-The-Day-.-Glenn-Ross-15.jpg
END:VEVENT
END:VCALENDAR