BEGIN:VCALENDAR
VERSION:2.0
PRODID:-//Central Presbyterian Church Denver - ECPv6.15.20//NONSGML v1.0//EN
CALSCALE:GREGORIAN
METHOD:PUBLISH
X-WR-CALNAME:Central Presbyterian Church Denver
X-ORIGINAL-URL:https://centraldenver.com
X-WR-CALDESC:Events for Central Presbyterian Church Denver
REFRESH-INTERVAL;VALUE=DURATION:PT1H
X-Robots-Tag:noindex
X-PUBLISHED-TTL:PT1H
BEGIN:VTIMEZONE
TZID:America/Denver
BEGIN:DAYLIGHT
TZOFFSETFROM:-0700
TZOFFSETTO:-0600
TZNAME:MDT
DTSTART:20250309T090000
END:DAYLIGHT
BEGIN:STANDARD
TZOFFSETFROM:-0600
TZOFFSETTO:-0700
TZNAME:MST
DTSTART:20251102T080000
END:STANDARD
BEGIN:DAYLIGHT
TZOFFSETFROM:-0700
TZOFFSETTO:-0600
TZNAME:MDT
DTSTART:20260308T090000
END:DAYLIGHT
BEGIN:STANDARD
TZOFFSETFROM:-0600
TZOFFSETTO:-0700
TZNAME:MST
DTSTART:20261101T080000
END:STANDARD
BEGIN:DAYLIGHT
TZOFFSETFROM:-0700
TZOFFSETTO:-0600
TZNAME:MDT
DTSTART:20270314T090000
END:DAYLIGHT
BEGIN:STANDARD
TZOFFSETFROM:-0600
TZOFFSETTO:-0700
TZNAME:MST
DTSTART:20271107T080000
END:STANDARD
END:VTIMEZONE
BEGIN:VEVENT
DTSTART;TZID=America/Denver:20260411T193000
DTEND;TZID=America/Denver:20260411T213000
DTSTAMP:20260419T150444
CREATED:20260219T225930Z
LAST-MODIFIED:20260219T230002Z
UID:10002473-1775935800-1775943000@centraldenver.com
SUMMARY:Denver Philharmonic Orchestra Presents Once Upon a Tune
DESCRIPTION:Imagination Runs Wild\nEvery great story deserves a great soundtrack—and at Once Upon a Tune\, the DPO will bring tales to life through the power of orchestral music. \nThis storytelling-centered concert whisks audiences away on a journey through fairytales\, legends\, and musical adventures. From whimsical mischief to heroic quests\, each piece on the program paints vivid scenes that spark the imagination and stir the heart. \nPerfect for families\, dreamers\, and lovers of a good story\, Once Upon a Tune invites you to listen with wonder and rediscover the magic of music that speaks without words.
URL:https://centraldenver.com/event/denver-philharmonic-orchestra-presents-once-upon-a-tune/
LOCATION:Central Presbyterian Church\, 1660 Sherman St\, Denver\, CO\, United States
CATEGORIES:Community Events,Concerts,Music & Choirs
ATTACH;FMTTYPE=image/jpeg:https://centraldenver.com/wp-content/uploads/2026/02/DPO-4.26.jpg
END:VEVENT
END:VCALENDAR