BEGIN:VCALENDAR
VERSION:2.0
PRODID:-//Central Presbyterian Church Denver - ECPv6.15.20//NONSGML v1.0//EN
CALSCALE:GREGORIAN
METHOD:PUBLISH
X-WR-CALNAME:Central Presbyterian Church Denver
X-ORIGINAL-URL:https://centraldenver.com
X-WR-CALDESC:Events for Central Presbyterian Church Denver
REFRESH-INTERVAL;VALUE=DURATION:PT1H
X-Robots-Tag:noindex
X-PUBLISHED-TTL:PT1H
BEGIN:VTIMEZONE
TZID:America/Denver
BEGIN:DAYLIGHT
TZOFFSETFROM:-0700
TZOFFSETTO:-0600
TZNAME:MDT
DTSTART:20230312T090000
END:DAYLIGHT
BEGIN:STANDARD
TZOFFSETFROM:-0600
TZOFFSETTO:-0700
TZNAME:MST
DTSTART:20231105T080000
END:STANDARD
BEGIN:DAYLIGHT
TZOFFSETFROM:-0700
TZOFFSETTO:-0600
TZNAME:MDT
DTSTART:20240310T090000
END:DAYLIGHT
BEGIN:STANDARD
TZOFFSETFROM:-0600
TZOFFSETTO:-0700
TZNAME:MST
DTSTART:20241103T080000
END:STANDARD
BEGIN:DAYLIGHT
TZOFFSETFROM:-0700
TZOFFSETTO:-0600
TZNAME:MDT
DTSTART:20250309T090000
END:DAYLIGHT
BEGIN:STANDARD
TZOFFSETFROM:-0600
TZOFFSETTO:-0700
TZNAME:MST
DTSTART:20251102T080000
END:STANDARD
END:VTIMEZONE
BEGIN:VEVENT
DTSTART;TZID=America/Denver:20241201T090000
DTEND;TZID=America/Denver:20241201T120000
DTSTAMP:20260421T151554
CREATED:20241125T232147Z
LAST-MODIFIED:20241125T232147Z
UID:10001809-1733043600-1733054400@centraldenver.com
SUMMARY:Pick Up Advent Food Boxes for Metro Caring
DESCRIPTION:Please pick up an empty Food Box decorated for Advent. All boxes contain an Advent Calendar with nourishing foods and toiletries needed by Metro Caring. Return completed boxes on Sun\, Dec 29 or Sun\, Jan 5. Our goal is 50 completed boxes. Metro Caring will pick up and weigh our Advent offerings of nourishment and health. \n 
URL:https://centraldenver.com/event/pick-up-advent-food-boxes-for-metro-caring/
LOCATION:Central Presbyterian Church\, 1660 Sherman St\, Denver\, CO\, United States
CATEGORIES:Adult Ministries,Children & Youth Events,Community Events,Family Ministries,Holiday & Special Services,Service & Volunteer Opportunies
ATTACH;FMTTYPE=image/jpeg:https://centraldenver.com/wp-content/uploads/2024/11/gifts-e1732576630746.jpg
END:VEVENT
BEGIN:VEVENT
DTSTART;TZID=America/Denver:20241208T090000
DTEND;TZID=America/Denver:20241208T120000
DTSTAMP:20260421T151554
CREATED:20241125T231404Z
LAST-MODIFIED:20241125T231404Z
UID:10001806-1733648400-1733659200@centraldenver.com
SUMMARY:Socks of Love for Heartbeat Denver Residents
DESCRIPTION:Join in Central’s annual tradition of stuffing 120 pairs of warm socks with helpful winter items like travel size deodorant\, shaving cream\, lotion\, shampoo\, toothbrush and paste; razors\, winter beanies\, dental floss\, mints\, and full bars of soap for our neighbors at Heartbeat Denver Working Men’s Program. We will collect these items on Sundays\, December 8th and 15th. Stay after Worship on December 15th to stuff the socks in assembly line style. Children will deliver these Socks of Love to Heartbeat Denver after the 4pm Christmas Eve service. \n 
URL:https://centraldenver.com/event/socks-of-love-for-heartbeat-denver-residents-2/
LOCATION:Central Presbyterian Church\, 1660 Sherman St\, Denver\, CO\, United States
CATEGORIES:Adult Ministries,Community Events,Family Ministries,Holiday & Special Services,Service & Volunteer Opportunies
ATTACH;FMTTYPE=image/jpeg:https://centraldenver.com/wp-content/uploads/2024/11/Socks-of-Love-e1732576398120.jpg
END:VEVENT
BEGIN:VEVENT
DTSTART;TZID=America/Denver:20241214T110000
DTEND;TZID=America/Denver:20241214T130000
DTSTAMP:20260421T151554
CREATED:20241118T204713Z
LAST-MODIFIED:20241118T204713Z
UID:10001797-1734174000-1734181200@centraldenver.com
SUMMARY:Guns to Gardens Event
DESCRIPTION:
URL:https://centraldenver.com/event/guns-to-gardens-event-2/
LOCATION:CO
CATEGORIES:Community Events,Service & Volunteer Opportunies
ATTACH;FMTTYPE=image/jpeg:https://centraldenver.com/wp-content/uploads/2024/11/Updated-time-12.14.24-Guns-to-Gardens-Flyer_Page_1.jpg
END:VEVENT
BEGIN:VEVENT
DTSTART;TZID=America/Denver:20241215T090000
DTEND;TZID=America/Denver:20241215T120000
DTSTAMP:20260421T151554
CREATED:20241125T231229Z
LAST-MODIFIED:20241125T231326Z
UID:10001805-1734253200-1734264000@centraldenver.com
SUMMARY:Socks of Love for Heartbeat Denver Residents
DESCRIPTION:Join in Central’s annual tradition of stuffing 120 pairs of warm socks with helpful winter items like travel size deodorant\, shaving cream\, lotion\, shampoo\, toothbrush and paste; razors\, winter beanies\, dental floss\, mints\, and full bars of soap for our neighbors at Heartbeat Denver Working Men’s Program. We will collect these items on Sundays\, December 8th and 15th. Stay after Worship on December 15th to stuff the socks in assembly line style. Children will deliver these Socks of Love to Heartbeat Denver after the 4pm Christmas Eve service. \n 
URL:https://centraldenver.com/event/socks-of-love-for-heartbeat-denver-residents/
LOCATION:Central Presbyterian Church\, 1660 Sherman St\, Denver\, CO\, United States
CATEGORIES:Adult Ministries,Community Events,Family Ministries,Holiday & Special Services,Service & Volunteer Opportunies
ATTACH;FMTTYPE=image/jpeg:https://centraldenver.com/wp-content/uploads/2024/11/Socks-of-Love-e1732576398120.jpg
END:VEVENT
BEGIN:VEVENT
DTSTART;TZID=America/Denver:20241229T090000
DTEND;TZID=America/Denver:20241229T120000
DTSTAMP:20260421T151554
CREATED:20241125T231733Z
LAST-MODIFIED:20241125T232027Z
UID:10001807-1735462800-1735473600@centraldenver.com
SUMMARY:Return Advent Food Boxes for Metro Caring
DESCRIPTION:Please pick up an empty Food Box decorated for Advent. All boxes contain an Advent Calendar with nourishing foods and toiletries needed by Metro Caring. Return completed boxes on Sun\, Dec 29 or Sun\, Jan 5. Our goal is 50 completed boxes. Metro Caring will pick up and weigh our Advent offerings of nourishment and health. \n 
URL:https://centraldenver.com/event/advent-food-boxes-for-metro-caring/
LOCATION:Central Presbyterian Church\, 1660 Sherman St\, Denver\, CO\, United States
CATEGORIES:Adult Ministries,Children & Youth Events,Community Events,Family Ministries,Holiday & Special Services,Service & Volunteer Opportunies
ATTACH;FMTTYPE=image/jpeg:https://centraldenver.com/wp-content/uploads/2024/11/gifts-e1732576630746.jpg
END:VEVENT
END:VCALENDAR