BEGIN:VCALENDAR
VERSION:2.0
PRODID:-//Central Presbyterian Church Denver - ECPv6.15.20//NONSGML v1.0//EN
CALSCALE:GREGORIAN
METHOD:PUBLISH
X-ORIGINAL-URL:https://centraldenver.com
X-WR-CALDESC:Events for Central Presbyterian Church Denver
REFRESH-INTERVAL;VALUE=DURATION:PT1H
X-Robots-Tag:noindex
X-PUBLISHED-TTL:PT1H
BEGIN:VTIMEZONE
TZID:America/Denver
BEGIN:DAYLIGHT
TZOFFSETFROM:-0700
TZOFFSETTO:-0600
TZNAME:MDT
DTSTART:20250309T090000
END:DAYLIGHT
BEGIN:STANDARD
TZOFFSETFROM:-0600
TZOFFSETTO:-0700
TZNAME:MST
DTSTART:20251102T080000
END:STANDARD
BEGIN:DAYLIGHT
TZOFFSETFROM:-0700
TZOFFSETTO:-0600
TZNAME:MDT
DTSTART:20260308T090000
END:DAYLIGHT
BEGIN:STANDARD
TZOFFSETFROM:-0600
TZOFFSETTO:-0700
TZNAME:MST
DTSTART:20261101T080000
END:STANDARD
BEGIN:DAYLIGHT
TZOFFSETFROM:-0700
TZOFFSETTO:-0600
TZNAME:MDT
DTSTART:20270314T090000
END:DAYLIGHT
BEGIN:STANDARD
TZOFFSETFROM:-0600
TZOFFSETTO:-0700
TZNAME:MST
DTSTART:20271107T080000
END:STANDARD
END:VTIMEZONE
BEGIN:VEVENT
DTSTART;TZID=America/Denver:20260126T120000
DTEND;TZID=America/Denver:20260126T153000
DTSTAMP:20260420T040939
CREATED:20251204T193641Z
LAST-MODIFIED:20251204T193804Z
UID:10002092-1769428800-1769441400@centraldenver.com
SUMMARY:Metro CaringVolunteer Opportunity
DESCRIPTION:Volunteers are the centerpiece of our everyday work. \nYou make our community feel welcome\, keep our Fresh Foods Market stocked\, and ensure our food is high quality. High schoolers\, elders\, and everyone in between join together to help families put nutritious food on the table. Whether you’re a foodie\, you thrive on good organization\, or enjoy meeting new people\, we think you’ll love volunteering with us! \nContact molly@centraldenver.com to register plus complete volunteer waivers.
URL:https://centraldenver.com/event/metro-caring-volunteer-opportunity/
LOCATION:CO
CATEGORIES:Adult Ministries,Community Events,Service & Volunteer Opportunies
ATTACH;FMTTYPE=image/jpeg:https://centraldenver.com/wp-content/uploads/2024/05/MetroCaring-e1764876976832.jpg
END:VEVENT
BEGIN:VEVENT
DTSTART;TZID=America/Denver:20260129T120000
DTEND;TZID=America/Denver:20260129T153000
DTSTAMP:20260420T040939
CREATED:20251204T193952Z
LAST-MODIFIED:20251204T193952Z
UID:10002093-1769688000-1769700600@centraldenver.com
SUMMARY:Metro CaringVolunteer Opportunity
DESCRIPTION:Volunteers are the centerpiece of our everyday work. \nYou make our community feel welcome\, keep our Fresh Foods Market stocked\, and ensure our food is high quality. High schoolers\, elders\, and everyone in between join together to help families put nutritious food on the table. Whether you’re a foodie\, you thrive on good organization\, or enjoy meeting new people\, we think you’ll love volunteering with us! \nContact molly@centraldenver.com to register plus complete volunteer waivers.
URL:https://centraldenver.com/event/metro-caringvolunteer-opportunity/
LOCATION:CO
CATEGORIES:Adult Ministries,Community Events,Service & Volunteer Opportunies
ATTACH;FMTTYPE=image/jpeg:https://centraldenver.com/wp-content/uploads/2024/05/MetroCaring-e1764876976832.jpg
END:VEVENT
END:VCALENDAR