BEGIN:VCALENDAR
VERSION:2.0
PRODID:-//Central Presbyterian Church Denver - ECPv6.15.20//NONSGML v1.0//EN
CALSCALE:GREGORIAN
METHOD:PUBLISH
X-WR-CALNAME:Central Presbyterian Church Denver
X-ORIGINAL-URL:https://centraldenver.com
X-WR-CALDESC:Events for Central Presbyterian Church Denver
REFRESH-INTERVAL;VALUE=DURATION:PT1H
X-Robots-Tag:noindex
X-PUBLISHED-TTL:PT1H
BEGIN:VTIMEZONE
TZID:America/Denver
BEGIN:DAYLIGHT
TZOFFSETFROM:-0700
TZOFFSETTO:-0600
TZNAME:MDT
DTSTART:20250309T090000
END:DAYLIGHT
BEGIN:STANDARD
TZOFFSETFROM:-0600
TZOFFSETTO:-0700
TZNAME:MST
DTSTART:20251102T080000
END:STANDARD
BEGIN:DAYLIGHT
TZOFFSETFROM:-0700
TZOFFSETTO:-0600
TZNAME:MDT
DTSTART:20260308T090000
END:DAYLIGHT
BEGIN:STANDARD
TZOFFSETFROM:-0600
TZOFFSETTO:-0700
TZNAME:MST
DTSTART:20261101T080000
END:STANDARD
BEGIN:DAYLIGHT
TZOFFSETFROM:-0700
TZOFFSETTO:-0600
TZNAME:MDT
DTSTART:20270314T090000
END:DAYLIGHT
BEGIN:STANDARD
TZOFFSETFROM:-0600
TZOFFSETTO:-0700
TZNAME:MST
DTSTART:20271107T080000
END:STANDARD
END:VTIMEZONE
BEGIN:VEVENT
DTSTART;VALUE=DATE:20260301
DTEND;VALUE=DATE:20260302
DTSTAMP:20260421T034736
CREATED:20260219T221456Z
LAST-MODIFIED:20260219T222015Z
UID:10002410-1772323200-1772409599@centraldenver.com
SUMMARY:Guadalupe Food Drive
DESCRIPTION:
URL:https://centraldenver.com/event/guadalupe-food-drive/2026-03-01/
LOCATION:CO
CATEGORIES:Community Events,Service & Volunteer Opportunies
ATTACH;FMTTYPE=image/jpeg:https://centraldenver.com/wp-content/uploads/2026/02/Guadalupe-e1771539580349.jpg
END:VEVENT
BEGIN:VEVENT
DTSTART;TZID=America/Denver:20260301T090000
DTEND;TZID=America/Denver:20260301T100000
DTSTAMP:20260421T034736
CREATED:20260219T222319Z
LAST-MODIFIED:20260219T222748Z
UID:10002467-1772355600-1772359200@centraldenver.com
SUMMARY:Breakfast for EarthLinks
DESCRIPTION:EarthLinks is a social-enterprise nonprofit located in the Sun Valley neighborhood of Denver that creates Earth-centered programming for people experiencing homelessness and economic poverty. We will prepare breakfasts for 50 people on Sundays\, March 1\, 8\, and 22. Contact molly@centraldenver.com to participate.
URL:https://centraldenver.com/event/breakfast-for-earthlinks-4/
LOCATION:Central Presbyterian Church\, 1660 Sherman St\, Denver\, CO\, United States
CATEGORIES:Community Events,Service & Volunteer Opportunies
ATTACH;FMTTYPE=image/jpeg:https://centraldenver.com/wp-content/uploads/2025/10/earthlinks.jpg
END:VEVENT
BEGIN:VEVENT
DTSTART;VALUE=DATE:20260308
DTEND;VALUE=DATE:20260310
DTSTAMP:20260421T034736
CREATED:20260219T221456Z
LAST-MODIFIED:20260219T222015Z
UID:10002411-1772928000-1773017999@centraldenver.com
SUMMARY:Guadalupe Food Drive
DESCRIPTION:
URL:https://centraldenver.com/event/guadalupe-food-drive/2026-03-08/
LOCATION:CO
CATEGORIES:Community Events,Service & Volunteer Opportunies
ATTACH;FMTTYPE=image/jpeg:https://centraldenver.com/wp-content/uploads/2026/02/Guadalupe-e1771539580349.jpg
END:VEVENT
BEGIN:VEVENT
DTSTART;TZID=America/Denver:20260308T090000
DTEND;TZID=America/Denver:20260308T100000
DTSTAMP:20260421T034736
CREATED:20260219T222416Z
LAST-MODIFIED:20260219T222703Z
UID:10002468-1772960400-1772964000@centraldenver.com
SUMMARY:Breakfast for EarthLinks
DESCRIPTION:EarthLinks is a social-enterprise nonprofit located in the Sun Valley neighborhood of Denver that creates Earth-centered programming for people experiencing homelessness and economic poverty. We will prepare breakfasts for 50 people on Sundays\, March 1\, 8\, and 22. Contact molly@centraldenver.com to participate.
URL:https://centraldenver.com/event/breakfast-for-earthlinks-5/
LOCATION:Central Presbyterian Church\, 1660 Sherman St\, Denver\, CO\, United States
CATEGORIES:Community Events,Service & Volunteer Opportunies
ATTACH;FMTTYPE=image/jpeg:https://centraldenver.com/wp-content/uploads/2025/10/earthlinks.jpg
END:VEVENT
BEGIN:VEVENT
DTSTART;VALUE=DATE:20260315
DTEND;VALUE=DATE:20260316
DTSTAMP:20260421T034736
CREATED:20260219T221456Z
LAST-MODIFIED:20260219T222015Z
UID:10002412-1773532800-1773619199@centraldenver.com
SUMMARY:Guadalupe Food Drive
DESCRIPTION:
URL:https://centraldenver.com/event/guadalupe-food-drive/2026-03-15/
LOCATION:CO
CATEGORIES:Community Events,Service & Volunteer Opportunies
ATTACH;FMTTYPE=image/jpeg:https://centraldenver.com/wp-content/uploads/2026/02/Guadalupe-e1771539580349.jpg
END:VEVENT
BEGIN:VEVENT
DTSTART;TZID=America/Denver:20260321T083000
DTEND;TZID=America/Denver:20260321T153000
DTSTAMP:20260421T034736
CREATED:20260219T215444Z
LAST-MODIFIED:20260224T221857Z
UID:10002148-1774081800-1774107000@centraldenver.com
SUMMARY:Habitat for Humanity
DESCRIPTION:Join Carpenter’s Helpers at The Habitat for Humanity Production Shop to paint: \nSaturday\, March 21\, 8:30am – 3:30pm | 7 volunteer spots \nEach group member will need to register here: https://vhub.at/CarpentersHelpers\,\nby two weeks prior to the volunteer day (March 7).
URL:https://centraldenver.com/event/habitat-for-humanity/
LOCATION:CO
CATEGORIES:Community Events,Service & Volunteer Opportunies
ATTACH;FMTTYPE=image/jpeg:https://centraldenver.com/wp-content/uploads/2024/05/Carpenters-helpers.jpg
END:VEVENT
BEGIN:VEVENT
DTSTART;VALUE=DATE:20260322
DTEND;VALUE=DATE:20260323
DTSTAMP:20260421T034736
CREATED:20260219T221456Z
LAST-MODIFIED:20260219T222015Z
UID:10002413-1774137600-1774223999@centraldenver.com
SUMMARY:Guadalupe Food Drive
DESCRIPTION:
URL:https://centraldenver.com/event/guadalupe-food-drive/2026-03-22/
LOCATION:CO
CATEGORIES:Community Events,Service & Volunteer Opportunies
ATTACH;FMTTYPE=image/jpeg:https://centraldenver.com/wp-content/uploads/2026/02/Guadalupe-e1771539580349.jpg
END:VEVENT
BEGIN:VEVENT
DTSTART;TZID=America/Denver:20260322T090000
DTEND;TZID=America/Denver:20260322T100000
DTSTAMP:20260421T034736
CREATED:20260219T222502Z
LAST-MODIFIED:20260219T222502Z
UID:10002469-1774170000-1774173600@centraldenver.com
SUMMARY:Breakfast for EarthLinks
DESCRIPTION:EarthLinks is a social-enterprise nonprofit located in the Sun Valley neighborhood of Denver that creates Earth-centered programming for people experiencing homelessness and economic poverty. We will prepare breakfasts for 50 people on Sundays\, March 1\, 8\, and 22. Contact molly@centraldenver.com to participate.
URL:https://centraldenver.com/event/breakfast-for-earthlinks-6/
LOCATION:Central Presbyterian Church\, 1660 Sherman St\, Denver\, CO\, United States
CATEGORIES:Community Events,Service & Volunteer Opportunies
ATTACH;FMTTYPE=image/jpeg:https://centraldenver.com/wp-content/uploads/2025/10/earthlinks.jpg
END:VEVENT
BEGIN:VEVENT
DTSTART;TZID=America/Denver:20260328T083000
DTEND;TZID=America/Denver:20260328T153000
DTSTAMP:20260421T034736
CREATED:20260219T215845Z
LAST-MODIFIED:20260219T224656Z
UID:10002149-1774686600-1774711800@centraldenver.com
SUMMARY:Habitat for Humanity
DESCRIPTION:Join Carpenter’s Helpers at The Habitat for Humanity Production Shop to paint: \nSaturday\, March 28\, 8:30am – 3:30pm | 7 volunteer spots \nEach group member will need to register here: https://vhub.at/CarpentersHelpers\,\nby two weeks prior to the volunteer day (March 14).
URL:https://centraldenver.com/event/habitat-for-humanity-2/
LOCATION:CO
CATEGORIES:Community Events,Service & Volunteer Opportunies
ATTACH;FMTTYPE=image/jpeg:https://centraldenver.com/wp-content/uploads/2024/05/Carpenters-helpers.jpg
END:VEVENT
BEGIN:VEVENT
DTSTART;VALUE=DATE:20260329
DTEND;VALUE=DATE:20260330
DTSTAMP:20260421T034736
CREATED:20260219T221456Z
LAST-MODIFIED:20260219T222015Z
UID:10002414-1774742400-1774828799@centraldenver.com
SUMMARY:Guadalupe Food Drive
DESCRIPTION:
URL:https://centraldenver.com/event/guadalupe-food-drive/2026-03-29/
LOCATION:CO
CATEGORIES:Community Events,Service & Volunteer Opportunies
ATTACH;FMTTYPE=image/jpeg:https://centraldenver.com/wp-content/uploads/2026/02/Guadalupe-e1771539580349.jpg
END:VEVENT
END:VCALENDAR