BEGIN:VCALENDAR
VERSION:2.0
PRODID:-//Central Presbyterian Church Denver - ECPv6.15.20//NONSGML v1.0//EN
CALSCALE:GREGORIAN
METHOD:PUBLISH
X-WR-CALNAME:Central Presbyterian Church Denver
X-ORIGINAL-URL:https://centraldenver.com
X-WR-CALDESC:Events for Central Presbyterian Church Denver
REFRESH-INTERVAL;VALUE=DURATION:PT1H
X-Robots-Tag:noindex
X-PUBLISHED-TTL:PT1H
BEGIN:VTIMEZONE
TZID:America/Denver
BEGIN:DAYLIGHT
TZOFFSETFROM:-0700
TZOFFSETTO:-0600
TZNAME:MDT
DTSTART:20230312T090000
END:DAYLIGHT
BEGIN:STANDARD
TZOFFSETFROM:-0600
TZOFFSETTO:-0700
TZNAME:MST
DTSTART:20231105T080000
END:STANDARD
BEGIN:DAYLIGHT
TZOFFSETFROM:-0700
TZOFFSETTO:-0600
TZNAME:MDT
DTSTART:20240310T090000
END:DAYLIGHT
BEGIN:STANDARD
TZOFFSETFROM:-0600
TZOFFSETTO:-0700
TZNAME:MST
DTSTART:20241103T080000
END:STANDARD
BEGIN:DAYLIGHT
TZOFFSETFROM:-0700
TZOFFSETTO:-0600
TZNAME:MDT
DTSTART:20250309T090000
END:DAYLIGHT
BEGIN:STANDARD
TZOFFSETFROM:-0600
TZOFFSETTO:-0700
TZNAME:MST
DTSTART:20251102T080000
END:STANDARD
END:VTIMEZONE
BEGIN:VEVENT
DTSTART;TZID=America/Denver:20241215T090000
DTEND;TZID=America/Denver:20241215T120000
DTSTAMP:20260421T115625
CREATED:20241125T231229Z
LAST-MODIFIED:20241125T231326Z
UID:10001805-1734253200-1734264000@centraldenver.com
SUMMARY:Socks of Love for Heartbeat Denver Residents
DESCRIPTION:Join in Central’s annual tradition of stuffing 120 pairs of warm socks with helpful winter items like travel size deodorant\, shaving cream\, lotion\, shampoo\, toothbrush and paste; razors\, winter beanies\, dental floss\, mints\, and full bars of soap for our neighbors at Heartbeat Denver Working Men’s Program. We will collect these items on Sundays\, December 8th and 15th. Stay after Worship on December 15th to stuff the socks in assembly line style. Children will deliver these Socks of Love to Heartbeat Denver after the 4pm Christmas Eve service. \n 
URL:https://centraldenver.com/event/socks-of-love-for-heartbeat-denver-residents/
LOCATION:Central Presbyterian Church\, 1660 Sherman St\, Denver\, CO\, United States
CATEGORIES:Adult Ministries,Community Events,Family Ministries,Holiday & Special Services,Service & Volunteer Opportunies
ATTACH;FMTTYPE=image/jpeg:https://centraldenver.com/wp-content/uploads/2024/11/Socks-of-Love-e1732576398120.jpg
END:VEVENT
END:VCALENDAR