BEGIN:VCALENDAR
VERSION:2.0
PRODID:-//Central Presbyterian Church Denver - ECPv6.15.20//NONSGML v1.0//EN
CALSCALE:GREGORIAN
METHOD:PUBLISH
X-ORIGINAL-URL:https://centraldenver.com
X-WR-CALDESC:Events for Central Presbyterian Church Denver
REFRESH-INTERVAL;VALUE=DURATION:PT1H
X-Robots-Tag:noindex
X-PUBLISHED-TTL:PT1H
BEGIN:VTIMEZONE
TZID:America/Denver
BEGIN:DAYLIGHT
TZOFFSETFROM:-0700
TZOFFSETTO:-0600
TZNAME:MDT
DTSTART:20250309T090000
END:DAYLIGHT
BEGIN:STANDARD
TZOFFSETFROM:-0600
TZOFFSETTO:-0700
TZNAME:MST
DTSTART:20251102T080000
END:STANDARD
BEGIN:DAYLIGHT
TZOFFSETFROM:-0700
TZOFFSETTO:-0600
TZNAME:MDT
DTSTART:20260308T090000
END:DAYLIGHT
BEGIN:STANDARD
TZOFFSETFROM:-0600
TZOFFSETTO:-0700
TZNAME:MST
DTSTART:20261101T080000
END:STANDARD
BEGIN:DAYLIGHT
TZOFFSETFROM:-0700
TZOFFSETTO:-0600
TZNAME:MDT
DTSTART:20270314T090000
END:DAYLIGHT
BEGIN:STANDARD
TZOFFSETFROM:-0600
TZOFFSETTO:-0700
TZNAME:MST
DTSTART:20271107T080000
END:STANDARD
END:VTIMEZONE
BEGIN:VEVENT
DTSTART;VALUE=DATE:20260613
DTEND;VALUE=DATE:20260618
DTSTAMP:20260421T181435
CREATED:20260219T223119Z
LAST-MODIFIED:20260219T223119Z
UID:10002470-1781308800-1781740799@centraldenver.com
SUMMARY:La Puente Trip
DESCRIPTION:June 13-17\, 2026 \nEach summer Central Presbyterian travels to the San Luis Valley to partner with La Puente\, a 501(c)(3) non-profit organization providing a safety net of services where individuals and families get what they need to stabilize\, heal\, and ultimately thrive. With the objective of meeting the needs of the homeless and community members in crisis\, La Puente’s services both restore and strengthen people’s lives\, so that they can live independently\, with dignity.
URL:https://centraldenver.com/event/la-puente-trip/
CATEGORIES:Community Events,Service & Volunteer Opportunies
ATTACH;FMTTYPE=image/png:https://centraldenver.com/wp-content/uploads/2026/02/la-puente1.png
END:VEVENT
END:VCALENDAR