BEGIN:VCALENDAR
VERSION:2.0
PRODID:-//Central Presbyterian Church Denver - ECPv6.15.20//NONSGML v1.0//EN
CALSCALE:GREGORIAN
METHOD:PUBLISH
X-WR-CALNAME:Central Presbyterian Church Denver
X-ORIGINAL-URL:https://centraldenver.com
X-WR-CALDESC:Events for Central Presbyterian Church Denver
REFRESH-INTERVAL;VALUE=DURATION:PT1H
X-Robots-Tag:noindex
X-PUBLISHED-TTL:PT1H
BEGIN:VTIMEZONE
TZID:America/Denver
BEGIN:DAYLIGHT
TZOFFSETFROM:-0700
TZOFFSETTO:-0600
TZNAME:MDT
DTSTART:20240310T090000
END:DAYLIGHT
BEGIN:STANDARD
TZOFFSETFROM:-0600
TZOFFSETTO:-0700
TZNAME:MST
DTSTART:20241103T080000
END:STANDARD
BEGIN:DAYLIGHT
TZOFFSETFROM:-0700
TZOFFSETTO:-0600
TZNAME:MDT
DTSTART:20250309T090000
END:DAYLIGHT
BEGIN:STANDARD
TZOFFSETFROM:-0600
TZOFFSETTO:-0700
TZNAME:MST
DTSTART:20251102T080000
END:STANDARD
BEGIN:DAYLIGHT
TZOFFSETFROM:-0700
TZOFFSETTO:-0600
TZNAME:MDT
DTSTART:20260308T090000
END:DAYLIGHT
BEGIN:STANDARD
TZOFFSETFROM:-0600
TZOFFSETTO:-0700
TZNAME:MST
DTSTART:20261101T080000
END:STANDARD
END:VTIMEZONE
BEGIN:VEVENT
DTSTART;TZID=America/Denver:20251213T190000
DTEND;TZID=America/Denver:20251213T210000
DTSTAMP:20260420T054647
CREATED:20251204T192231Z
LAST-MODIFIED:20251204T192354Z
UID:10002090-1765652400-1765659600@centraldenver.com
SUMMARY:Colorado Bach Ensemble Handel's Messiah
DESCRIPTION:
URL:https://centraldenver.com/event/colorado-bach-ensemble-handels-messiah/
LOCATION:Central Presbyterian Church\, 1660 Sherman St\, Denver\, CO\, United States
CATEGORIES:Community Events,Concerts,Holiday & Special Services
ATTACH;FMTTYPE=image/jpeg:https://centraldenver.com/wp-content/uploads/2025/12/Messiah_UpdatedPoster-e1764876198875.jpg
END:VEVENT
BEGIN:VEVENT
DTSTART;TZID=America/Denver:20251213T100000
DTEND;TZID=America/Denver:20251213T120000
DTSTAMP:20260420T054647
CREATED:20251204T195017Z
LAST-MODIFIED:20251204T195549Z
UID:10002094-1765620000-1765627200@centraldenver.com
SUMMARY:Guns to Gardens Event
DESCRIPTION:
URL:https://centraldenver.com/event/guns-to-gardens-turn-your-gun-into-a-garden-tool/
LOCATION:CO
CATEGORIES:Community Events,Service & Volunteer Opportunies
ATTACH;FMTTYPE=image/jpeg:https://centraldenver.com/wp-content/uploads/2025/12/guns-to-gardens-dec-e1764878082520.jpg
END:VEVENT
BEGIN:VEVENT
DTSTART;TZID=America/Denver:20251212T193000
DTEND;TZID=America/Denver:20251212T213000
DTSTAMP:20260420T054647
CREATED:20251204T191451Z
LAST-MODIFIED:20251204T191510Z
UID:10002089-1765567800-1765575000@centraldenver.com
SUMMARY:Denver Philharmonic Orchestra\, Holiday Cheer!
DESCRIPTION:A Merry Musical Celebration\nIt’s the most wonderful time of the year! From classic carols to heartwarming orchestral favorites\, Holiday Cheer brings festive magic to life for all ages. Whether you’re lighting the menorah\, trimming the tree\, or even airing grievances by an aluminum pole\, this concert is your soundtrack to the season. \nBring your loved ones\, share the wonder\, and make memories that shine brighter than tinsel! \nSamuel Coleridge-Taylor\nChristmas Overture \nOttorino Respighi\nAdoration of the Magi (from Trittico Botticelliano) \nVaughan Williams\nFantasia on Greensleeves \nSergei Prokofiev\nTroika (from Lt. Kije Suite) \narr. Scott O’Neil\nLive Narrated “‘Twas the Night Before Christmas” \n…and MORE of your holiday favorites! \n 
URL:https://centraldenver.com/event/denver-philharmonic-orchestra-holiday-cheer-5/
LOCATION:Central Presbyterian Church\, 1660 Sherman St\, Denver\, CO\, United States
CATEGORIES:Community Events,Concerts,Holiday & Special Services
ATTACH;FMTTYPE=image/jpeg:https://centraldenver.com/wp-content/uploads/2025/12/Dpo-holiday-cheer.jpg
END:VEVENT
BEGIN:VEVENT
DTSTART;TZID=America/Denver:20251211T190000
DTEND;TZID=America/Denver:20251211T200000
DTSTAMP:20260420T054647
CREATED:20230925T181621Z
LAST-MODIFIED:20250204T173945Z
UID:10001395-1765479600-1765483200@centraldenver.com
SUMMARY:Theology on Tap
DESCRIPTION:Theology on Tap\nThursdays\, 7:00PM\nWe get together online and in person at local breweries to discuss questions of faith. Please contact Josh Trimble (trimjosh@gmail.com) to be added to the email list for current topics and location information.
URL:https://centraldenver.com/event/theology-on-tap-event-series/2025-12-11/
LOCATION:Various\, CO\, United States
ATTACH;FMTTYPE=image/jpeg:https://centraldenver.com/wp-content/uploads/2023/09/pexels-pavel-danilyuk-5858064.jpg
END:VEVENT
BEGIN:VEVENT
DTSTART;TZID=America/Denver:20251211T100000
DTEND;TZID=America/Denver:20251211T111500
DTSTAMP:20260420T054647
CREATED:20250814T175251Z
LAST-MODIFIED:20250814T175251Z
UID:10002046-1765447200-1765451700@centraldenver.com
SUMMARY:Women's Bible Study
DESCRIPTION:
URL:https://centraldenver.com/event/womens-bible-study-3/2025-12-11/
LOCATION:CO
CATEGORIES:Adult Ministries,Community Events
END:VEVENT
BEGIN:VEVENT
DTSTART;TZID=America/Denver:20251210T190000
DTEND;TZID=America/Denver:20251210T203000
DTSTAMP:20260420T054647
CREATED:20250814T163301Z
LAST-MODIFIED:20250828T155741Z
UID:10002020-1765393200-1765398600@centraldenver.com
SUMMARY:Chancel Choir Practice
DESCRIPTION:
URL:https://centraldenver.com/event/chancel-choir-practice-13/2025-12-10/
LOCATION:Central Presbyterian Church\, 1660 Sherman St\, Denver\, CO\, United States
CATEGORIES:Adult Ministries,Holiday & Special Services,Music & Choirs,Worship
ATTACH;FMTTYPE=image/jpeg:https://centraldenver.com/wp-content/uploads/2024/08/This-Is-The-Day-.-Glenn-Ross-15.jpg
END:VEVENT
BEGIN:VEVENT
DTSTART;TZID=America/Denver:20251209T190000
DTEND;TZID=America/Denver:20251209T210000
DTSTAMP:20260420T054647
CREATED:20251204T190101Z
LAST-MODIFIED:20251204T191038Z
UID:10002088-1765306800-1765314000@centraldenver.com
SUMMARY:East High Winter Concert Comfort and Joy
DESCRIPTION:
URL:https://centraldenver.com/event/east-high-winter-concert-winter-comfort-and-joy/
LOCATION:CO
CATEGORIES:Children & Youth Events,Community Events,Concerts,Holiday & Special Services
ATTACH;FMTTYPE=image/jpeg:https://centraldenver.com/wp-content/uploads/2025/12/Choir-Winter-Concert-e1764875335812.jpg
END:VEVENT
BEGIN:VEVENT
DTSTART;TZID=America/Denver:20251207T150000
DTEND;TZID=America/Denver:20251207T173000
DTSTAMP:20260420T054647
CREATED:20251016T183407Z
LAST-MODIFIED:20251016T183525Z
UID:10002068-1765119600-1765128600@centraldenver.com
SUMMARY:Denver Gay Men's ChorusMy Favorite Queens
DESCRIPTION:The Denver Gay Men’s Chorus has been an LGBTQ catalyst for change through musical excellence since its founding in 1982. With more than 300 concerts\, this 140-member ensemble is one of the premier gay performing arts organizations in the Rocky Mountain Region. Through its diverse and socially charged programming\, DGMC’s reimagined choir concerts entertain\, educate\, inspire\, and empower audiences to foster acceptance and tolerance throughout the greater Denver area and along Colorado’s Front Range communities. \nDGMC has performed in Denver and around the U.S. in acclaimed concert halls\, including Boettcher Concert Hall\, the Ellie Caulkins Opera House\, Gates Hall\, the Paramount Theatre\, the Red Rocks Amphitheater\, and Carnegie Hall. Additionally\, the chorus has delivered groundbreaking performances at Coors Field\, in the U.S. Air Force Academy Chapel\, and on the steps of the Colorado State Capitol as part of inaugural festivities for Governor Jared Polis. DGMC has traveled to 12 states\, the District of Columbia\, and Canada and has made joint appearances with several gay men’s choruses in major U.S. cities
URL:https://centraldenver.com/event/denver-gay-mens-chorusmy-favorite-queens-3/
LOCATION:Central Presbyterian Church\, 1660 Sherman St\, Denver\, CO\, United States
CATEGORIES:Concerts
ATTACH;FMTTYPE=image/png:https://centraldenver.com/wp-content/uploads/2025/10/DGMC-Dec-2025.png
END:VEVENT
BEGIN:VEVENT
DTSTART;TZID=America/Denver:20251207T103000
DTEND;TZID=America/Denver:20251207T113000
DTSTAMP:20260420T054647
CREATED:20251201T205337Z
LAST-MODIFIED:20251201T205337Z
UID:10002083-1765103400-1765107000@centraldenver.com
SUMMARY:Worship at Central Presbyterian Church
DESCRIPTION:Text:  Malachi 3:1-5; Matthew 3:1-12 \nThe Peace that Begins Within–Dorothy Piatt-Esguerra \nSarah Biber\, cello; The Chancel Choir; Mallory Bernstein\, piano
URL:https://centraldenver.com/event/worship-at-central-presbyterian-church-127/
LOCATION:Central Presbyterian Church\, 1660 Sherman St\, Denver\, CO\, United States
CATEGORIES:Adult Ministries,Community Events,Worship
ATTACH;FMTTYPE=image/jpeg:https://centraldenver.com/wp-content/uploads/2023/08/cenpres.jpeg
END:VEVENT
BEGIN:VEVENT
DTSTART;TZID=America/Denver:20251206T193000
DTEND;TZID=America/Denver:20251206T220000
DTSTAMP:20260420T054647
CREATED:20251016T183317Z
LAST-MODIFIED:20251016T183317Z
UID:10002067-1765049400-1765058400@centraldenver.com
SUMMARY:Denver Gay Men's ChorusMy Favorite Queens
DESCRIPTION:The Denver Gay Men’s Chorus has been an LGBTQ catalyst for change through musical excellence since its founding in 1982. With more than 300 concerts\, this 140-member ensemble is one of the premier gay performing arts organizations in the Rocky Mountain Region. Through its diverse and socially charged programming\, DGMC’s reimagined choir concerts entertain\, educate\, inspire\, and empower audiences to foster acceptance and tolerance throughout the greater Denver area and along Colorado’s Front Range communities. \nDGMC has performed in Denver and around the U.S. in acclaimed concert halls\, including Boettcher Concert Hall\, the Ellie Caulkins Opera House\, Gates Hall\, the Paramount Theatre\, the Red Rocks Amphitheater\, and Carnegie Hall. Additionally\, the chorus has delivered groundbreaking performances at Coors Field\, in the U.S. Air Force Academy Chapel\, and on the steps of the Colorado State Capitol as part of inaugural festivities for Governor Jared Polis. DGMC has traveled to 12 states\, the District of Columbia\, and Canada and has made joint appearances with several gay men’s choruses in major U.S. cities
URL:https://centraldenver.com/event/denver-gay-mens-chorusmy-favorite-queens-2/
LOCATION:Central Presbyterian Church\, 1660 Sherman St\, Denver\, CO\, United States
CATEGORIES:Concerts
ATTACH;FMTTYPE=image/png:https://centraldenver.com/wp-content/uploads/2025/10/DGMC-Dec-2025.png
END:VEVENT
BEGIN:VEVENT
DTSTART;TZID=America/Denver:20251206T140000
DTEND;TZID=America/Denver:20251206T163000
DTSTAMP:20260420T054647
CREATED:20251016T183227Z
LAST-MODIFIED:20251016T183227Z
UID:10002066-1765029600-1765038600@centraldenver.com
SUMMARY:Denver Gay Men's ChorusMy Favorite Queens
DESCRIPTION:The Denver Gay Men’s Chorus has been an LGBTQ catalyst for change through musical excellence since its founding in 1982. With more than 300 concerts\, this 140-member ensemble is one of the premier gay performing arts organizations in the Rocky Mountain Region. Through its diverse and socially charged programming\, DGMC’s reimagined choir concerts entertain\, educate\, inspire\, and empower audiences to foster acceptance and tolerance throughout the greater Denver area and along Colorado’s Front Range communities. \nDGMC has performed in Denver and around the U.S. in acclaimed concert halls\, including Boettcher Concert Hall\, the Ellie Caulkins Opera House\, Gates Hall\, the Paramount Theatre\, the Red Rocks Amphitheater\, and Carnegie Hall. Additionally\, the chorus has delivered groundbreaking performances at Coors Field\, in the U.S. Air Force Academy Chapel\, and on the steps of the Colorado State Capitol as part of inaugural festivities for Governor Jared Polis. DGMC has traveled to 12 states\, the District of Columbia\, and Canada and has made joint appearances with several gay men’s choruses in major U.S. cities
URL:https://centraldenver.com/event/denver-gay-mens-chorusmy-favorite-queens/
LOCATION:Central Presbyterian Church\, 1660 Sherman St\, Denver\, CO\, United States
CATEGORIES:Concerts
ATTACH;FMTTYPE=image/png:https://centraldenver.com/wp-content/uploads/2025/10/DGMC-Dec-2025.png
END:VEVENT
BEGIN:VEVENT
DTSTART;TZID=America/Denver:20251205T193000
DTEND;TZID=America/Denver:20251205T220000
DTSTAMP:20260420T054647
CREATED:20251016T183041Z
LAST-MODIFIED:20251016T183121Z
UID:10002065-1764963000-1764972000@centraldenver.com
SUMMARY:Denver Gay Men's ChorusMy Favorite Queens
DESCRIPTION:The Denver Gay Men’s Chorus has been an LGBTQ catalyst for change through musical excellence since its founding in 1982. With more than 300 concerts\, this 140-member ensemble is one of the premier gay performing arts organizations in the Rocky Mountain Region. Through its diverse and socially charged programming\, DGMC’s reimagined choir concerts entertain\, educate\, inspire\, and empower audiences to foster acceptance and tolerance throughout the greater Denver area and along Colorado’s Front Range communities. \nDGMC has performed in Denver and around the U.S. in acclaimed concert halls\, including Boettcher Concert Hall\, the Ellie Caulkins Opera House\, Gates Hall\, the Paramount Theatre\, the Red Rocks Amphitheater\, and Carnegie Hall. Additionally\, the chorus has delivered groundbreaking performances at Coors Field\, in the U.S. Air Force Academy Chapel\, and on the steps of the Colorado State Capitol as part of inaugural festivities for Governor Jared Polis. DGMC has traveled to 12 states\, the District of Columbia\, and Canada and has made joint appearances with several gay men’s choruses in major U.S. cities
URL:https://centraldenver.com/event/denver-gay-mens-chorus-present-my-favorite-queens/
LOCATION:Central Presbyterian Church\, 1660 Sherman St\, Denver\, CO\, United States
CATEGORIES:Concerts
ATTACH;FMTTYPE=image/png:https://centraldenver.com/wp-content/uploads/2025/10/DGMC-Dec-2025.png
END:VEVENT
BEGIN:VEVENT
DTSTART;TZID=America/Denver:20251204T190000
DTEND;TZID=America/Denver:20251204T200000
DTSTAMP:20260420T054647
CREATED:20230925T181621Z
LAST-MODIFIED:20250204T173945Z
UID:10001394-1764874800-1764878400@centraldenver.com
SUMMARY:Theology on Tap
DESCRIPTION:Theology on Tap\nThursdays\, 7:00PM\nWe get together online and in person at local breweries to discuss questions of faith. Please contact Josh Trimble (trimjosh@gmail.com) to be added to the email list for current topics and location information.
URL:https://centraldenver.com/event/theology-on-tap-event-series/2025-12-04/
LOCATION:Various\, CO\, United States
ATTACH;FMTTYPE=image/jpeg:https://centraldenver.com/wp-content/uploads/2023/09/pexels-pavel-danilyuk-5858064.jpg
END:VEVENT
BEGIN:VEVENT
DTSTART;TZID=America/Denver:20251203T190000
DTEND;TZID=America/Denver:20251203T203000
DTSTAMP:20260420T054647
CREATED:20250814T163301Z
LAST-MODIFIED:20250828T155741Z
UID:10002019-1764788400-1764793800@centraldenver.com
SUMMARY:Chancel Choir Practice
DESCRIPTION:
URL:https://centraldenver.com/event/chancel-choir-practice-13/2025-12-03/
LOCATION:Central Presbyterian Church\, 1660 Sherman St\, Denver\, CO\, United States
CATEGORIES:Adult Ministries,Holiday & Special Services,Music & Choirs,Worship
ATTACH;FMTTYPE=image/jpeg:https://centraldenver.com/wp-content/uploads/2024/08/This-Is-The-Day-.-Glenn-Ross-15.jpg
END:VEVENT
BEGIN:VEVENT
DTSTART;TZID=America/Denver:20251130T150000
DTEND;TZID=America/Denver:20251130T170000
DTSTAMP:20260420T054647
CREATED:20250812T201749Z
LAST-MODIFIED:20251111T204334Z
UID:10002005-1764514800-1764522000@centraldenver.com
SUMMARY:The Pikes Peak Ringers
DESCRIPTION:Since 1991\, the Pikes Peak Ringers have continually expanded the boundaries of traditional handbell music\, bringing their extensive repertoire\, innovative techniques and distinctive visual approach to numerous projects and venues around the country.  Recognized worldwide as one of the premier handbell ensembles in North America\, the Pikes Peak Ringers released their sixth studio CD\, Classics\, in the spring of 2011 that includes “Dona Nobis Pacem\,” PPR’s track with world-renowned cellist Yo-Yo Ma that was released in December 2009 as part of Mr. Ma’s Grammy award-winning CD\, “Songs of Joy and Peace.”  With an annual performance schedule that includes several local and out-of-state concerts\, they have also been featured at national handbell events and on several promotional recordings\, in addition to their own studio CDs\, instructional DVD\, and a live concert DVD of the world’s first-ever classical concerto for handbells and orchestra.  Today\, as a non-profit organization\, the Pikes Peak Ringers continue to provide an outlet for advanced ringers in the greater Colorado Springs community\, to teach others about handbells through workshops and other venues\, and to create vivid performances that showcase the instrument of English handbells with the highest-quality presentation and musicianship.
URL:https://centraldenver.com/event/the-pikes-peak-ringers/
LOCATION:Central Presbyterian Church\, 1660 Sherman St\, Denver\, CO\, United States
CATEGORIES:Community Events,Concerts
ATTACH;FMTTYPE=image/jpeg:https://centraldenver.com/wp-content/uploads/2025/08/cropped-Pikes-Peak-Bells-1.jpg
END:VEVENT
BEGIN:VEVENT
DTSTART;TZID=America/Denver:20251130T103000
DTEND;TZID=America/Denver:20251130T113000
DTSTAMP:20260420T054647
CREATED:20251117T212429Z
LAST-MODIFIED:20251117T212429Z
UID:10002081-1764498600-1764502200@centraldenver.com
SUMMARY:Worship at Central Presbyterian Church
DESCRIPTION:Text: Isaiah 2:1–5; Mark 13:24–37 \nThe Hope That Keeps Us Awake–Dorothy Piatt-Esguerra \nBill Davis\, cello; Mallory Bernstein\, piano
URL:https://centraldenver.com/event/worship-at-central-presbyterian-church-126/
LOCATION:Central Presbyterian Church\, 1660 Sherman St\, Denver\, CO\, United States
CATEGORIES:Adult Ministries,Community Events,Worship
ATTACH;FMTTYPE=image/jpeg:https://centraldenver.com/wp-content/uploads/2023/08/cenpres.jpeg
END:VEVENT
BEGIN:VEVENT
DTSTART;VALUE=DATE:20251130
DTEND;VALUE=DATE:20251201
DTSTAMP:20260420T054647
CREATED:20251016T192953Z
LAST-MODIFIED:20251016T192953Z
UID:10002077-1764460800-1764547199@centraldenver.com
SUMMARY:Breakfast for EarthLinks 
DESCRIPTION:Central Presbyterian will provide breakfast to EarthLinks\nhttps://www.earthlinks-colorado.org/ on Sunday\, November 30. \nContact molly@centraldenver.com to participate.
URL:https://centraldenver.com/event/breakfast-for-earthlinks-2/
LOCATION:CO
CATEGORIES:Community Events,Service & Volunteer Opportunies
ATTACH;FMTTYPE=image/jpeg:https://centraldenver.com/wp-content/uploads/2025/10/earthlinks.jpg
END:VEVENT
BEGIN:VEVENT
DTSTART;TZID=America/Denver:20251127T190000
DTEND;TZID=America/Denver:20251127T200000
DTSTAMP:20260420T054647
CREATED:20230925T181621Z
LAST-MODIFIED:20250204T173945Z
UID:10001393-1764270000-1764273600@centraldenver.com
SUMMARY:Theology on Tap
DESCRIPTION:Theology on Tap\nThursdays\, 7:00PM\nWe get together online and in person at local breweries to discuss questions of faith. Please contact Josh Trimble (trimjosh@gmail.com) to be added to the email list for current topics and location information.
URL:https://centraldenver.com/event/theology-on-tap-event-series/2025-11-27/
LOCATION:Various\, CO\, United States
ATTACH;FMTTYPE=image/jpeg:https://centraldenver.com/wp-content/uploads/2023/09/pexels-pavel-danilyuk-5858064.jpg
END:VEVENT
BEGIN:VEVENT
DTSTART;TZID=America/Denver:20251126T190000
DTEND;TZID=America/Denver:20251126T203000
DTSTAMP:20260420T054647
CREATED:20250814T163301Z
LAST-MODIFIED:20250828T155741Z
UID:10002144-1764183600-1764189000@centraldenver.com
SUMMARY:Chancel Choir Practice
DESCRIPTION:
URL:https://centraldenver.com/event/chancel-choir-practice-13/2025-11-26/
LOCATION:Central Presbyterian Church\, 1660 Sherman St\, Denver\, CO\, United States
CATEGORIES:Adult Ministries,Holiday & Special Services,Music & Choirs,Worship
ATTACH;FMTTYPE=image/jpeg:https://centraldenver.com/wp-content/uploads/2024/08/This-Is-The-Day-.-Glenn-Ross-15.jpg
END:VEVENT
BEGIN:VEVENT
DTSTART;TZID=America/Denver:20251123T103000
DTEND;TZID=America/Denver:20251123T113000
DTSTAMP:20260420T054647
CREATED:20251111T183955Z
LAST-MODIFIED:20251117T211948Z
UID:10002079-1763893800-1763897400@centraldenver.com
SUMMARY:Worship at Central Presbyterian Church
DESCRIPTION:Text: Jeremiah 23:1-6; Luke 23:33-43 \n No Kings but a King on a Cross– Rev. Evan Amo \nSpecial Music:  Central’s Bell Choir; Brian Hickman\, piano
URL:https://centraldenver.com/event/worship-at-central-presbyterian-church-125/
LOCATION:Central Presbyterian Church\, 1660 Sherman St\, Denver\, CO\, United States
CATEGORIES:Adult Ministries,Community Events,Worship
ATTACH;FMTTYPE=image/jpeg:https://centraldenver.com/wp-content/uploads/2023/08/cenpres.jpeg
END:VEVENT
BEGIN:VEVENT
DTSTART;VALUE=DATE:20251123
DTEND;VALUE=DATE:20251124
DTSTAMP:20260420T054647
CREATED:20251016T192409Z
LAST-MODIFIED:20251016T192858Z
UID:10002076-1763884800-1763917200@centraldenver.com
SUMMARY:Breakfast for EarthLinks 
DESCRIPTION:Central Presbyterian will provide breakfast to EarthLinks\nhttps://www.earthlinks-colorado.org/ on Sunday\, November 23. \nContact molly@centraldenver.com to participate.
URL:https://centraldenver.com/event/breakfast-for-earthlinks/
LOCATION:CO
CATEGORIES:Community Events,Service & Volunteer Opportunies
ATTACH;FMTTYPE=image/jpeg:https://centraldenver.com/wp-content/uploads/2025/10/earthlinks.jpg
END:VEVENT
BEGIN:VEVENT
DTSTART;TZID=America/Denver:20251120T190000
DTEND;TZID=America/Denver:20251120T200000
DTSTAMP:20260420T054647
CREATED:20230925T181621Z
LAST-MODIFIED:20250204T173945Z
UID:10001392-1763665200-1763668800@centraldenver.com
SUMMARY:Theology on Tap
DESCRIPTION:Theology on Tap\nThursdays\, 7:00PM\nWe get together online and in person at local breweries to discuss questions of faith. Please contact Josh Trimble (trimjosh@gmail.com) to be added to the email list for current topics and location information.
URL:https://centraldenver.com/event/theology-on-tap-event-series/2025-11-20/
LOCATION:Various\, CO\, United States
ATTACH;FMTTYPE=image/jpeg:https://centraldenver.com/wp-content/uploads/2023/09/pexels-pavel-danilyuk-5858064.jpg
END:VEVENT
BEGIN:VEVENT
DTSTART;TZID=America/Denver:20251119T190000
DTEND;TZID=America/Denver:20251119T203000
DTSTAMP:20260420T054647
CREATED:20250814T163301Z
LAST-MODIFIED:20250828T155741Z
UID:10002017-1763578800-1763584200@centraldenver.com
SUMMARY:Chancel Choir Practice
DESCRIPTION:
URL:https://centraldenver.com/event/chancel-choir-practice-13/2025-11-19/
LOCATION:Central Presbyterian Church\, 1660 Sherman St\, Denver\, CO\, United States
CATEGORIES:Adult Ministries,Holiday & Special Services,Music & Choirs,Worship
ATTACH;FMTTYPE=image/jpeg:https://centraldenver.com/wp-content/uploads/2024/08/This-Is-The-Day-.-Glenn-Ross-15.jpg
END:VEVENT
BEGIN:VEVENT
DTSTART;TZID=America/Denver:20251116T103000
DTEND;TZID=America/Denver:20251116T113000
DTSTAMP:20260420T054647
CREATED:20251016T191107Z
LAST-MODIFIED:20251112T191706Z
UID:10002073-1763289000-1763292600@centraldenver.com
SUMMARY:Worship at Central Presbyterian Church
DESCRIPTION:Text:  Isaiah 65:17–25; Romans 12:1-8 \nBelonging to God\, Together—Dorothy Piatt-Esguerra \nSpecial Music:  The Chancel Choir; Mallory Bernstein\, piano
URL:https://centraldenver.com/event/worship-at-central-presbyterian-church-124/
LOCATION:Central Presbyterian Church\, 1660 Sherman St\, Denver\, CO\, United States
CATEGORIES:Adult Ministries,Community Events,Worship
ATTACH;FMTTYPE=image/jpeg:https://centraldenver.com/wp-content/uploads/2023/08/cenpres.jpeg
END:VEVENT
BEGIN:VEVENT
DTSTART;TZID=America/Denver:20251115T190000
DTEND;TZID=America/Denver:20251115T220000
DTSTAMP:20260420T054647
CREATED:20251111T184935Z
LAST-MODIFIED:20251111T185119Z
UID:10002080-1763233200-1763244000@centraldenver.com
SUMMARY:Suzanne Ciani with Clarice Jensen
DESCRIPTION:As fearlessly innovative as she is deeply romantic\, Suzanne Ciani has been at the creative forefront of electronic music and technology for over 50 years. \nShe’s a five-time Grammy-nominated composer with over 20 solo albums\, including The Velocity of Love\, Flowers of Evil\, and her landmark LIVE Quadraphonic\, which restarted her Buchla modular performances. In the 1980s\, her commercial production company\, Ciani-Musica\, Inc.\, was the leader in the field of sound design and TV spot scoring. She provided the voice and sounds for Bally’s groundbreaking “Xenon” pinball machine\, created Coca-Cola’s pop-and-pour sound\, and carved out a niche as one of the most creatively successful female composers in the world. A Life in Waves\, a documentary about Ciani’s life and work\, debuted at SXSW in 2017. \nCiani is a graduate of Wellesley College and holds a Masters in Music Composition from the University of California\, Berkeley.
URL:https://centraldenver.com/event/suzanne-ciani-with-clarice-jensen/
LOCATION:Central Presbyterian Church\, 1660 Sherman St\, Denver\, CO\, United States
ATTACH;FMTTYPE=image/jpeg:https://centraldenver.com/wp-content/uploads/2025/11/Suzanne-Ciani-Reflections-portrait-e1762887068295.jpg
END:VEVENT
BEGIN:VEVENT
DTSTART;TZID=America/Denver:20251113T190000
DTEND;TZID=America/Denver:20251113T200000
DTSTAMP:20260420T054647
CREATED:20230925T181621Z
LAST-MODIFIED:20250204T173945Z
UID:10001391-1763060400-1763064000@centraldenver.com
SUMMARY:Theology on Tap
DESCRIPTION:Theology on Tap\nThursdays\, 7:00PM\nWe get together online and in person at local breweries to discuss questions of faith. Please contact Josh Trimble (trimjosh@gmail.com) to be added to the email list for current topics and location information.
URL:https://centraldenver.com/event/theology-on-tap-event-series/2025-11-13/
LOCATION:Various\, CO\, United States
ATTACH;FMTTYPE=image/jpeg:https://centraldenver.com/wp-content/uploads/2023/09/pexels-pavel-danilyuk-5858064.jpg
END:VEVENT
BEGIN:VEVENT
DTSTART;TZID=America/Denver:20251113T100000
DTEND;TZID=America/Denver:20251113T111500
DTSTAMP:20260420T054647
CREATED:20250814T175251Z
LAST-MODIFIED:20250814T175251Z
UID:10002045-1763028000-1763032500@centraldenver.com
SUMMARY:Women's Bible Study
DESCRIPTION:
URL:https://centraldenver.com/event/womens-bible-study-3/2025-11-13/
LOCATION:CO
CATEGORIES:Adult Ministries,Community Events
END:VEVENT
BEGIN:VEVENT
DTSTART;TZID=America/Denver:20251112T190000
DTEND;TZID=America/Denver:20251112T203000
DTSTAMP:20260420T054647
CREATED:20250814T163301Z
LAST-MODIFIED:20250828T155741Z
UID:10002016-1762974000-1762979400@centraldenver.com
SUMMARY:Chancel Choir Practice
DESCRIPTION:
URL:https://centraldenver.com/event/chancel-choir-practice-13/2025-11-12/
LOCATION:Central Presbyterian Church\, 1660 Sherman St\, Denver\, CO\, United States
CATEGORIES:Adult Ministries,Holiday & Special Services,Music & Choirs,Worship
ATTACH;FMTTYPE=image/jpeg:https://centraldenver.com/wp-content/uploads/2024/08/This-Is-The-Day-.-Glenn-Ross-15.jpg
END:VEVENT
BEGIN:VEVENT
DTSTART;TZID=America/Denver:20251109T103000
DTEND;TZID=America/Denver:20251109T113000
DTSTAMP:20260420T054647
CREATED:20251016T191020Z
LAST-MODIFIED:20251106T175503Z
UID:10002072-1762684200-1762687800@centraldenver.com
SUMMARY:Worship at Central Presbyterian Church
DESCRIPTION:Mission Sunday \nNebert Kamoto\, soloist; Mallory Bernstein\, piano
URL:https://centraldenver.com/event/worship-at-central-presbyterian-church-123/
LOCATION:Central Presbyterian Church\, 1660 Sherman St\, Denver\, CO\, United States
CATEGORIES:Adult Ministries,Community Events,Worship
ATTACH;FMTTYPE=image/jpeg:https://centraldenver.com/wp-content/uploads/2023/08/cenpres.jpeg
END:VEVENT
BEGIN:VEVENT
DTSTART;TZID=America/Denver:20251108T074500
DTEND;TZID=America/Denver:20251108T163000
DTSTAMP:20260420T054647
CREATED:20251016T191553Z
LAST-MODIFIED:20251016T192048Z
UID:10002074-1762587900-1762619400@centraldenver.com
SUMMARY:Habitat for Humanity Carpenter's Helpers Build Opportunity
DESCRIPTION:Saturday\, November 8\, 7:45 a.m. – 4:30 p.m.\nNew construction building at Mountain View Homes\n10700 East Evans Avenue in Aurora.Contact Jon Dreux jon@centraldenver.com or\nChris Primus primus.c.p@gmail.com for information.
URL:https://centraldenver.com/event/habitat-for-humanity-carpenters-helpers-build-opportunity/
LOCATION:CO
CATEGORIES:Adult Ministries,Community Events,Service & Volunteer Opportunies
ATTACH;FMTTYPE=image/jpeg:https://centraldenver.com/wp-content/uploads/2024/05/Carpenters-helpers.jpg
END:VEVENT
END:VCALENDAR