BEGIN:VCALENDAR
VERSION:2.0
PRODID:-//Central Presbyterian Church Denver - ECPv6.15.20//NONSGML v1.0//EN
CALSCALE:GREGORIAN
METHOD:PUBLISH
X-WR-CALNAME:Central Presbyterian Church Denver
X-ORIGINAL-URL:https://centraldenver.com
X-WR-CALDESC:Events for Central Presbyterian Church Denver
REFRESH-INTERVAL;VALUE=DURATION:PT1H
X-Robots-Tag:noindex
X-PUBLISHED-TTL:PT1H
BEGIN:VTIMEZONE
TZID:America/Denver
BEGIN:DAYLIGHT
TZOFFSETFROM:-0700
TZOFFSETTO:-0600
TZNAME:MDT
DTSTART:20240310T090000
END:DAYLIGHT
BEGIN:STANDARD
TZOFFSETFROM:-0600
TZOFFSETTO:-0700
TZNAME:MST
DTSTART:20241103T080000
END:STANDARD
BEGIN:DAYLIGHT
TZOFFSETFROM:-0700
TZOFFSETTO:-0600
TZNAME:MDT
DTSTART:20250309T090000
END:DAYLIGHT
BEGIN:STANDARD
TZOFFSETFROM:-0600
TZOFFSETTO:-0700
TZNAME:MST
DTSTART:20251102T080000
END:STANDARD
BEGIN:DAYLIGHT
TZOFFSETFROM:-0700
TZOFFSETTO:-0600
TZNAME:MDT
DTSTART:20260308T090000
END:DAYLIGHT
BEGIN:STANDARD
TZOFFSETFROM:-0600
TZOFFSETTO:-0700
TZNAME:MST
DTSTART:20261101T080000
END:STANDARD
END:VTIMEZONE
BEGIN:VEVENT
DTSTART;TZID=America/Denver:20250427T103000
DTEND;TZID=America/Denver:20250427T113000
DTSTAMP:20260421T092006
CREATED:20250415T185017Z
LAST-MODIFIED:20250423T163430Z
UID:10001963-1745749800-1745753400@centraldenver.com
SUMMARY:Worship at Central Presbyterian Church
DESCRIPTION:Text: John 20:19-31\n\nDoubting Thomas Speaks — Rev. Tim Mooney \n\nSpecial Music: Jacque Howard-Tornatore\, soloist; Mallory Bernstein\, piano
URL:https://centraldenver.com/event/worship-at-central-presbyterian-church-99/
LOCATION:Central Presbyterian Church\, 1660 Sherman St\, Denver\, CO\, United States
CATEGORIES:Adult Ministries,Community Events,Worship
ATTACH;FMTTYPE=image/jpeg:https://centraldenver.com/wp-content/uploads/2023/08/cenpres.jpeg
END:VEVENT
BEGIN:VEVENT
DTSTART;TZID=America/Denver:20250430T190000
DTEND;TZID=America/Denver:20250430T203000
DTSTAMP:20260421T092006
CREATED:20240820T193944Z
LAST-MODIFIED:20250204T220749Z
UID:10001739-1746039600-1746045000@centraldenver.com
SUMMARY:Chancel Choir Practice
DESCRIPTION:
URL:https://centraldenver.com/event/chancel-choir-practice-6/2025-04-30/
LOCATION:Central Presbyterian Church\, 1660 Sherman St\, Denver\, CO\, United States
CATEGORIES:Adult Ministries,Holiday & Special Services,Music & Choirs,Worship
ATTACH;FMTTYPE=image/jpeg:https://centraldenver.com/wp-content/uploads/2024/08/This-Is-The-Day-.-Glenn-Ross-15.jpg
END:VEVENT
BEGIN:VEVENT
DTSTART;TZID=America/Denver:20250501T190000
DTEND;TZID=America/Denver:20250501T200000
DTSTAMP:20260421T092006
CREATED:20230925T181621Z
LAST-MODIFIED:20250204T173945Z
UID:10001363-1746126000-1746129600@centraldenver.com
SUMMARY:Theology on Tap
DESCRIPTION:Theology on Tap\nThursdays\, 7:00PM\nWe get together online and in person at local breweries to discuss questions of faith. Please contact Josh Trimble (trimjosh@gmail.com) to be added to the email list for current topics and location information.
URL:https://centraldenver.com/event/theology-on-tap-event-series/2025-05-01/
LOCATION:Various\, CO\, United States
ATTACH;FMTTYPE=image/jpeg:https://centraldenver.com/wp-content/uploads/2023/09/pexels-pavel-danilyuk-5858064.jpg
END:VEVENT
BEGIN:VEVENT
DTSTART;TZID=America/Denver:20250502T193000
DTEND;TZID=America/Denver:20250502T213000
DTSTAMP:20260421T092006
CREATED:20240821T193925Z
LAST-MODIFIED:20250430T164050Z
UID:10001751-1746214200-1746221400@centraldenver.com
SUMMARY:RETROspective with the Denver Philharmonic Orchestra
DESCRIPTION:Denver Phil’s Eras Tour\nStep into a time machine and embark on a musical journey through the decades! Each work featured in RETROspective pays homage to a prominent composer from each era of the Denver Philharmonic Orchestra’s illustrious 75-year history. From the timeless melodies of Barber during the era of our founder\, Antonia Brico\, to the revolutionary sounds of modern composers: experience the evolution of an ensemble firsthand. \nPut on your dancing shoes and dust off your bell-bottoms\, because RETROspective is all about embracing the spirit of the past. Whether you’re a fan of the swinging sixties\, the disco fever of the seventies\, or the neon lights of the eighties\, come dressed in your favorite decade attire and join us for a season finale of nostalgia and fun! \n\nSamuel Barber – Antonia Brico Era\nOverture to School for Scandal \nJohannes Brahms – Julius Glaihengauz Era\nHungarian Dance No. 6\n \nWitold Lutosławski – Horst Buchholz Era\nLittle Suite \nGeorge Gershwin – Adam Flatt Era\nAn American in Paris\n \nSergei Prokofiev – Lawrence Golan Era\nSymphony No. 5
URL:https://centraldenver.com/event/retrospective-with-the-denver-philharmonic-orchestra/
LOCATION:Central Presbyterian Church\, 1660 Sherman St\, Denver\, CO\, United States
CATEGORIES:Concerts
ATTACH;FMTTYPE=image/jpeg:https://centraldenver.com/wp-content/uploads/2024/08/DPO-Retro-Hero.jpg
END:VEVENT
BEGIN:VEVENT
DTSTART;TZID=America/Denver:20250504T103000
DTEND;TZID=America/Denver:20250504T113000
DTSTAMP:20260421T092006
CREATED:20250428T161633Z
LAST-MODIFIED:20250428T161733Z
UID:10001965-1746354600-1746358200@centraldenver.com
SUMMARY:Worship at Central Presbyterian Church
DESCRIPTION:Text:  Matthew 9:9-13\n\nA Desirable Mercy — Rev. Tim Mooney\n\nSpecial Music: The Chancel Choir; Mallory Bernstein\, piano
URL:https://centraldenver.com/event/worship-at-central-presbyterian-church-100/
LOCATION:Central Presbyterian Church\, 1660 Sherman St\, Denver\, CO\, United States
CATEGORIES:Adult Ministries,Community Events,Worship
ATTACH;FMTTYPE=image/jpeg:https://centraldenver.com/wp-content/uploads/2023/08/cenpres.jpeg
END:VEVENT
BEGIN:VEVENT
DTSTART;TZID=America/Denver:20250504T153000
DTEND;TZID=America/Denver:20250504T163000
DTSTAMP:20260421T092006
CREATED:20250428T162343Z
LAST-MODIFIED:20250430T164216Z
UID:10001967-1746372600-1746376200@centraldenver.com
SUMMARY:The Choir League Presents Sing & Shout
DESCRIPTION:Gospels and Spirituals with Lonnie Norwood and special guest singers Joslyn Ford-Keel (JoFoKe) and LaDamion Massey.
URL:https://centraldenver.com/event/the-choir-league-presents-sing-and-shout/
LOCATION:Central Presbyterian Church\, 1660 Sherman St\, Denver\, CO\, United States
CATEGORIES:Concerts,Music & Choirs
ATTACH;FMTTYPE=image/jpeg:https://centraldenver.com/wp-content/uploads/2025/04/Choir-League.jpg
END:VEVENT
BEGIN:VEVENT
DTSTART;TZID=America/Denver:20250508T100000
DTEND;TZID=America/Denver:20250508T113000
DTSTAMP:20260421T092006
CREATED:20240805T190839Z
LAST-MODIFIED:20240805T190841Z
UID:10001701-1746698400-1746703800@centraldenver.com
SUMMARY:Women's Bible Study
DESCRIPTION:Women’s Bible Study \nMonthly on the second Thursday 10:00 – 11:30am \nLocation: \nhttps://us02web.zoom.us/j/83090293373?pwd=OXdoQXpzQzdoOFFYOUJ6dkVIRHp6QT09
URL:https://centraldenver.com/event/womens-bible-study-2-2/2025-05-08/
LOCATION:Online\, Online
CATEGORIES:Adult Ministries
ATTACH;FMTTYPE=image/jpeg:https://centraldenver.com/wp-content/uploads/2023/08/Bible-Study.jpeg
END:VEVENT
BEGIN:VEVENT
DTSTART;TZID=America/Denver:20250508T190000
DTEND;TZID=America/Denver:20250508T200000
DTSTAMP:20260421T092006
CREATED:20230925T181621Z
LAST-MODIFIED:20250204T173945Z
UID:10001364-1746730800-1746734400@centraldenver.com
SUMMARY:Theology on Tap
DESCRIPTION:Theology on Tap\nThursdays\, 7:00PM\nWe get together online and in person at local breweries to discuss questions of faith. Please contact Josh Trimble (trimjosh@gmail.com) to be added to the email list for current topics and location information.
URL:https://centraldenver.com/event/theology-on-tap-event-series/2025-05-08/
LOCATION:Various\, CO\, United States
ATTACH;FMTTYPE=image/jpeg:https://centraldenver.com/wp-content/uploads/2023/09/pexels-pavel-danilyuk-5858064.jpg
END:VEVENT
BEGIN:VEVENT
DTSTART;TZID=America/Denver:20250509T163000
DTEND;TZID=America/Denver:20250509T183000
DTSTAMP:20260421T092006
CREATED:20250428T163304Z
LAST-MODIFIED:20250428T163304Z
UID:10001969-1746808200-1746815400@centraldenver.com
SUMMARY:Prodigy Coffeehouse Grand Opening
DESCRIPTION:
URL:https://centraldenver.com/event/prodigy-coffeehouse-grand-opening/
LOCATION:Central Presbyterian Church\, 1660 Sherman St\, Denver\, CO\, United States
CATEGORIES:Community Events
ATTACH;FMTTYPE=image/jpeg:https://centraldenver.com/wp-content/uploads/2025/04/Prodigy-Grand-Opening-Invite.jpg
END:VEVENT
BEGIN:VEVENT
DTSTART;TZID=America/Denver:20250510T140000
DTEND;TZID=America/Denver:20250510T160000
DTSTAMP:20260421T092006
CREATED:20250428T162822Z
LAST-MODIFIED:20250430T164256Z
UID:10001968-1746885600-1746892800@centraldenver.com
SUMMARY:Performing Small Miracles The Colorado Children's Chorale
DESCRIPTION:Featuring Prep Choir\, Apprentice Choir\, and Aplausos de Colorado Children’s Chorale \nFrom fully-staged opera and musical theater to classical\, folk and popular music\, the Chorale always brings a hearty dose of energy and enthusiasm. \n 
URL:https://centraldenver.com/event/performing-small-miracles-3/
LOCATION:Central Presbyterian Church\, 1660 Sherman St\, Denver\, CO\, United States
CATEGORIES:Concerts,Music & Choirs
ATTACH;FMTTYPE=image/jpeg:https://centraldenver.com/wp-content/uploads/2025/04/Performing-Small-Miracles.jpg
END:VEVENT
BEGIN:VEVENT
DTSTART;TZID=America/Denver:20250511T103000
DTEND;TZID=America/Denver:20250511T113000
DTSTAMP:20260421T092006
CREATED:20250428T161934Z
LAST-MODIFIED:20250505T164249Z
UID:10001966-1746959400-1746963000@centraldenver.com
SUMMARY:Worship at Central Presbyterian Church
DESCRIPTION:Text:  Matthew 6:25-26\n\nConsider the Lilies — Rev. Tim Mooney\n\nSpecial Music: Ahna Smith\, soloist; The Chancel Choir; Mallory Bernstein\, piano
URL:https://centraldenver.com/event/worship-at-central-presbyterian-church-101/
LOCATION:Central Presbyterian Church\, 1660 Sherman St\, Denver\, CO\, United States
CATEGORIES:Adult Ministries,Community Events,Worship
ATTACH;FMTTYPE=image/jpeg:https://centraldenver.com/wp-content/uploads/2023/08/cenpres.jpeg
END:VEVENT
BEGIN:VEVENT
DTSTART;TZID=America/Denver:20250515T190000
DTEND;TZID=America/Denver:20250515T200000
DTSTAMP:20260421T092006
CREATED:20230925T181621Z
LAST-MODIFIED:20250204T173945Z
UID:10001365-1747335600-1747339200@centraldenver.com
SUMMARY:Theology on Tap
DESCRIPTION:Theology on Tap\nThursdays\, 7:00PM\nWe get together online and in person at local breweries to discuss questions of faith. Please contact Josh Trimble (trimjosh@gmail.com) to be added to the email list for current topics and location information.
URL:https://centraldenver.com/event/theology-on-tap-event-series/2025-05-15/
LOCATION:Various\, CO\, United States
ATTACH;FMTTYPE=image/jpeg:https://centraldenver.com/wp-content/uploads/2023/09/pexels-pavel-danilyuk-5858064.jpg
END:VEVENT
BEGIN:VEVENT
DTSTART;TZID=America/Denver:20250518T100000
DTEND;TZID=America/Denver:20250518T111000
DTSTAMP:20260421T092006
CREATED:20250505T164613Z
LAST-MODIFIED:20250505T170201Z
UID:10001972-1747562400-1747566600@centraldenver.com
SUMMARY:Worship at Peoples Presbyterian Church
DESCRIPTION:Central will be worshiping with Peoples Presbyterian Church at their location: \n2780 York St\, Denver\, CO 80205 \nWorship starts at 10am.
URL:https://centraldenver.com/event/worship-at-peoples-presbyterian-church-2/
LOCATION:Central Presbyterian Church\, 1660 Sherman St\, Denver\, CO\, United States
CATEGORIES:Adult Ministries,Community Events,Worship
ATTACH;FMTTYPE=image/jpeg:https://centraldenver.com/wp-content/uploads/2025/05/peoples.jpg
END:VEVENT
BEGIN:VEVENT
DTSTART;TZID=America/Denver:20250522T190000
DTEND;TZID=America/Denver:20250522T200000
DTSTAMP:20260421T092006
CREATED:20230925T181621Z
LAST-MODIFIED:20250204T173945Z
UID:10001366-1747940400-1747944000@centraldenver.com
SUMMARY:Theology on Tap
DESCRIPTION:Theology on Tap\nThursdays\, 7:00PM\nWe get together online and in person at local breweries to discuss questions of faith. Please contact Josh Trimble (trimjosh@gmail.com) to be added to the email list for current topics and location information.
URL:https://centraldenver.com/event/theology-on-tap-event-series/2025-05-22/
LOCATION:Various\, CO\, United States
ATTACH;FMTTYPE=image/jpeg:https://centraldenver.com/wp-content/uploads/2023/09/pexels-pavel-danilyuk-5858064.jpg
END:VEVENT
BEGIN:VEVENT
DTSTART;TZID=America/Denver:20250525T103000
DTEND;TZID=America/Denver:20250525T113000
DTSTAMP:20260421T092006
CREATED:20250508T174111Z
LAST-MODIFIED:20250519T183026Z
UID:10001973-1748169000-1748172600@centraldenver.com
SUMMARY:Worship at Central Presbyterian Church
DESCRIPTION:Text:  Exodus 32:1-6; Ephesians 3:16-19Behind the Curtain — Rev. Tim Mooney \n\nSpecial Music: Mallory Bernstein\, piano
URL:https://centraldenver.com/event/worship-at-central-presbyterian-church-102/
LOCATION:Central Presbyterian Church\, 1660 Sherman St\, Denver\, CO\, United States
CATEGORIES:Adult Ministries,Community Events,Worship
ATTACH;FMTTYPE=image/jpeg:https://centraldenver.com/wp-content/uploads/2023/08/cenpres.jpeg
END:VEVENT
BEGIN:VEVENT
DTSTART;TZID=America/Denver:20250529T190000
DTEND;TZID=America/Denver:20250529T200000
DTSTAMP:20260421T092006
CREATED:20230925T181621Z
LAST-MODIFIED:20250204T173945Z
UID:10001367-1748545200-1748548800@centraldenver.com
SUMMARY:Theology on Tap
DESCRIPTION:Theology on Tap\nThursdays\, 7:00PM\nWe get together online and in person at local breweries to discuss questions of faith. Please contact Josh Trimble (trimjosh@gmail.com) to be added to the email list for current topics and location information.
URL:https://centraldenver.com/event/theology-on-tap-event-series/2025-05-29/
LOCATION:Various\, CO\, United States
ATTACH;FMTTYPE=image/jpeg:https://centraldenver.com/wp-content/uploads/2023/09/pexels-pavel-danilyuk-5858064.jpg
END:VEVENT
BEGIN:VEVENT
DTSTART;TZID=America/Denver:20250601T103000
DTEND;TZID=America/Denver:20250601T113000
DTSTAMP:20260421T092006
CREATED:20250508T174413Z
LAST-MODIFIED:20250527T163340Z
UID:10001974-1748773800-1748777400@centraldenver.com
SUMMARY:Worship at Central Presbyterian Church
DESCRIPTION:Text: Luke 15:1-10\n\nYou Belong Here — Pastor Dorothy Piatt-Esguerra\n\nSpecial Music: The Chancel Choir\, Mallory Bernstein\, piano
URL:https://centraldenver.com/event/worship-at-central-presbyterian-church-103/
LOCATION:Central Presbyterian Church\, 1660 Sherman St\, Denver\, CO\, United States
CATEGORIES:Adult Ministries,Community Events,Worship
ATTACH;FMTTYPE=image/jpeg:https://centraldenver.com/wp-content/uploads/2023/08/cenpres.jpeg
END:VEVENT
BEGIN:VEVENT
DTSTART;TZID=America/Denver:20250605T190000
DTEND;TZID=America/Denver:20250605T200000
DTSTAMP:20260421T092006
CREATED:20230925T181621Z
LAST-MODIFIED:20250204T173945Z
UID:10001368-1749150000-1749153600@centraldenver.com
SUMMARY:Theology on Tap
DESCRIPTION:Theology on Tap\nThursdays\, 7:00PM\nWe get together online and in person at local breweries to discuss questions of faith. Please contact Josh Trimble (trimjosh@gmail.com) to be added to the email list for current topics and location information.
URL:https://centraldenver.com/event/theology-on-tap-event-series/2025-06-05/
LOCATION:Various\, CO\, United States
ATTACH;FMTTYPE=image/jpeg:https://centraldenver.com/wp-content/uploads/2023/09/pexels-pavel-danilyuk-5858064.jpg
END:VEVENT
BEGIN:VEVENT
DTSTART;VALUE=DATE:20250606
DTEND;VALUE=DATE:20250609
DTSTAMP:20260421T092007
CREATED:20250519T200733Z
LAST-MODIFIED:20250519T200954Z
UID:10001979-1749168000-1749427199@centraldenver.com
SUMMARY:Gun Violence Prevention
DESCRIPTION:Friday\, June 6 – Sunday\, June 8: Wear Orange in honor of victims and to  build community with others working to end gun violence.  \nSaturday\, July  19\, 10a – 12p: Guns to Gardens Safe Surrender Event at Cure d’Ars Catholic  Church\, 3201 Dahlia Street in Denver.  \n— Contact Cheryl Fleetwood to participate: cherylrfleetwood@gmail.com
URL:https://centraldenver.com/event/gun-violence-prevention/
LOCATION:CO
CATEGORIES:Community Events,Service & Volunteer Opportunies
END:VEVENT
BEGIN:VEVENT
DTSTART;TZID=America/Denver:20250608T103000
DTEND;TZID=America/Denver:20250608T113000
DTSTAMP:20260421T092007
CREATED:20250508T175742Z
LAST-MODIFIED:20250530T201341Z
UID:10001975-1749378600-1749382200@centraldenver.com
SUMMARY:Worship at Central Presbyterian Church
DESCRIPTION:Text: Acts 2:1–21\n\nSubtle — Pastor Dorothy Piatt-Esguerra\n\nSpecial Music:  Bill Davis\, cello; Mallory Bernstein\, piano
URL:https://centraldenver.com/event/worship-at-central-presbyterian-church-104/
LOCATION:Central Presbyterian Church\, 1660 Sherman St\, Denver\, CO\, United States
CATEGORIES:Adult Ministries,Community Events,Worship
ATTACH;FMTTYPE=image/jpeg:https://centraldenver.com/wp-content/uploads/2023/08/cenpres.jpeg
END:VEVENT
BEGIN:VEVENT
DTSTART;TZID=America/Denver:20250608T114500
DTEND;TZID=America/Denver:20250608T133000
DTSTAMP:20260421T092007
CREATED:20250508T182129Z
LAST-MODIFIED:20250508T182219Z
UID:10001978-1749383100-1749389400@centraldenver.com
SUMMARY:Annual Church Picnic after Worship
DESCRIPTION:Please join us for burgers and dogs\, and all of the wonderful contributions to our picnic potluck. If you’d like to bring something\, we welcome salads\, sides\, and sweets!! \nWhen:  Sunday\, June 8th\, following service\nWhere: Northeast corner of Washington Park (same as last year\, right by the Firehouse)\, on the corner of Virginia and Franklin streets.
URL:https://centraldenver.com/event/annual-church-picnic-after-worship/
LOCATION:CO
CATEGORIES:Adult Ministries,Children & Youth Events,Family Ministries,Holiday & Special Services,Service & Volunteer Opportunies
ATTACH;FMTTYPE=image/jpeg:https://centraldenver.com/wp-content/uploads/2024/05/Church-Picnic-e1746728531662.jpg
END:VEVENT
BEGIN:VEVENT
DTSTART;TZID=America/Denver:20250612T190000
DTEND;TZID=America/Denver:20250612T200000
DTSTAMP:20260421T092007
CREATED:20230925T181621Z
LAST-MODIFIED:20250204T173945Z
UID:10001369-1749754800-1749758400@centraldenver.com
SUMMARY:Theology on Tap
DESCRIPTION:Theology on Tap\nThursdays\, 7:00PM\nWe get together online and in person at local breweries to discuss questions of faith. Please contact Josh Trimble (trimjosh@gmail.com) to be added to the email list for current topics and location information.
URL:https://centraldenver.com/event/theology-on-tap-event-series/2025-06-12/
LOCATION:Various\, CO\, United States
ATTACH;FMTTYPE=image/jpeg:https://centraldenver.com/wp-content/uploads/2023/09/pexels-pavel-danilyuk-5858064.jpg
END:VEVENT
BEGIN:VEVENT
DTSTART;TZID=America/Denver:20250615T103000
DTEND;TZID=America/Denver:20250615T113000
DTSTAMP:20260421T092007
CREATED:20250508T175818Z
LAST-MODIFIED:20250603T173438Z
UID:10001976-1749983400-1749987000@centraldenver.com
SUMMARY:Worship at Central Presbyterian Church
DESCRIPTION:Text: John 16:12-15\n\nMissing Person — Pastor Dorothy Piatt-Esguerra\n\nSpecial Music:  Miriam Kapner\, oboe; Mallory Bernstein\, piano
URL:https://centraldenver.com/event/worship-at-central-presbyterian-church-105/
LOCATION:Central Presbyterian Church\, 1660 Sherman St\, Denver\, CO\, United States
CATEGORIES:Adult Ministries,Community Events,Worship
ATTACH;FMTTYPE=image/jpeg:https://centraldenver.com/wp-content/uploads/2023/08/cenpres.jpeg
END:VEVENT
BEGIN:VEVENT
DTSTART;VALUE=DATE:20250619
DTEND;VALUE=DATE:20250620
DTSTAMP:20260421T092007
CREATED:20250616T193327Z
LAST-MODIFIED:20250616T193414Z
UID:10001993-1750291200-1750377599@centraldenver.com
SUMMARY:Juneteenth: Church offices closed
DESCRIPTION:
URL:https://centraldenver.com/event/juneteenth-church-offices-closed/
LOCATION:Central Presbyterian Church\, 1660 Sherman St\, Denver\, CO\, United States
END:VEVENT
BEGIN:VEVENT
DTSTART;TZID=America/Denver:20250619T190000
DTEND;TZID=America/Denver:20250619T200000
DTSTAMP:20260421T092007
CREATED:20230925T181621Z
LAST-MODIFIED:20250204T173945Z
UID:10001370-1750359600-1750363200@centraldenver.com
SUMMARY:Theology on Tap
DESCRIPTION:Theology on Tap\nThursdays\, 7:00PM\nWe get together online and in person at local breweries to discuss questions of faith. Please contact Josh Trimble (trimjosh@gmail.com) to be added to the email list for current topics and location information.
URL:https://centraldenver.com/event/theology-on-tap-event-series/2025-06-19/
LOCATION:Various\, CO\, United States
ATTACH;FMTTYPE=image/jpeg:https://centraldenver.com/wp-content/uploads/2023/09/pexels-pavel-danilyuk-5858064.jpg
END:VEVENT
BEGIN:VEVENT
DTSTART;VALUE=DATE:20250621
DTEND;VALUE=DATE:20250626
DTSTAMP:20260421T092007
CREATED:20250519T200918Z
LAST-MODIFIED:20250519T200918Z
UID:10001980-1750464000-1750895999@centraldenver.com
SUMMARY:La Puente\, Alamosa\, CO
DESCRIPTION:Saturday\, June 21 – Wednesday\, June 25: \nLa Puente has programs designed to meet the needs of families and individuals in the San Luis Valley. This is an intergenerational mission trip with past participant ages ranging from 8 – 75 years. There is a building project with additional opportunities to connect with La Puente’s other programs like the children’s program PALS\, serving a meal at the homeless shelter\, and rural outreach. \n— Contact Gina Batali Brooks to participate: gina.batalibrooks@gmail.com
URL:https://centraldenver.com/event/la-puente-alamosa-co/
LOCATION:CO
CATEGORIES:Children & Youth Events,Community Events,Service & Volunteer Opportunies
END:VEVENT
BEGIN:VEVENT
DTSTART;TZID=America/Denver:20250622T103000
DTEND;TZID=America/Denver:20250622T113000
DTSTAMP:20260421T092007
CREATED:20250508T180608Z
LAST-MODIFIED:20250618T171345Z
UID:10001977-1750588200-1750591800@centraldenver.com
SUMMARY:Worship at Central Presbyterian Church
DESCRIPTION:Text: 1 Kings 19:1-18\n\nThe Silences We Keep — Pastor Dorothy Piatt-Esguerra\n\nSpecial Music:  Chuck Stevenson\, soloist; Matheus Pagliacci\, piano; Douglas Macomber\, organ.
URL:https://centraldenver.com/event/worship-at-central-presbyterian-church-106/
LOCATION:Central Presbyterian Church\, 1660 Sherman St\, Denver\, CO\, United States
CATEGORIES:Adult Ministries,Community Events,Worship
ATTACH;FMTTYPE=image/jpeg:https://centraldenver.com/wp-content/uploads/2023/08/cenpres.jpeg
END:VEVENT
BEGIN:VEVENT
DTSTART;TZID=America/Denver:20250624T083000
DTEND;TZID=America/Denver:20250624T093000
DTSTAMP:20260421T092007
CREATED:20250519T201517Z
LAST-MODIFIED:20250616T193202Z
UID:10001982-1750753800-1750757400@centraldenver.com
SUMMARY:Women's Homeless Initiative
DESCRIPTION:Tuesday\, June 24: 8:30a – 9:30a: Prepare sack lunches onsite at Central Presbyterian for Saint Francis Outreach Center. \n— Contact Molly Brown to contribute food and/or volunteer: molly@centraldenver.com
URL:https://centraldenver.com/event/womens-homeless-initiative-2/
LOCATION:CO
CATEGORIES:Community Events,Service & Volunteer Opportunies
END:VEVENT
BEGIN:VEVENT
DTSTART;TZID=America/Denver:20250626T190000
DTEND;TZID=America/Denver:20250626T200000
DTSTAMP:20260421T092007
CREATED:20230925T181621Z
LAST-MODIFIED:20250204T173945Z
UID:10001371-1750964400-1750968000@centraldenver.com
SUMMARY:Theology on Tap
DESCRIPTION:Theology on Tap\nThursdays\, 7:00PM\nWe get together online and in person at local breweries to discuss questions of faith. Please contact Josh Trimble (trimjosh@gmail.com) to be added to the email list for current topics and location information.
URL:https://centraldenver.com/event/theology-on-tap-event-series/2025-06-26/
LOCATION:Various\, CO\, United States
ATTACH;FMTTYPE=image/jpeg:https://centraldenver.com/wp-content/uploads/2023/09/pexels-pavel-danilyuk-5858064.jpg
END:VEVENT
BEGIN:VEVENT
DTSTART;VALUE=DATE:20250628
DTEND;VALUE=DATE:20250630
DTSTAMP:20260421T092007
CREATED:20250519T201703Z
LAST-MODIFIED:20250519T201933Z
UID:10001983-1751068800-1751241599@centraldenver.com
SUMMARY:Denver PrideFest
DESCRIPTION:Saturday\, June 28: 9:30a – 1:30p: Production Operations Civic Center Park — Contact Edith Zemanick to participate: ezemanick@gmail.com  \nSaturday\, June 28 – Sunday\, June 29: The Denver Presbytery invites you  to volunteer at the booth where we will be giving out glitter blessings. This is a deeply impactful time as we get the chance to hear stories of hurt  and offer a path to healing. Sign-up today https://www.signupgenius.com/go/10C0B4BABA723A1FBC25-56566800-denver#/ to let the LGBTQIA+ community know that at your church they will be loved exactly as God made them to be.  \n— Contact Rev. Bethany Peerbolte at revbethany1@gmail.com for information
URL:https://centraldenver.com/event/denver-pridefest-2/
LOCATION:CO
CATEGORIES:Community Events,Service & Volunteer Opportunies
END:VEVENT
END:VCALENDAR