BEGIN:VCALENDAR
VERSION:2.0
PRODID:-//Central Presbyterian Church Denver - ECPv6.15.20//NONSGML v1.0//EN
CALSCALE:GREGORIAN
METHOD:PUBLISH
X-WR-CALNAME:Central Presbyterian Church Denver
X-ORIGINAL-URL:https://centraldenver.com
X-WR-CALDESC:Events for Central Presbyterian Church Denver
REFRESH-INTERVAL;VALUE=DURATION:PT1H
X-Robots-Tag:noindex
X-PUBLISHED-TTL:PT1H
BEGIN:VTIMEZONE
TZID:America/Denver
BEGIN:DAYLIGHT
TZOFFSETFROM:-0700
TZOFFSETTO:-0600
TZNAME:MDT
DTSTART:20230312T090000
END:DAYLIGHT
BEGIN:STANDARD
TZOFFSETFROM:-0600
TZOFFSETTO:-0700
TZNAME:MST
DTSTART:20231105T080000
END:STANDARD
BEGIN:DAYLIGHT
TZOFFSETFROM:-0700
TZOFFSETTO:-0600
TZNAME:MDT
DTSTART:20240310T090000
END:DAYLIGHT
BEGIN:STANDARD
TZOFFSETFROM:-0600
TZOFFSETTO:-0700
TZNAME:MST
DTSTART:20241103T080000
END:STANDARD
BEGIN:DAYLIGHT
TZOFFSETFROM:-0700
TZOFFSETTO:-0600
TZNAME:MDT
DTSTART:20250309T090000
END:DAYLIGHT
BEGIN:STANDARD
TZOFFSETFROM:-0600
TZOFFSETTO:-0700
TZNAME:MST
DTSTART:20251102T080000
END:STANDARD
END:VTIMEZONE
BEGIN:VEVENT
DTSTART;TZID=America/Denver:20240728T103000
DTEND;TZID=America/Denver:20240728T113000
DTSTAMP:20260421T065730
CREATED:20240722T201026Z
LAST-MODIFIED:20240722T201026Z
UID:10001686-1722162600-1722166200@centraldenver.com
SUMMARY:Worship at Central Presbyterian Church
DESCRIPTION:Sermon:  Is There Ever Enough? — Pastor Louise Westfall \nText: Mark 6:30-44 \nSpecial Music: Chris Jusell\, violin; Mallory Bernstein\, piano
URL:https://centraldenver.com/event/worship-at-central-presbyterian-church-61/
LOCATION:Central Presbyterian Church\, 1660 Sherman St\, Denver\, CO\, United States
CATEGORIES:Community Events,Worship
ATTACH;FMTTYPE=image/jpeg:https://centraldenver.com/wp-content/uploads/2023/08/cenpres.jpeg
END:VEVENT
BEGIN:VEVENT
DTSTART;TZID=America/Denver:20240725T190000
DTEND;TZID=America/Denver:20240725T200000
DTSTAMP:20260421T065730
CREATED:20230925T181621Z
LAST-MODIFIED:20250204T173945Z
UID:10001819-1721934000-1721937600@centraldenver.com
SUMMARY:Theology on Tap
DESCRIPTION:Theology on Tap\nThursdays\, 7:00PM\nWe get together online and in person at local breweries to discuss questions of faith. Please contact Josh Trimble (trimjosh@gmail.com) to be added to the email list for current topics and location information.
URL:https://centraldenver.com/event/theology-on-tap-event-series/2024-07-25/
LOCATION:Various\, CO\, United States
ATTACH;FMTTYPE=image/jpeg:https://centraldenver.com/wp-content/uploads/2023/09/pexels-pavel-danilyuk-5858064.jpg
END:VEVENT
BEGIN:VEVENT
DTSTART;TZID=America/Denver:20240721T103000
DTEND;TZID=America/Denver:20240721T113000
DTSTAMP:20260421T065730
CREATED:20240703T160034Z
LAST-MODIFIED:20240716T192238Z
UID:10001684-1721557800-1721561400@centraldenver.com
SUMMARY:Worship at Central Presbyterian Church
DESCRIPTION:Sermon:  Praying as Jesus Taught Radicals to Pray — Pastor Evan Amo \nText: Matthew 6:5-15 \nSpecial Music: Miriam Kapner\, oboe; Joshua Sawicki\, piano
URL:https://centraldenver.com/event/worship-at-central-presbyterian-church-59/
LOCATION:Central Presbyterian Church\, 1660 Sherman St\, Denver\, CO\, United States
CATEGORIES:Community Events,Worship
ATTACH;FMTTYPE=image/jpeg:https://centraldenver.com/wp-content/uploads/2023/08/cenpres.jpeg
END:VEVENT
BEGIN:VEVENT
DTSTART;TZID=America/Denver:20240718T190000
DTEND;TZID=America/Denver:20240718T200000
DTSTAMP:20260421T065730
CREATED:20230925T181621Z
LAST-MODIFIED:20250204T173945Z
UID:10001322-1721329200-1721332800@centraldenver.com
SUMMARY:Theology on Tap
DESCRIPTION:Theology on Tap\nThursdays\, 7:00PM\nWe get together online and in person at local breweries to discuss questions of faith. Please contact Josh Trimble (trimjosh@gmail.com) to be added to the email list for current topics and location information.
URL:https://centraldenver.com/event/theology-on-tap-event-series/2024-07-18/
LOCATION:Various\, CO\, United States
ATTACH;FMTTYPE=image/jpeg:https://centraldenver.com/wp-content/uploads/2023/09/pexels-pavel-danilyuk-5858064.jpg
END:VEVENT
BEGIN:VEVENT
DTSTART;TZID=America/Denver:20240714T103000
DTEND;TZID=America/Denver:20240714T130000
DTSTAMP:20260421T065730
CREATED:20240612T150703Z
LAST-MODIFIED:20240703T155827Z
UID:10001679-1720953000-1720962000@centraldenver.com
SUMMARY:Nearly There with Central members Myron and Cherie Swisher and Colorado Trust CEO Don Mares
DESCRIPTION:A favorite Denver indie band playing fun\, lively folk and acoustic music from the Beatles to John Denver\, early American Tin Pan Alley songs to Leonard Cohen. \n10:30am Worship\, Noon – 1 pm Concert. Free-will offering. \nEVERYONE WELCOME!
URL:https://centraldenver.com/event/nearly-there/
LOCATION:Central Presbyterian Church\, 1660 Sherman St\, Denver\, CO\, United States
CATEGORIES:Community Events,Concerts,Music & Choirs,Worship
ATTACH;FMTTYPE=image/jpeg:https://centraldenver.com/wp-content/uploads/2024/06/nearly-there.jpg
END:VEVENT
BEGIN:VEVENT
DTSTART;TZID=America/Denver:20240713T080000
DTEND;TZID=America/Denver:20240713T170000
DTSTAMP:20260421T065730
CREATED:20240522T164850Z
LAST-MODIFIED:20240522T164850Z
UID:10001673-1720857600-1720890000@centraldenver.com
SUMMARY:Carpenter's HelpersHabitat for Humanity Metro Denver
DESCRIPTION:Join Carpenter’s Helpers/Habitat for Humanity Metro Denver to build homes in the Denver Metro area. \nContact primus.c.p@gmail.com to participate.
URL:https://centraldenver.com/event/carpenters-helpershabitat-for-humanity-metro-denver/
LOCATION:CO
CATEGORIES:Community Events,Service & Volunteer Opportunies
ATTACH;FMTTYPE=image/jpeg:https://centraldenver.com/wp-content/uploads/2024/05/Carpenters-helpers.jpg
END:VEVENT
BEGIN:VEVENT
DTSTART;TZID=America/Denver:20240711T190000
DTEND;TZID=America/Denver:20240711T200000
DTSTAMP:20260421T065730
CREATED:20230925T181621Z
LAST-MODIFIED:20250204T173945Z
UID:10001321-1720724400-1720728000@centraldenver.com
SUMMARY:Theology on Tap
DESCRIPTION:Theology on Tap\nThursdays\, 7:00PM\nWe get together online and in person at local breweries to discuss questions of faith. Please contact Josh Trimble (trimjosh@gmail.com) to be added to the email list for current topics and location information.
URL:https://centraldenver.com/event/theology-on-tap-event-series/2024-07-11/
LOCATION:Various\, CO\, United States
ATTACH;FMTTYPE=image/jpeg:https://centraldenver.com/wp-content/uploads/2023/09/pexels-pavel-danilyuk-5858064.jpg
END:VEVENT
BEGIN:VEVENT
DTSTART;TZID=America/Denver:20240707T103000
DTEND;TZID=America/Denver:20240707T113000
DTSTAMP:20260421T065730
CREATED:20240703T155718Z
LAST-MODIFIED:20240703T155718Z
UID:10001683-1720348200-1720351800@centraldenver.com
SUMMARY:Worship at Central Presbyterian Church
DESCRIPTION:Sermon: A Love Letter to My Country — Pastor Louise Westfall \nText: Mark 12:13-17 \nSpecial Music: Ahna\, Liza\, Charis and Ryan Smith; Joshua Sawicki\, piano
URL:https://centraldenver.com/event/worship-at-central-presbyterian-church-58/
LOCATION:Central Presbyterian Church\, 1660 Sherman St\, Denver\, CO\, United States
CATEGORIES:Community Events,Worship
ATTACH;FMTTYPE=image/jpeg:https://centraldenver.com/wp-content/uploads/2023/08/cenpres.jpeg
END:VEVENT
BEGIN:VEVENT
DTSTART;TZID=America/Denver:20240704T190000
DTEND;TZID=America/Denver:20240704T200000
DTSTAMP:20260421T065730
CREATED:20230925T181621Z
LAST-MODIFIED:20250204T173945Z
UID:10001320-1720119600-1720123200@centraldenver.com
SUMMARY:Theology on Tap
DESCRIPTION:Theology on Tap\nThursdays\, 7:00PM\nWe get together online and in person at local breweries to discuss questions of faith. Please contact Josh Trimble (trimjosh@gmail.com) to be added to the email list for current topics and location information.
URL:https://centraldenver.com/event/theology-on-tap-event-series/2024-07-04/
LOCATION:Various\, CO\, United States
ATTACH;FMTTYPE=image/jpeg:https://centraldenver.com/wp-content/uploads/2023/09/pexels-pavel-danilyuk-5858064.jpg
END:VEVENT
BEGIN:VEVENT
DTSTART;TZID=America/Denver:20240630T103000
DTEND;TZID=America/Denver:20240630T113000
DTSTAMP:20260421T065730
CREATED:20240624T190938Z
LAST-MODIFIED:20240624T190938Z
UID:10001680-1719743400-1719747000@centraldenver.com
SUMMARY:Worship at Central Presbyterian Church
DESCRIPTION:Sermon: Mountaintop Moments — Brandon Eaton \nText: Luke 9:28-36 \nSpecial Music: Benjamin Ehrlich\, organ\, Elizabeth Mirandi\, soprano\, Evan King\, trumpet
URL:https://centraldenver.com/event/worship-at-central-presbyterian-church-57/
LOCATION:Central Presbyterian Church\, 1660 Sherman St\, Denver\, CO\, United States
CATEGORIES:Community Events,Worship
ATTACH;FMTTYPE=image/jpeg:https://centraldenver.com/wp-content/uploads/2023/08/cenpres.jpeg
END:VEVENT
BEGIN:VEVENT
DTSTART;TZID=America/Denver:20240627T190000
DTEND;TZID=America/Denver:20240627T200000
DTSTAMP:20260421T065730
CREATED:20230925T181621Z
LAST-MODIFIED:20250204T173945Z
UID:10001319-1719514800-1719518400@centraldenver.com
SUMMARY:Theology on Tap
DESCRIPTION:Theology on Tap\nThursdays\, 7:00PM\nWe get together online and in person at local breweries to discuss questions of faith. Please contact Josh Trimble (trimjosh@gmail.com) to be added to the email list for current topics and location information.
URL:https://centraldenver.com/event/theology-on-tap-event-series/2024-06-27/
LOCATION:Various\, CO\, United States
ATTACH;FMTTYPE=image/jpeg:https://centraldenver.com/wp-content/uploads/2023/09/pexels-pavel-danilyuk-5858064.jpg
END:VEVENT
BEGIN:VEVENT
DTSTART;TZID=America/Denver:20240623T103000
DTEND;TZID=America/Denver:20240623T113000
DTSTAMP:20260421T065730
CREATED:20240513T183315Z
LAST-MODIFIED:20240528T182334Z
UID:10001660-1719138600-1719142200@centraldenver.com
SUMMARY:Worship at Central Presbyterian Church
DESCRIPTION:Sermon: Nourishing Faith (3): Creating Your Faith Statement — Louise Westfall \nText: \nSpecial Music: Kathryn Eagles\, flute; Mallory Bernstein\, piano
URL:https://centraldenver.com/event/worship-at-central-presbyterian-church-56/
LOCATION:Central Presbyterian Church\, 1660 Sherman St\, Denver\, CO\, United States
CATEGORIES:Community Events,Worship
ATTACH;FMTTYPE=image/jpeg:https://centraldenver.com/wp-content/uploads/2023/08/cenpres.jpeg
END:VEVENT
BEGIN:VEVENT
DTSTART;TZID=America/Denver:20240623T100000
DTEND;TZID=America/Denver:20240623T140000
DTSTAMP:20260421T065730
CREATED:20240605T161951Z
LAST-MODIFIED:20240605T162734Z
UID:10001678-1719136800-1719151200@centraldenver.com
SUMMARY:Heartbeat DenverWorking Men's Shelter
DESCRIPTION:Join us for our OPEN HOUSE\nSATURDAY\, JUNE 22nd from 10am – 4pm\nSUNDAY\, JUNE 23rd from 10am – 2pm \nSee all the changes we’ve made in the last year and talk to some of the residents and staff about how we are achieving our mission of finding housing for the unhoused men of Denver. \nRefreshments will be available from our new Chef Bridges Baxter.
URL:https://centraldenver.com/event/heartbeat-denverworking-mens-shelter/
LOCATION:CO
CATEGORIES:Community Events,Service & Volunteer Opportunies
ATTACH;FMTTYPE=image/png:https://centraldenver.com/wp-content/uploads/2023/06/HBDWMS.png
END:VEVENT
BEGIN:VEVENT
DTSTART;TZID=America/Denver:20240622T100000
DTEND;TZID=America/Denver:20240622T160000
DTSTAMP:20260421T065730
CREATED:20240605T161752Z
LAST-MODIFIED:20240605T162330Z
UID:10001677-1719050400-1719072000@centraldenver.com
SUMMARY:Heartbeat DenverWorking Men's Shelter
DESCRIPTION:Join us for our OPEN HOUSE\nSATURDAY\, JUNE 22nd from 10am – 4pm\nSUNDAY\, JUNE 23rd from 10am – 2pm \nSee all the changes we’ve made in the last year and talk to some of the residents and staff about how we are achieving our mission of finding housing for the unhoused men of Denver. \nRefreshments will be available from our new Chef Bridges Baxter.
URL:https://centraldenver.com/event/heartbeat-denver-working-mens-shelter/
LOCATION:CO
CATEGORIES:Community Events,Service & Volunteer Opportunies
ATTACH;FMTTYPE=image/png:https://centraldenver.com/wp-content/uploads/2023/06/HBDWMS.png
END:VEVENT
BEGIN:VEVENT
DTSTART;TZID=America/Denver:20240622T090000
DTEND;TZID=America/Denver:20240622T113000
DTSTAMP:20260421T065730
CREATED:20240522T165824Z
LAST-MODIFIED:20240522T165824Z
UID:10001676-1719046800-1719055800@centraldenver.com
SUMMARY:Denver PrideFest
DESCRIPTION:Denver PrideFest 2024:  Celebrate the LGBTQ+ community by volunteering at the 5k Finish Line in Civic Center Park. \nContact ezemanick@gmail.com to participate.
URL:https://centraldenver.com/event/denver-pridefest/
LOCATION:CO
CATEGORIES:Community Events,Service & Volunteer Opportunies
ATTACH;FMTTYPE=image/jpeg:https://centraldenver.com/wp-content/uploads/2024/05/PrideFest.jpg
END:VEVENT
BEGIN:VEVENT
DTSTART;TZID=America/Denver:20240620T190000
DTEND;TZID=America/Denver:20240620T200000
DTSTAMP:20260421T065730
CREATED:20230925T181621Z
LAST-MODIFIED:20250204T173945Z
UID:10001318-1718910000-1718913600@centraldenver.com
SUMMARY:Theology on Tap
DESCRIPTION:Theology on Tap\nThursdays\, 7:00PM\nWe get together online and in person at local breweries to discuss questions of faith. Please contact Josh Trimble (trimjosh@gmail.com) to be added to the email list for current topics and location information.
URL:https://centraldenver.com/event/theology-on-tap-event-series/2024-06-20/
LOCATION:Various\, CO\, United States
ATTACH;FMTTYPE=image/jpeg:https://centraldenver.com/wp-content/uploads/2023/09/pexels-pavel-danilyuk-5858064.jpg
END:VEVENT
BEGIN:VEVENT
DTSTART;TZID=America/Denver:20240617T160000
DTEND;TZID=America/Denver:20240617T180000
DTSTAMP:20260421T065730
CREATED:20240522T165306Z
LAST-MODIFIED:20240522T165306Z
UID:10001675-1718640000-1718647200@centraldenver.com
SUMMARY:Volunteer at Urban Peak
DESCRIPTION:Meet at Urban Peak (2100 Stout Street) to prepare and serve a meal to unhoused youth. \nContact molly@centraldenver.com to participate.
URL:https://centraldenver.com/event/volunteer-at-urban-peak/
LOCATION:CO
CATEGORIES:Community Events,Service & Volunteer Opportunies
ATTACH;FMTTYPE=image/png:https://centraldenver.com/wp-content/uploads/2024/05/urban-peak.png
END:VEVENT
BEGIN:VEVENT
DTSTART;TZID=America/Denver:20240617T090000
DTEND;TZID=America/Denver:20240617T103000
DTSTAMP:20260421T065730
CREATED:20240522T160354Z
LAST-MODIFIED:20240522T170011Z
UID:10001668-1718614800-1718620200@centraldenver.com
SUMMARY:Pack lunches to deliver to Downtown Library Outreach
DESCRIPTION:Please meet in the Narthex for this Summer of Service volunteer event. (delivery to Downtown Library Outreach) \nContact molly@centraldenver.com to participate.
URL:https://centraldenver.com/event/pack-lunches-for-youth-at-urban-peak-2/
LOCATION:Central Presbyterian Church\, 1660 Sherman St\, Denver\, CO\, United States
CATEGORIES:Community Events,Service & Volunteer Opportunies
ATTACH;FMTTYPE=image/jpeg:https://centraldenver.com/wp-content/uploads/2024/05/Sandwich-3-300.jpg
END:VEVENT
BEGIN:VEVENT
DTSTART;TZID=America/Denver:20240616T103000
DTEND;TZID=America/Denver:20240616T113000
DTSTAMP:20260421T065730
CREATED:20240513T181810Z
LAST-MODIFIED:20240528T182141Z
UID:10001659-1718533800-1718537400@centraldenver.com
SUMMARY:Worship at Central Presbyterian Church
DESCRIPTION:Sermon: Nourishing Faith (2): Song — Louise Westfall \nText: Colossians 3:12-17 \nSpecial Music by Terrence McKenzie\, tenor; Mallory Bernstein\, piano
URL:https://centraldenver.com/event/worship-at-central-presbyterian-church-55/
LOCATION:Central Presbyterian Church\, 1660 Sherman St\, Denver\, CO\, United States
CATEGORIES:Community Events,Worship
ATTACH;FMTTYPE=image/jpeg:https://centraldenver.com/wp-content/uploads/2023/08/cenpres.jpeg
END:VEVENT
BEGIN:VEVENT
DTSTART;TZID=America/Denver:20240615T090000
DTEND;TZID=America/Denver:20240615T130000
DTSTAMP:20260421T065730
CREATED:20240522T164306Z
LAST-MODIFIED:20240522T164357Z
UID:10001671-1718442000-1718456400@centraldenver.com
SUMMARY:Volunteer withGuns to Gardens
DESCRIPTION:Volunteer with Guns to Gardens at a Safe Surrender event at Glennon Heights Mennonite Church\, 11480 W. Virginia Street in Lakewood. \nContact cherylrfleetwood@gmail.com to participate.
URL:https://centraldenver.com/event/volunteer-with-guns-to-gardens/
LOCATION:CO
CATEGORIES:Community Events,Service & Volunteer Opportunies
ATTACH;FMTTYPE=image/png:https://centraldenver.com/wp-content/uploads/2024/05/Guns-to-Gardens-2.png
END:VEVENT
BEGIN:VEVENT
DTSTART;TZID=America/Denver:20240615T080000
DTEND;TZID=America/Denver:20240615T170000
DTSTAMP:20260421T065730
CREATED:20240522T164612Z
LAST-MODIFIED:20240522T164659Z
UID:10001672-1718438400-1718470800@centraldenver.com
SUMMARY:Carpenter's HelpersHabitat for Humanity Metro Denver
DESCRIPTION:Join Carpenter’s Helpers/Habitat for Humanity Metro Denver to build homes in the Denver Metro area. \nContact primus.c.p@gmail.com to participate.
URL:https://centraldenver.com/event/carpenters-helpers-habitat-for-humanity-metro-denver/
LOCATION:CO
CATEGORIES:Community Events,Service & Volunteer Opportunies
ATTACH;FMTTYPE=image/jpeg:https://centraldenver.com/wp-content/uploads/2024/05/Carpenters-helpers.jpg
END:VEVENT
BEGIN:VEVENT
DTSTART;TZID=America/Denver:20240613T190000
DTEND;TZID=America/Denver:20240613T200000
DTSTAMP:20260421T065730
CREATED:20230925T181621Z
LAST-MODIFIED:20250204T173945Z
UID:10001317-1718305200-1718308800@centraldenver.com
SUMMARY:Theology on Tap
DESCRIPTION:Theology on Tap\nThursdays\, 7:00PM\nWe get together online and in person at local breweries to discuss questions of faith. Please contact Josh Trimble (trimjosh@gmail.com) to be added to the email list for current topics and location information.
URL:https://centraldenver.com/event/theology-on-tap-event-series/2024-06-13/
LOCATION:Various\, CO\, United States
ATTACH;FMTTYPE=image/jpeg:https://centraldenver.com/wp-content/uploads/2023/09/pexels-pavel-danilyuk-5858064.jpg
END:VEVENT
BEGIN:VEVENT
DTSTART;TZID=America/Denver:20240609T193000
DTEND;TZID=America/Denver:20240609T213000
DTSTAMP:20260421T065730
CREATED:20240521T163905Z
LAST-MODIFIED:20240521T163905Z
UID:10001666-1717961400-1717968600@centraldenver.com
SUMMARY:Voices Rock RESCHEDULED FROM 5/19
DESCRIPTION:Voices Rock is Denver’s original adult rock choir. We welcome everyone\, whether you’re a seasoned singer or have never performed in your life and just really want to sing and have fun! Rehearsal cycles typically run for ten weeks and culminate in a performance at the end of the session. The goal of Voices Rock is to build community\, and we provide several social opportunities outside of rehearsal for our members to get to know each other. We also strive to help our community through charity and several outreach performances each year.
URL:https://centraldenver.com/event/voices-rock-rescheduled-from-5-19/
LOCATION:Central Presbyterian Church\, 1660 Sherman St\, Denver\, CO\, United States
CATEGORIES:Concerts
ATTACH;FMTTYPE=image/jpeg:https://centraldenver.com/wp-content/uploads/2024/05/VoicesRock.jpg
END:VEVENT
BEGIN:VEVENT
DTSTART;TZID=America/Denver:20240609T120000
DTEND;TZID=America/Denver:20240609T130000
DTSTAMP:20260421T065730
CREATED:20240522T161608Z
LAST-MODIFIED:20240522T161608Z
UID:10001670-1717934400-1717938000@centraldenver.com
SUMMARY:Lunch and Learn with the Guadalupe Project
DESCRIPTION:Lunch and Learn with the Guadalupe Project\, Central’s newest building and mission partner. We will gather in the Narthex at noon for a simple lunch\, then head to the third floor for a tour and presentation. \nContact molly@centraldenver.com to participate.
URL:https://centraldenver.com/event/lunch-and-learn-with-the-guadalupe-project/
LOCATION:Central Presbyterian Church\, 1660 Sherman St\, Denver\, CO\, United States
CATEGORIES:Community Events,Service & Volunteer Opportunies
ATTACH;FMTTYPE=image/jpeg:https://centraldenver.com/wp-content/uploads/2024/05/Guadalupe-Project.jpg
END:VEVENT
BEGIN:VEVENT
DTSTART;TZID=America/Denver:20240609T103000
DTEND;TZID=America/Denver:20240609T113000
DTSTAMP:20260421T065731
CREATED:20240513T181554Z
LAST-MODIFIED:20240521T163714Z
UID:10001658-1717929000-1717932600@centraldenver.com
SUMMARY:Worship at Central Presbyterian Church
DESCRIPTION:Sermon — Nourishing Faith (1): Prayer — Louise Westfall \nText: Luke 11:1-13 \nSpecial Music by Leslie Soich\, mezzo; Mallory Bernstein\, piano
URL:https://centraldenver.com/event/worship-at-central-presbyterian-church-54/
LOCATION:Central Presbyterian Church\, 1660 Sherman St\, Denver\, CO\, United States
CATEGORIES:Community Events,Worship
ATTACH;FMTTYPE=image/jpeg:https://centraldenver.com/wp-content/uploads/2023/08/cenpres.jpeg
END:VEVENT
BEGIN:VEVENT
DTSTART;TZID=America/Denver:20240608T193000
DTEND;TZID=America/Denver:20240608T213000
DTSTAMP:20260421T065731
CREATED:20240501T202353Z
LAST-MODIFIED:20240501T202451Z
UID:10001646-1717875000-1717882200@centraldenver.com
SUMMARY:Ars NovaFruition: Shared Visions
DESCRIPTION:Join Ars Nova Singers for the climactic final program of its 38th season\, as they proudly present Shared Visions—a remarkable interdisciplinary collaboration that brings together artists from across Colorado. This multi-year project began with a gallery featuring 24 captivating works by eight visual artists. Poets from across the state were then invited to engage with these works\, using them as a wellspring of inspiration to create new poetry. The resulting anthology\, a testament to the shared visions between visual and literary artists\, served as fertile ground for commissioned choral compositions by four talented Colorado composers. Now\, as our audience\, your presence and engagement will complete this cycle of inspiration and forge the final connection between these diverse artistic disciplines. Immerse yourself in the transformative power of this extraordinary collaboration\, where shared visions come to life\, hearts are moved\, and spirits soar.
URL:https://centraldenver.com/event/ars-nova-fruition-shared-visions/
LOCATION:Central Presbyterian Church\, 1660 Sherman St\, Denver\, CO\, United States
CATEGORIES:Concerts
ATTACH;FMTTYPE=image/jpeg:https://centraldenver.com/wp-content/uploads/2024/05/Fruition-StageHand-Ars-Nova.jpg
END:VEVENT
BEGIN:VEVENT
DTSTART;TZID=America/Denver:20240606T190000
DTEND;TZID=America/Denver:20240606T200000
DTSTAMP:20260421T065731
CREATED:20230925T181621Z
LAST-MODIFIED:20250204T173945Z
UID:10001316-1717700400-1717704000@centraldenver.com
SUMMARY:Theology on Tap
DESCRIPTION:Theology on Tap\nThursdays\, 7:00PM\nWe get together online and in person at local breweries to discuss questions of faith. Please contact Josh Trimble (trimjosh@gmail.com) to be added to the email list for current topics and location information.
URL:https://centraldenver.com/event/theology-on-tap-event-series/2024-06-06/
LOCATION:Various\, CO\, United States
ATTACH;FMTTYPE=image/jpeg:https://centraldenver.com/wp-content/uploads/2023/09/pexels-pavel-danilyuk-5858064.jpg
END:VEVENT
BEGIN:VEVENT
DTSTART;TZID=America/Denver:20240605T173000
DTEND;TZID=America/Denver:20240605T200000
DTSTAMP:20260421T065731
CREATED:20240514T211244Z
LAST-MODIFIED:20240522T160936Z
UID:10001664-1717608600-1717617600@centraldenver.com
SUMMARY:Volunteer at Metro Caring
DESCRIPTION:Prepare its fresh food market for daily shoppers. Please meet at Metro Caring for this Summer of Service volunteer event. \nContact trimjosh@gmail.com to participate.
URL:https://centraldenver.com/event/metro-caring/
LOCATION:CO
CATEGORIES:Community Events,Service & Volunteer Opportunies
ATTACH;FMTTYPE=image/jpeg:https://centraldenver.com/wp-content/uploads/2024/05/MetroCaring-e1764876976832.jpg
END:VEVENT
BEGIN:VEVENT
DTSTART;TZID=America/Denver:20240605T090000
DTEND;TZID=America/Denver:20240605T100000
DTSTAMP:20260421T065731
CREATED:20240514T210959Z
LAST-MODIFIED:20240522T160805Z
UID:10001663-1717578000-1717581600@centraldenver.com
SUMMARY:Pack lunches for youth at Urban Peak
DESCRIPTION:Please meet in the Narthex for this Summer of Service volunteer event. \nContact molly@centraldenver.com to participate.
URL:https://centraldenver.com/event/pack-lunches-for-youth-at-urban-peak/
LOCATION:Central Presbyterian Church\, 1660 Sherman St\, Denver\, CO\, United States
CATEGORIES:Community Events,Service & Volunteer Opportunies
ATTACH;FMTTYPE=image/jpeg:https://centraldenver.com/wp-content/uploads/2024/05/Sandwich-3-300.jpg
END:VEVENT
BEGIN:VEVENT
DTSTART;TZID=America/Denver:20240603T190000
DTEND;TZID=America/Denver:20240603T200000
DTSTAMP:20260421T065731
CREATED:20240514T210158Z
LAST-MODIFIED:20240514T210158Z
UID:10001662-1717441200-1717444800@centraldenver.com
SUMMARY:Ensemble Charité: Schubert Reimagined
DESCRIPTION:Save the Date for this upcoming concert benefitting The Preservery Foundation. Featuring selections from Franz Schubert’s Winterreise arranged for string quartet and voice. \nEnsemble Charité is a not-for-profit organization with both charitable and musical ambitions. The concept is to perform concerts\, most of which I will conduct\, of different size ensembles depending on the repertoire\, including full chamber orchestra\, string quartets\, or string chamber orchestras. There will be a mix of professional leadership\, and pre-professionals gaining experience. The orchestra and overhead of the performances will be funded by donations. The concerts will take place in the cities of the chosen charity\, and will optimize for using local musicians. 100% of the ticket proceeds will go to the charity. Eventually\, we would like to have concerts all over the world\, raising money for a variety of charitable organizations.
URL:https://centraldenver.com/event/ensemble-charite-schubert-reimagined/
LOCATION:Central Presbyterian Church\, 1660 Sherman St\, Denver\, CO\, United States
CATEGORIES:Community Events,Concerts
ATTACH;FMTTYPE=image/jpeg:https://centraldenver.com/wp-content/uploads/2023/10/MichelleDeYoung.jpg
END:VEVENT
END:VCALENDAR