BEGIN:VCALENDAR
VERSION:2.0
PRODID:-//Central Presbyterian Church Denver - ECPv6.15.20//NONSGML v1.0//EN
CALSCALE:GREGORIAN
METHOD:PUBLISH
X-ORIGINAL-URL:https://centraldenver.com
X-WR-CALDESC:Events for Central Presbyterian Church Denver
REFRESH-INTERVAL;VALUE=DURATION:PT1H
X-Robots-Tag:noindex
X-PUBLISHED-TTL:PT1H
BEGIN:VTIMEZONE
TZID:America/Denver
BEGIN:DAYLIGHT
TZOFFSETFROM:-0700
TZOFFSETTO:-0600
TZNAME:MDT
DTSTART:20240310T090000
END:DAYLIGHT
BEGIN:STANDARD
TZOFFSETFROM:-0600
TZOFFSETTO:-0700
TZNAME:MST
DTSTART:20241103T080000
END:STANDARD
BEGIN:DAYLIGHT
TZOFFSETFROM:-0700
TZOFFSETTO:-0600
TZNAME:MDT
DTSTART:20250309T090000
END:DAYLIGHT
BEGIN:STANDARD
TZOFFSETFROM:-0600
TZOFFSETTO:-0700
TZNAME:MST
DTSTART:20251102T080000
END:STANDARD
BEGIN:DAYLIGHT
TZOFFSETFROM:-0700
TZOFFSETTO:-0600
TZNAME:MDT
DTSTART:20260308T090000
END:DAYLIGHT
BEGIN:STANDARD
TZOFFSETFROM:-0600
TZOFFSETTO:-0700
TZNAME:MST
DTSTART:20261101T080000
END:STANDARD
END:VTIMEZONE
BEGIN:VEVENT
DTSTART;TZID=America/Denver:20250201T100000
DTEND;TZID=America/Denver:20250201T160000
DTSTAMP:20260421T153405
CREATED:20250117T162848Z
LAST-MODIFIED:20250117T162939Z
UID:10001817-1738404000-1738425600@centraldenver.com
SUMMARY:Heartbeat Denver Working Men’s Shelter Open House
DESCRIPTION:Celebrate our 2nd Anniversary with us \non Saturday\, February 1st from 10am – 4pm                      \nRefreshments will be served and all are welcome!
URL:https://centraldenver.com/event/heartbeat-denver-working-mens-shelter-open-house/
LOCATION:CO
CATEGORIES:Adult Ministries,Community Events,Service & Volunteer Opportunies
ATTACH;FMTTYPE=image/png:https://centraldenver.com/wp-content/uploads/2023/06/HBDWMS.png
END:VEVENT
BEGIN:VEVENT
DTSTART;TZID=America/Denver:20250202T103000
DTEND;TZID=America/Denver:20250202T113000
DTSTAMP:20260421T153405
CREATED:20250128T215903Z
LAST-MODIFIED:20250128T215903Z
UID:10001818-1738492200-1738495800@centraldenver.com
SUMMARY:Worship at Central Presbyterian Church
DESCRIPTION:Text:  Isaiah 66:10-14; Jeremiah 29:1-5\, 11\n\n\nNow What Do We Do? — Dee Cooper\, Lead Presbyter\, Denver Presbytery\n\n\nSpecial Music: Brook Ferguson\, flute; Mallory Bernstein\, piano
URL:https://centraldenver.com/event/worship-at-central-presbyterian-church-87/
LOCATION:Central Presbyterian Church\, 1660 Sherman St\, Denver\, CO\, United States
CATEGORIES:Adult Ministries,Community Events,Worship
ATTACH;FMTTYPE=image/jpeg:https://centraldenver.com/wp-content/uploads/2023/08/cenpres.jpeg
END:VEVENT
BEGIN:VEVENT
DTSTART;TZID=America/Denver:20250205T190000
DTEND;TZID=America/Denver:20250205T203000
DTSTAMP:20260421T153405
CREATED:20240820T193944Z
LAST-MODIFIED:20250204T220749Z
UID:10001945-1738782000-1738787400@centraldenver.com
SUMMARY:Chancel Choir Practice
DESCRIPTION:
URL:https://centraldenver.com/event/chancel-choir-practice-6/2025-02-05/
LOCATION:Central Presbyterian Church\, 1660 Sherman St\, Denver\, CO\, United States
CATEGORIES:Adult Ministries,Holiday & Special Services,Music & Choirs,Worship
ATTACH;FMTTYPE=image/jpeg:https://centraldenver.com/wp-content/uploads/2024/08/This-Is-The-Day-.-Glenn-Ross-15.jpg
END:VEVENT
BEGIN:VEVENT
DTSTART;TZID=America/Denver:20250206T190000
DTEND;TZID=America/Denver:20250206T200000
DTSTAMP:20260421T153405
CREATED:20230925T181621Z
LAST-MODIFIED:20250204T173945Z
UID:10001351-1738868400-1738872000@centraldenver.com
SUMMARY:Theology on Tap
DESCRIPTION:Theology on Tap\nThursdays\, 7:00PM\nWe get together online and in person at local breweries to discuss questions of faith. Please contact Josh Trimble (trimjosh@gmail.com) to be added to the email list for current topics and location information.
URL:https://centraldenver.com/event/theology-on-tap-event-series/2025-02-06/
LOCATION:Various\, CO\, United States
ATTACH;FMTTYPE=image/jpeg:https://centraldenver.com/wp-content/uploads/2023/09/pexels-pavel-danilyuk-5858064.jpg
END:VEVENT
BEGIN:VEVENT
DTSTART;TZID=America/Denver:20250209T103000
DTEND;TZID=America/Denver:20250209T113000
DTSTAMP:20260421T153405
CREATED:20250204T180648Z
LAST-MODIFIED:20250204T180648Z
UID:10001893-1739097000-1739100600@centraldenver.com
SUMMARY:Worship at Central Presbyterian Church
DESCRIPTION:Text: Galatians 3:23-29 and I John 4:7-8\n\nWho Am I\, Who Are You\, Who Are We? — Rev. Tim Mooney\n\nSpecial Music: Katie Burns\, cello; Mallory Bernstein\, piano
URL:https://centraldenver.com/event/worship-at-central-presbyterian-church-88/
LOCATION:Central Presbyterian Church\, 1660 Sherman St\, Denver\, CO\, United States
CATEGORIES:Adult Ministries,Community Events,Worship
ATTACH;FMTTYPE=image/jpeg:https://centraldenver.com/wp-content/uploads/2023/08/cenpres.jpeg
END:VEVENT
BEGIN:VEVENT
DTSTART;TZID=America/Denver:20250212T190000
DTEND;TZID=America/Denver:20250212T203000
DTSTAMP:20260421T153405
CREATED:20240820T193944Z
LAST-MODIFIED:20250204T220749Z
UID:10001946-1739386800-1739392200@centraldenver.com
SUMMARY:Chancel Choir Practice
DESCRIPTION:
URL:https://centraldenver.com/event/chancel-choir-practice-6/2025-02-12/
LOCATION:Central Presbyterian Church\, 1660 Sherman St\, Denver\, CO\, United States
CATEGORIES:Adult Ministries,Holiday & Special Services,Music & Choirs,Worship
ATTACH;FMTTYPE=image/jpeg:https://centraldenver.com/wp-content/uploads/2024/08/This-Is-The-Day-.-Glenn-Ross-15.jpg
END:VEVENT
BEGIN:VEVENT
DTSTART;TZID=America/Denver:20250213T100000
DTEND;TZID=America/Denver:20250213T113000
DTSTAMP:20260421T153405
CREATED:20240805T190839Z
LAST-MODIFIED:20240805T190841Z
UID:10001698-1739440800-1739446200@centraldenver.com
SUMMARY:Women's Bible Study
DESCRIPTION:Women’s Bible Study \nMonthly on the second Thursday 10:00 – 11:30am \nLocation: \nhttps://us02web.zoom.us/j/83090293373?pwd=OXdoQXpzQzdoOFFYOUJ6dkVIRHp6QT09
URL:https://centraldenver.com/event/womens-bible-study-2-2/2025-02-13/
LOCATION:Online\, Online
CATEGORIES:Adult Ministries
ATTACH;FMTTYPE=image/jpeg:https://centraldenver.com/wp-content/uploads/2023/08/Bible-Study.jpeg
END:VEVENT
BEGIN:VEVENT
DTSTART;TZID=America/Denver:20250213T190000
DTEND;TZID=America/Denver:20250213T200000
DTSTAMP:20260421T153405
CREATED:20230925T181621Z
LAST-MODIFIED:20250204T173945Z
UID:10001352-1739473200-1739476800@centraldenver.com
SUMMARY:Theology on Tap
DESCRIPTION:Theology on Tap\nThursdays\, 7:00PM\nWe get together online and in person at local breweries to discuss questions of faith. Please contact Josh Trimble (trimjosh@gmail.com) to be added to the email list for current topics and location information.
URL:https://centraldenver.com/event/theology-on-tap-event-series/2025-02-13/
LOCATION:Various\, CO\, United States
ATTACH;FMTTYPE=image/jpeg:https://centraldenver.com/wp-content/uploads/2023/09/pexels-pavel-danilyuk-5858064.jpg
END:VEVENT
BEGIN:VEVENT
DTSTART;TZID=America/Denver:20250215T193000
DTEND;TZID=America/Denver:20250215T213000
DTSTAMP:20260421T153405
CREATED:20240821T193655Z
LAST-MODIFIED:20240821T193655Z
UID:10001750-1739647800-1739655000@centraldenver.com
SUMMARY:Happily Ever After with the Denver Philharmonic Orchestra
DESCRIPTION:Love is in the Air\nCelebrate Valentine’s Day weekend with our enchanting concert\, Happily Ever After: a magical musical journey that will sweep you off your feet! In conjunction with our 5th International Conducting Competition and Workshop\, conductors from around the globe will take the stage to lead the DPO. \nIt’s a real speed dating situation as the orchestra and conductors embark on a thrilling musical courtship together. Skills\, talent\, and chemistry will be put to the test; each movement of the program helmed by a different conductor\, culminating in an eclectic mix of musical styles and interpretations. \nUnder the guidance of our Music Director Laureate\, Maestro Lawrence Golan\, these talented individuals will vie for the chance to return and lead the orchestra next season! Who will win the hearts of the audience and claim their musical Happily Ever After? Find out live this February! \n\nLudwig van Beethoven\nFidelio Overture \nNancy Ives\nImmortal Beloved \nLudwig van Beethoven\nSymphony No. 7 in A Major \n— \nString Ensemble Performance: \nGustav Holst\nSt. Paul’s Suite \nGeorg Philipp Telemann\nViola Concerto \nPyotr Ilyich Tchaikovsky\nSerenade for Strings
URL:https://centraldenver.com/event/happily-ever-after-with-the-denver-philharmonic-orchestra/
LOCATION:Central Presbyterian Church\, 1660 Sherman St\, Denver\, CO\, United States
CATEGORIES:Community Events,Concerts
ATTACH;FMTTYPE=image/jpeg:https://centraldenver.com/wp-content/uploads/2024/08/DPO-Happily-Hero.jpg
END:VEVENT
BEGIN:VEVENT
DTSTART;TZID=America/Denver:20250216T103000
DTEND;TZID=America/Denver:20250216T113000
DTSTAMP:20260421T153405
CREATED:20250211T224225Z
LAST-MODIFIED:20250211T224225Z
UID:10001903-1739701800-1739705400@centraldenver.com
SUMMARY:Worship at Central Presbyterian Church
DESCRIPTION:Text: Genesis 45:1-15; Matthew 25:20-30\n\n\nEmbrace What Is\, and Do Something— Rev. Tim Mooney \n\n\nSpecial Music: Elizabeth Healy\, baritone; Mallory Bernstein\, piano
URL:https://centraldenver.com/event/worship-at-central-presbyterian-church-89/
LOCATION:Central Presbyterian Church\, 1660 Sherman St\, Denver\, CO\, United States
CATEGORIES:Adult Ministries,Community Events,Worship
ATTACH;FMTTYPE=image/jpeg:https://centraldenver.com/wp-content/uploads/2023/08/cenpres.jpeg
END:VEVENT
BEGIN:VEVENT
DTSTART;TZID=America/Denver:20250219T190000
DTEND;TZID=America/Denver:20250219T203000
DTSTAMP:20260421T153405
CREATED:20240820T193944Z
LAST-MODIFIED:20250204T220749Z
UID:10001729-1739991600-1739997000@centraldenver.com
SUMMARY:Chancel Choir Practice
DESCRIPTION:
URL:https://centraldenver.com/event/chancel-choir-practice-6/2025-02-19/
LOCATION:Central Presbyterian Church\, 1660 Sherman St\, Denver\, CO\, United States
CATEGORIES:Adult Ministries,Holiday & Special Services,Music & Choirs,Worship
ATTACH;FMTTYPE=image/jpeg:https://centraldenver.com/wp-content/uploads/2024/08/This-Is-The-Day-.-Glenn-Ross-15.jpg
END:VEVENT
BEGIN:VEVENT
DTSTART;TZID=America/Denver:20250220T190000
DTEND;TZID=America/Denver:20250220T200000
DTSTAMP:20260421T153405
CREATED:20230925T181621Z
LAST-MODIFIED:20250204T173945Z
UID:10001353-1740078000-1740081600@centraldenver.com
SUMMARY:Theology on Tap
DESCRIPTION:Theology on Tap\nThursdays\, 7:00PM\nWe get together online and in person at local breweries to discuss questions of faith. Please contact Josh Trimble (trimjosh@gmail.com) to be added to the email list for current topics and location information.
URL:https://centraldenver.com/event/theology-on-tap-event-series/2025-02-20/
LOCATION:Various\, CO\, United States
ATTACH;FMTTYPE=image/jpeg:https://centraldenver.com/wp-content/uploads/2023/09/pexels-pavel-danilyuk-5858064.jpg
END:VEVENT
BEGIN:VEVENT
DTSTART;TZID=America/Denver:20250221T190000
DTEND;TZID=America/Denver:20250221T210000
DTSTAMP:20260421T153405
CREATED:20241228T032719Z
LAST-MODIFIED:20241228T032719Z
UID:10001814-1740164400-1740171600@centraldenver.com
SUMMARY:Colorado Bach Ensemble Presents St. Matthew Passion\, BWV 244
DESCRIPTION:Composed in 1727\, Matthäus-Passion (“St. Matthew Passion”)\, BWV 244\, stands as one of the greatest achievements in Western classical music. Performed several times in Bach’s lifetime\, it has endured as a testament to Bach’s compositional genius. This sacred oratorio\, written for soloists\, double choir\, and double orchestra\, vividly depicts the Passion of Christ according to the Gospel of Matthew.  Six soloists tell the story: a tenor singing the role of the Evangelist\, a bass depicting the role of Jesus\, and 4 additional soloists singing the solo arias.  A small ripieno chorus sings the chorale melody in the first and the last movement of the first half of the piece. \nIts intricate structure and profound emotional depth convey the narrative with secco recitative\, fluid obbligato\, and crisp contrapuntal harmonies both between the chorus and orchestra\, and between each double ensemble. Renowned for its sublime beauty\, spiritual intensity\, and sophisticated use of musical techniques\, the work reflects Bach’s deep faith and unmatched compositional genius. \nFeaturing Dann Coakwell as the Evangelist\, Andrew Garland as Jesus\, and all other soloists will sing the arias.
URL:https://centraldenver.com/event/colorado-bach-ensemble-presents-st-matthew-passion-bwv-244/
LOCATION:Central Presbyterian Church\, 1660 Sherman St\, Denver\, CO\, United States
CATEGORIES:Community Events,Concerts,Music & Choirs
ATTACH;FMTTYPE=image/jpeg:https://centraldenver.com/wp-content/uploads/2024/12/St-Matthew-Passion.jpg
END:VEVENT
BEGIN:VEVENT
DTSTART;TZID=America/Denver:20250223T103000
DTEND;TZID=America/Denver:20250223T113000
DTSTAMP:20260421T153405
CREATED:20250211T224339Z
LAST-MODIFIED:20250211T224339Z
UID:10001904-1740306600-1740310200@centraldenver.com
SUMMARY:Worship at Central Presbyterian Church
DESCRIPTION:
URL:https://centraldenver.com/event/worship-at-central-presbyterian-church-90/
LOCATION:Central Presbyterian Church\, 1660 Sherman St\, Denver\, CO\, United States
CATEGORIES:Adult Ministries,Community Events,Worship
ATTACH;FMTTYPE=image/jpeg:https://centraldenver.com/wp-content/uploads/2023/08/cenpres.jpeg
END:VEVENT
BEGIN:VEVENT
DTSTART;TZID=America/Denver:20250226T190000
DTEND;TZID=America/Denver:20250226T203000
DTSTAMP:20260421T153405
CREATED:20240820T193944Z
LAST-MODIFIED:20250204T220749Z
UID:10001730-1740596400-1740601800@centraldenver.com
SUMMARY:Chancel Choir Practice
DESCRIPTION:
URL:https://centraldenver.com/event/chancel-choir-practice-6/2025-02-26/
LOCATION:Central Presbyterian Church\, 1660 Sherman St\, Denver\, CO\, United States
CATEGORIES:Adult Ministries,Holiday & Special Services,Music & Choirs,Worship
ATTACH;FMTTYPE=image/jpeg:https://centraldenver.com/wp-content/uploads/2024/08/This-Is-The-Day-.-Glenn-Ross-15.jpg
END:VEVENT
BEGIN:VEVENT
DTSTART;TZID=America/Denver:20250227T190000
DTEND;TZID=America/Denver:20250227T200000
DTSTAMP:20260421T153405
CREATED:20230925T181621Z
LAST-MODIFIED:20250204T173945Z
UID:10001354-1740682800-1740686400@centraldenver.com
SUMMARY:Theology on Tap
DESCRIPTION:Theology on Tap\nThursdays\, 7:00PM\nWe get together online and in person at local breweries to discuss questions of faith. Please contact Josh Trimble (trimjosh@gmail.com) to be added to the email list for current topics and location information.
URL:https://centraldenver.com/event/theology-on-tap-event-series/2025-02-27/
LOCATION:Various\, CO\, United States
ATTACH;FMTTYPE=image/jpeg:https://centraldenver.com/wp-content/uploads/2023/09/pexels-pavel-danilyuk-5858064.jpg
END:VEVENT
BEGIN:VEVENT
DTSTART;TZID=America/Denver:20250302T103000
DTEND;TZID=America/Denver:20250302T113000
DTSTAMP:20260421T153405
CREATED:20250225T215227Z
LAST-MODIFIED:20250225T215227Z
UID:10001906-1740911400-1740915000@centraldenver.com
SUMMARY:Worship at Central Presbyterian Church
DESCRIPTION:Text: Genesis 22:1-18\, Matthew 17:1-8\n\nDay By Day — Rev. Tim Mooney\n\nSpecial Music: The Chancel Choir\, Joshua Sawicki\, piano
URL:https://centraldenver.com/event/worship-at-central-presbyterian-church-91/
LOCATION:Central Presbyterian Church\, 1660 Sherman St\, Denver\, CO\, United States
CATEGORIES:Adult Ministries,Community Events,Worship
ATTACH;FMTTYPE=image/jpeg:https://centraldenver.com/wp-content/uploads/2023/08/cenpres.jpeg
END:VEVENT
BEGIN:VEVENT
DTSTART;TZID=America/Denver:20250304T173000
DTEND;TZID=America/Denver:20250304T190000
DTSTAMP:20260421T153405
CREATED:20250205T162136Z
LAST-MODIFIED:20250218T215510Z
UID:10001902-1741109400-1741114800@centraldenver.com
SUMMARY:Save the Date: Pancake Dinner
DESCRIPTION:Tuesday\, March 4 at 5:30 pm\, Wellshire Presbyterian Church (2999 South Colorado Blvd.)\, Fellowship Hall \nSupport Habitat for Humanity by eating pancakes! Shrove Tuesday is the last day before Lent begins. \nActivities include pancake races and flipping contests. \nQuestions: molly@centraldenver.com
URL:https://centraldenver.com/event/save-the-date/
LOCATION:CO
CATEGORIES:Adult Ministries,Community Events,Family Ministries,Service & Volunteer Opportunies
ATTACH;FMTTYPE=image/jpeg:https://centraldenver.com/wp-content/uploads/2025/02/homemade-pancake-mix-recipe-from-scratch-7-e1738772558356.jpg
END:VEVENT
BEGIN:VEVENT
DTSTART;TZID=America/Denver:20250305T180000
DTEND;TZID=America/Denver:20250305T190000
DTSTAMP:20260421T153405
CREATED:20250225T215449Z
LAST-MODIFIED:20250225T215449Z
UID:10001907-1741197600-1741201200@centraldenver.com
SUMMARY:Ash Wednesday Service
DESCRIPTION:Join us from 6-6:45PM at Central on March 5 for an Ash Wednesday Service\nRev. Tim Mooney will lead an Ash Wednesday service in the sanctuary\nfor meditation and reflection as we begin the Lenten Season.
URL:https://centraldenver.com/event/ash-wednesday-service-3/
LOCATION:Central Presbyterian Church\, 1660 Sherman St\, Denver\, CO\, United States
CATEGORIES:Adult Ministries,Community Events,Family Ministries,Holiday & Special Services,Worship
ATTACH;FMTTYPE=image/jpeg:https://centraldenver.com/wp-content/uploads/2024/02/Lentimage.jpg
END:VEVENT
BEGIN:VEVENT
DTSTART;TZID=America/Denver:20250305T190000
DTEND;TZID=America/Denver:20250305T203000
DTSTAMP:20260421T153405
CREATED:20240820T193944Z
LAST-MODIFIED:20250204T220749Z
UID:10001731-1741201200-1741206600@centraldenver.com
SUMMARY:Chancel Choir Practice
DESCRIPTION:
URL:https://centraldenver.com/event/chancel-choir-practice-6/2025-03-05/
LOCATION:Central Presbyterian Church\, 1660 Sherman St\, Denver\, CO\, United States
CATEGORIES:Adult Ministries,Holiday & Special Services,Music & Choirs,Worship
ATTACH;FMTTYPE=image/jpeg:https://centraldenver.com/wp-content/uploads/2024/08/This-Is-The-Day-.-Glenn-Ross-15.jpg
END:VEVENT
BEGIN:VEVENT
DTSTART;TZID=America/Denver:20250306T190000
DTEND;TZID=America/Denver:20250306T200000
DTSTAMP:20260421T153405
CREATED:20230925T181621Z
LAST-MODIFIED:20250204T173945Z
UID:10001355-1741287600-1741291200@centraldenver.com
SUMMARY:Theology on Tap
DESCRIPTION:Theology on Tap\nThursdays\, 7:00PM\nWe get together online and in person at local breweries to discuss questions of faith. Please contact Josh Trimble (trimjosh@gmail.com) to be added to the email list for current topics and location information.
URL:https://centraldenver.com/event/theology-on-tap-event-series/2025-03-06/
LOCATION:Various\, CO\, United States
ATTACH;FMTTYPE=image/jpeg:https://centraldenver.com/wp-content/uploads/2023/09/pexels-pavel-danilyuk-5858064.jpg
END:VEVENT
BEGIN:VEVENT
DTSTART;TZID=America/Denver:20250309T103000
DTEND;TZID=America/Denver:20250309T113000
DTSTAMP:20260421T153405
CREATED:20250320T194445Z
LAST-MODIFIED:20250320T194445Z
UID:10001953-1741516200-1741519800@centraldenver.com
SUMMARY:Worship at Central Presbyterian Church
DESCRIPTION:
URL:https://centraldenver.com/event/worship-at-central-presbyterian-church-95/
LOCATION:Central Presbyterian Church\, 1660 Sherman St\, Denver\, CO\, United States
CATEGORIES:Adult Ministries,Community Events,Worship
ATTACH;FMTTYPE=image/jpeg:https://centraldenver.com/wp-content/uploads/2023/08/cenpres.jpeg
END:VEVENT
BEGIN:VEVENT
DTSTART;TZID=America/Denver:20250312T190000
DTEND;TZID=America/Denver:20250312T203000
DTSTAMP:20260421T153405
CREATED:20240820T193944Z
LAST-MODIFIED:20250204T220749Z
UID:10001732-1741806000-1741811400@centraldenver.com
SUMMARY:Chancel Choir Practice
DESCRIPTION:
URL:https://centraldenver.com/event/chancel-choir-practice-6/2025-03-12/
LOCATION:Central Presbyterian Church\, 1660 Sherman St\, Denver\, CO\, United States
CATEGORIES:Adult Ministries,Holiday & Special Services,Music & Choirs,Worship
ATTACH;FMTTYPE=image/jpeg:https://centraldenver.com/wp-content/uploads/2024/08/This-Is-The-Day-.-Glenn-Ross-15.jpg
END:VEVENT
BEGIN:VEVENT
DTSTART;TZID=America/Denver:20250313T100000
DTEND;TZID=America/Denver:20250313T113000
DTSTAMP:20260421T153405
CREATED:20240805T190839Z
LAST-MODIFIED:20240805T190841Z
UID:10001699-1741860000-1741865400@centraldenver.com
SUMMARY:Women's Bible Study
DESCRIPTION:Women’s Bible Study \nMonthly on the second Thursday 10:00 – 11:30am \nLocation: \nhttps://us02web.zoom.us/j/83090293373?pwd=OXdoQXpzQzdoOFFYOUJ6dkVIRHp6QT09
URL:https://centraldenver.com/event/womens-bible-study-2-2/2025-03-13/
LOCATION:Online\, Online
CATEGORIES:Adult Ministries
ATTACH;FMTTYPE=image/jpeg:https://centraldenver.com/wp-content/uploads/2023/08/Bible-Study.jpeg
END:VEVENT
BEGIN:VEVENT
DTSTART;TZID=America/Denver:20250313T190000
DTEND;TZID=America/Denver:20250313T200000
DTSTAMP:20260421T153405
CREATED:20230925T181621Z
LAST-MODIFIED:20250204T173945Z
UID:10001356-1741892400-1741896000@centraldenver.com
SUMMARY:Theology on Tap
DESCRIPTION:Theology on Tap\nThursdays\, 7:00PM\nWe get together online and in person at local breweries to discuss questions of faith. Please contact Josh Trimble (trimjosh@gmail.com) to be added to the email list for current topics and location information.
URL:https://centraldenver.com/event/theology-on-tap-event-series/2025-03-13/
LOCATION:Various\, CO\, United States
ATTACH;FMTTYPE=image/jpeg:https://centraldenver.com/wp-content/uploads/2023/09/pexels-pavel-danilyuk-5858064.jpg
END:VEVENT
BEGIN:VEVENT
DTSTART;TZID=America/Denver:20250316T103000
DTEND;TZID=America/Denver:20250316T113000
DTSTAMP:20260421T153405
CREATED:20250303T221314Z
LAST-MODIFIED:20250320T193942Z
UID:10001949-1742121000-1742124600@centraldenver.com
SUMMARY:Worship at Central Presbyterian Church
DESCRIPTION:Text: Exodus 17:1-7; John 4:5-29\n\nLiving Water — Rev. Tim Mooney\n\nSpecial Music: Central Presbyterian’s Chancel Choir;  Mallory Bernstein\, piano
URL:https://centraldenver.com/event/worship-at-central-presbyterian-church-92/
LOCATION:Central Presbyterian Church\, 1660 Sherman St\, Denver\, CO\, United States
CATEGORIES:Adult Ministries,Community Events,Worship
ATTACH;FMTTYPE=image/jpeg:https://centraldenver.com/wp-content/uploads/2023/08/cenpres.jpeg
END:VEVENT
BEGIN:VEVENT
DTSTART;TZID=America/Denver:20250319T190000
DTEND;TZID=America/Denver:20250319T203000
DTSTAMP:20260421T153405
CREATED:20240820T193944Z
LAST-MODIFIED:20250204T220749Z
UID:10001733-1742410800-1742416200@centraldenver.com
SUMMARY:Chancel Choir Practice
DESCRIPTION:
URL:https://centraldenver.com/event/chancel-choir-practice-6/2025-03-19/
LOCATION:Central Presbyterian Church\, 1660 Sherman St\, Denver\, CO\, United States
CATEGORIES:Adult Ministries,Holiday & Special Services,Music & Choirs,Worship
ATTACH;FMTTYPE=image/jpeg:https://centraldenver.com/wp-content/uploads/2024/08/This-Is-The-Day-.-Glenn-Ross-15.jpg
END:VEVENT
BEGIN:VEVENT
DTSTART;TZID=America/Denver:20250320T190000
DTEND;TZID=America/Denver:20250320T200000
DTSTAMP:20260421T153405
CREATED:20230925T181621Z
LAST-MODIFIED:20250204T173945Z
UID:10001357-1742497200-1742500800@centraldenver.com
SUMMARY:Theology on Tap
DESCRIPTION:Theology on Tap\nThursdays\, 7:00PM\nWe get together online and in person at local breweries to discuss questions of faith. Please contact Josh Trimble (trimjosh@gmail.com) to be added to the email list for current topics and location information.
URL:https://centraldenver.com/event/theology-on-tap-event-series/2025-03-20/
LOCATION:Various\, CO\, United States
ATTACH;FMTTYPE=image/jpeg:https://centraldenver.com/wp-content/uploads/2023/09/pexels-pavel-danilyuk-5858064.jpg
END:VEVENT
BEGIN:VEVENT
DTSTART;TZID=America/Denver:20250323T103000
DTEND;TZID=America/Denver:20250323T113000
DTSTAMP:20260421T153405
CREATED:20250320T194258Z
LAST-MODIFIED:20250320T194258Z
UID:10001951-1742725800-1742729400@centraldenver.com
SUMMARY:Worship at Central Presbyterian Church
DESCRIPTION:Text: Mark 2:1-12\n\nRaise the Roof — Rev. Tim Mooney\n\nSpecial Music: Central Presbyterian’s Chancel Choir; Katie Burns\, cello; Mallory Bernstein\, piano
URL:https://centraldenver.com/event/worship-at-central-presbyterian-church-93/
LOCATION:Central Presbyterian Church\, 1660 Sherman St\, Denver\, CO\, United States
CATEGORIES:Adult Ministries,Community Events,Worship
ATTACH;FMTTYPE=image/jpeg:https://centraldenver.com/wp-content/uploads/2023/08/cenpres.jpeg
END:VEVENT
BEGIN:VEVENT
DTSTART;TZID=America/Denver:20250323T114500
DTEND;TZID=America/Denver:20250323T130000
DTSTAMP:20260421T153405
CREATED:20250320T194655Z
LAST-MODIFIED:20250320T194655Z
UID:10001954-1742730300-1742734800@centraldenver.com
SUMMARY:Giving Up Gun Violence – Lenten Faith Formation Series
DESCRIPTION:3/23 — Guns and Domestic Violence: A Taboo Topic\n4/6   — Guns\, Race and Racism\n4/13 — Unmasking the Powers of Guns and Money leading us to Action: Creating a New World \nJoin Central’s Gun Violence Prevention Team for a series of classes after Worship in the East Classroom. We will explore data about gun violence\, placing it in a Christian context. How are we called to impact the explosive and reverberating effects of gun violence in our communities? PCUSA has identified gun violence as an important issue to address this decade. We know this topic is uncomfortable\, but many of us have already been impacted by gun violence and the rest of us are at risk. Give up your discomfort\, and hopefully you will be moved to action on this topic.
URL:https://centraldenver.com/event/giving-up-gun-violence-lenten-faith-formation-series/
LOCATION:CO
CATEGORIES:Adult Ministries,Community Events,Service & Volunteer Opportunies
END:VEVENT
END:VCALENDAR