BEGIN:VCALENDAR
VERSION:2.0
PRODID:-//Central Presbyterian Church Denver - ECPv6.15.20//NONSGML v1.0//EN
CALSCALE:GREGORIAN
METHOD:PUBLISH
X-ORIGINAL-URL:https://centraldenver.com
X-WR-CALDESC:Events for Central Presbyterian Church Denver
REFRESH-INTERVAL;VALUE=DURATION:PT1H
X-Robots-Tag:noindex
X-PUBLISHED-TTL:PT1H
BEGIN:VTIMEZONE
TZID:America/Denver
BEGIN:DAYLIGHT
TZOFFSETFROM:-0700
TZOFFSETTO:-0600
TZNAME:MDT
DTSTART:20230312T090000
END:DAYLIGHT
BEGIN:STANDARD
TZOFFSETFROM:-0600
TZOFFSETTO:-0700
TZNAME:MST
DTSTART:20231105T080000
END:STANDARD
BEGIN:DAYLIGHT
TZOFFSETFROM:-0700
TZOFFSETTO:-0600
TZNAME:MDT
DTSTART:20240310T090000
END:DAYLIGHT
BEGIN:STANDARD
TZOFFSETFROM:-0600
TZOFFSETTO:-0700
TZNAME:MST
DTSTART:20241103T080000
END:STANDARD
BEGIN:DAYLIGHT
TZOFFSETFROM:-0700
TZOFFSETTO:-0600
TZNAME:MDT
DTSTART:20250309T090000
END:DAYLIGHT
BEGIN:STANDARD
TZOFFSETFROM:-0600
TZOFFSETTO:-0700
TZNAME:MST
DTSTART:20251102T080000
END:STANDARD
END:VTIMEZONE
BEGIN:VEVENT
DTSTART;TZID=America/Denver:20240317T103000
DTEND;TZID=America/Denver:20240317T113000
DTSTAMP:20260422T093855
CREATED:20240313T192925Z
LAST-MODIFIED:20240313T192958Z
UID:10001624-1710671400-1710675000@centraldenver.com
SUMMARY:Worship at Central Presbyterian Church
DESCRIPTION:Pastor Louise Westfall —Towards a Wholehearted Faith (5): Living Water — John 12:1-8 \nSpecial music by Woodwind Quintet and Mallory Bernstein\, piano
URL:https://centraldenver.com/event/worship-at-central-presbyterian-church-44/
LOCATION:Central Presbyterian Church\, 1660 Sherman St\, Denver\, CO\, United States
CATEGORIES:Community Events,Worship
ATTACH;FMTTYPE=image/jpeg:https://centraldenver.com/wp-content/uploads/2024/03/Chancel-Choir-with-Janinah-Burnett-91.jpg
END:VEVENT
BEGIN:VEVENT
DTSTART;TZID=America/Denver:20240320T190000
DTEND;TZID=America/Denver:20240320T203000
DTSTAMP:20260422T093855
CREATED:20230905T161344Z
LAST-MODIFIED:20231128T174459Z
UID:10001653-1710961200-1710966600@centraldenver.com
SUMMARY:Chancel Choir Practice
DESCRIPTION:
URL:https://centraldenver.com/event/chancel-choir-practice/2024-03-20/
LOCATION:Central Presbyterian Church\, 1660 Sherman St\, Denver\, CO\, United States
CATEGORIES:Adult Ministries,Holiday & Special Services,Music & Choirs,Worship
ATTACH;FMTTYPE=image/jpeg:https://centraldenver.com/wp-content/uploads/2023/09/Chancel-Choir-with-Janinah-Burnett-120.jpg
END:VEVENT
BEGIN:VEVENT
DTSTART;TZID=America/Denver:20240321T190000
DTEND;TZID=America/Denver:20240321T200000
DTSTAMP:20260422T093855
CREATED:20230925T181621Z
LAST-MODIFIED:20250204T173945Z
UID:10001305-1711047600-1711051200@centraldenver.com
SUMMARY:Theology on Tap
DESCRIPTION:Theology on Tap\nThursdays\, 7:00PM\nWe get together online and in person at local breweries to discuss questions of faith. Please contact Josh Trimble (trimjosh@gmail.com) to be added to the email list for current topics and location information.
URL:https://centraldenver.com/event/theology-on-tap-event-series/2024-03-21/
LOCATION:Various\, CO\, United States
ATTACH;FMTTYPE=image/jpeg:https://centraldenver.com/wp-content/uploads/2023/09/pexels-pavel-danilyuk-5858064.jpg
END:VEVENT
BEGIN:VEVENT
DTSTART;TZID=America/Denver:20240324T103000
DTEND;TZID=America/Denver:20240324T113000
DTSTAMP:20260422T093855
CREATED:20240321T192400Z
LAST-MODIFIED:20240321T192515Z
UID:10001625-1711276200-1711279800@centraldenver.com
SUMMARY:Worship at Central Presbyterian Church
DESCRIPTION:Palm/Passion Sunday \nThis Sunday\, please join in Central’s Palm Procession around the block. Gather in the Narthex by 10:10am to select palm fronds to wave. We will depart Central at 10:15am\, circle the block\, regroup in the Narthex before processing into the Sanctuary. \n10:30am – Worship in the Sanctuary\nSermon: Scenes from Jesus’ Passion \nSpecial music by Central Presbyterian Bell Choir\, Lisa Phillips\, Director; Mallory Bernstein\, piano
URL:https://centraldenver.com/event/worship-at-central-presbyterian-church-45/
LOCATION:Central Presbyterian Church\, 1660 Sherman St\, Denver\, CO\, United States
CATEGORIES:Community Events,Worship
ATTACH;FMTTYPE=image/jpeg:https://centraldenver.com/wp-content/uploads/2024/03/EasterService_CPC_GlennRoss-9.jpg
END:VEVENT
BEGIN:VEVENT
DTSTART;TZID=America/Denver:20240327T190000
DTEND;TZID=America/Denver:20240327T203000
DTSTAMP:20260422T093855
CREATED:20230905T161344Z
LAST-MODIFIED:20231128T174459Z
UID:10000885-1711566000-1711571400@centraldenver.com
SUMMARY:Chancel Choir Practice
DESCRIPTION:
URL:https://centraldenver.com/event/chancel-choir-practice/2024-03-27/
LOCATION:Central Presbyterian Church\, 1660 Sherman St\, Denver\, CO\, United States
CATEGORIES:Adult Ministries,Holiday & Special Services,Music & Choirs,Worship
ATTACH;FMTTYPE=image/jpeg:https://centraldenver.com/wp-content/uploads/2023/09/Chancel-Choir-with-Janinah-Burnett-120.jpg
END:VEVENT
BEGIN:VEVENT
DTSTART;TZID=America/Denver:20240328T190000
DTEND;TZID=America/Denver:20240328T200000
DTSTAMP:20260422T093855
CREATED:20230925T181621Z
LAST-MODIFIED:20250204T173945Z
UID:10001306-1711652400-1711656000@centraldenver.com
SUMMARY:Theology on Tap
DESCRIPTION:Theology on Tap\nThursdays\, 7:00PM\nWe get together online and in person at local breweries to discuss questions of faith. Please contact Josh Trimble (trimjosh@gmail.com) to be added to the email list for current topics and location information.
URL:https://centraldenver.com/event/theology-on-tap-event-series/2024-03-28/
LOCATION:Various\, CO\, United States
ATTACH;FMTTYPE=image/jpeg:https://centraldenver.com/wp-content/uploads/2023/09/pexels-pavel-danilyuk-5858064.jpg
END:VEVENT
BEGIN:VEVENT
DTSTART;TZID=America/Denver:20240328T190000
DTEND;TZID=America/Denver:20240328T200000
DTSTAMP:20260422T093855
CREATED:20240328T225129Z
LAST-MODIFIED:20240328T225129Z
UID:10001627-1711652400-1711656000@centraldenver.com
SUMMARY:Maundy Thursday Communion
DESCRIPTION:We will gather for worship with Communion in the Chapel on Maundy Thursday\, March 28\, 7pm. “Maundy” is from the Latin root for commandment and refers to the “new commandment” Jesus gave his disciples to love one another through service. Please bring the nail you received on Ash Wednesday; there will also be nails available for use in worship.
URL:https://centraldenver.com/event/maundy-thursday-communion/
LOCATION:Central Presbyterian Church\, 1660 Sherman St\, Denver\, CO\, United States
CATEGORIES:Community Events,Holiday & Special Services,Worship
ATTACH;FMTTYPE=image/jpeg:https://centraldenver.com/wp-content/uploads/2024/02/Lentimage.jpg
END:VEVENT
BEGIN:VEVENT
DTSTART;TZID=America/Denver:20240330T193000
DTEND;TZID=America/Denver:20240330T213000
DTSTAMP:20260422T093855
CREATED:20230707T013032Z
LAST-MODIFIED:20240311T162651Z
UID:10000806-1711827000-1711834200@centraldenver.com
SUMMARY:Denver Philharmonic Orchestra:  Mountain Majesties
DESCRIPTION:Mark Mast\, principal guest conductor\nFeaturing the Bayerische Philharmonie Chorus\nEffinger: Landscape No. 3 \nElgar: From the Bavarian Highlands \nBruckner: Te Deum
URL:https://centraldenver.com/event/denver-philharmonic-orchestra-mountain-majesties/
LOCATION:Central Presbyterian Church\, 1660 Sherman St\, Denver\, CO\, United States
CATEGORIES:Concerts,Music & Choirs
ATTACH;FMTTYPE=image/jpeg:https://centraldenver.com/wp-content/uploads/2023/07/mountain.jpg
END:VEVENT
BEGIN:VEVENT
DTSTART;TZID=America/Denver:20240331T103000
DTEND;TZID=America/Denver:20240331T113000
DTSTAMP:20260422T093855
CREATED:20240307T200227Z
LAST-MODIFIED:20240307T200227Z
UID:10001622-1711881000-1711884600@centraldenver.com
SUMMARY:Easter Sunday at Central
DESCRIPTION:
URL:https://centraldenver.com/event/easter-sunday-at-central/
LOCATION:Central Presbyterian Church\, 1660 Sherman St\, Denver\, CO\, United States
CATEGORIES:Community Events,Concerts,Family Ministries,Holiday & Special Services,Music & Choirs,Worship
ATTACH;FMTTYPE=image/jpeg:https://centraldenver.com/wp-content/uploads/2024/03/CPC_EasterSunday_Poster-e1710185279911.jpg
END:VEVENT
BEGIN:VEVENT
DTSTART;TZID=America/Denver:20240403T190000
DTEND;TZID=America/Denver:20240403T203000
DTSTAMP:20260422T093855
CREATED:20230905T161344Z
LAST-MODIFIED:20231128T174459Z
UID:10001654-1712170800-1712176200@centraldenver.com
SUMMARY:Chancel Choir Practice
DESCRIPTION:
URL:https://centraldenver.com/event/chancel-choir-practice/2024-04-03/
LOCATION:Central Presbyterian Church\, 1660 Sherman St\, Denver\, CO\, United States
CATEGORIES:Adult Ministries,Holiday & Special Services,Music & Choirs,Worship
ATTACH;FMTTYPE=image/jpeg:https://centraldenver.com/wp-content/uploads/2023/09/Chancel-Choir-with-Janinah-Burnett-120.jpg
END:VEVENT
BEGIN:VEVENT
DTSTART;TZID=America/Denver:20240404T190000
DTEND;TZID=America/Denver:20240404T200000
DTSTAMP:20260422T093855
CREATED:20230925T181621Z
LAST-MODIFIED:20250204T173945Z
UID:10001307-1712257200-1712260800@centraldenver.com
SUMMARY:Theology on Tap
DESCRIPTION:Theology on Tap\nThursdays\, 7:00PM\nWe get together online and in person at local breweries to discuss questions of faith. Please contact Josh Trimble (trimjosh@gmail.com) to be added to the email list for current topics and location information.
URL:https://centraldenver.com/event/theology-on-tap-event-series/2024-04-04/
LOCATION:Various\, CO\, United States
ATTACH;FMTTYPE=image/jpeg:https://centraldenver.com/wp-content/uploads/2023/09/pexels-pavel-danilyuk-5858064.jpg
END:VEVENT
BEGIN:VEVENT
DTSTART;TZID=America/Denver:20240404T190000
DTEND;TZID=America/Denver:20240404T210000
DTSTAMP:20260422T093855
CREATED:20240307T195711Z
LAST-MODIFIED:20240307T195711Z
UID:10001621-1712257200-1712264400@centraldenver.com
SUMMARY:Arvada West Spring Concert
DESCRIPTION:The Arvada West Choral Music program has established itself as having one the premiere programs in the United States with an invitation to perform at the 2017 National ACDA Conference in Minneapolis.  Numerous choirs have also been selected to perform at CMEA conferences in the past several years (the top state honor for high school ensembles) – including 10 appearances since 2009. The choirs also consistently receive straight “Superior” ratings at festivals and competitions. \nAWest choirs have performed in numerous cities and prestigious venues across the United States\, including Los Angeles\, New York City (Carnegie Hall)\, Washington\, D.C. (Kennedy Center)\, and Chicago (Orchestra Hall) – and have traveled internationally\, performing High Mass at the Basilicas of St. Peter’s Rome and St. Mark’s Venice.
URL:https://centraldenver.com/event/arvada-west-spring-concert/
LOCATION:Central Presbyterian Church\, 1660 Sherman St\, Denver\, CO\, United States
CATEGORIES:Community Events,Concerts,Music & Choirs
ATTACH;FMTTYPE=image/jpeg:https://centraldenver.com/wp-content/uploads/2024/03/OlaGjeilo.jpg
END:VEVENT
BEGIN:VEVENT
DTSTART;TZID=America/Denver:20240407T103000
DTEND;TZID=America/Denver:20240407T113000
DTSTAMP:20260422T093855
CREATED:20240402T210957Z
LAST-MODIFIED:20240402T211156Z
UID:10001631-1712485800-1712489400@centraldenver.com
SUMMARY:Worship at Central Presbyterian Church
DESCRIPTION:Central welcomes Rev. Dr. Dee Cooper\, Lead Presbyter of Denver Presbytery\, to the pulpit. \nSpecial music from The Canciones Project\, John Seesholtz\, baritone\, Eric Botto\, tenor\, and Sabina Balsamo\, soprano; Mallory Bernstein\, piano
URL:https://centraldenver.com/event/worship-at-central-presbyterian-church-46/
LOCATION:Central Presbyterian Church\, 1660 Sherman St\, Denver\, CO\, United States
CATEGORIES:Community Events,Worship
ATTACH;FMTTYPE=image/jpeg:https://centraldenver.com/wp-content/uploads/2024/04/CPC-Easter-Worship-29.jpg
END:VEVENT
BEGIN:VEVENT
DTSTART;TZID=America/Denver:20240410T190000
DTEND;TZID=America/Denver:20240410T203000
DTSTAMP:20260422T093855
CREATED:20230905T161344Z
LAST-MODIFIED:20231128T174459Z
UID:10000887-1712775600-1712781000@centraldenver.com
SUMMARY:Chancel Choir Practice
DESCRIPTION:
URL:https://centraldenver.com/event/chancel-choir-practice/2024-04-10/
LOCATION:Central Presbyterian Church\, 1660 Sherman St\, Denver\, CO\, United States
CATEGORIES:Adult Ministries,Holiday & Special Services,Music & Choirs,Worship
ATTACH;FMTTYPE=image/jpeg:https://centraldenver.com/wp-content/uploads/2023/09/Chancel-Choir-with-Janinah-Burnett-120.jpg
END:VEVENT
BEGIN:VEVENT
DTSTART;TZID=America/Denver:20240411T100000
DTEND;TZID=America/Denver:20240411T113000
DTSTAMP:20260422T093855
CREATED:20230831T165550Z
LAST-MODIFIED:20230831T165656Z
UID:10000847-1712829600-1712835000@centraldenver.com
SUMMARY:Women's Bible Study
DESCRIPTION:Women’s Bible Study \nMonthly on the second Thursday 10:00 – 11:30am \nLocation: \nhttps://us02web.zoom.us/j/83090293373?pwd=OXdoQXpzQzdoOFFYOUJ6dkVIRHp6QT09
URL:https://centraldenver.com/event/womens-bible-study-2/2024-04-11/
LOCATION:Online\, Online
CATEGORIES:Adult Ministries
ATTACH;FMTTYPE=image/jpeg:https://centraldenver.com/wp-content/uploads/2023/08/Bible-Study.jpeg
END:VEVENT
BEGIN:VEVENT
DTSTART;TZID=America/Denver:20240411T190000
DTEND;TZID=America/Denver:20240411T200000
DTSTAMP:20260422T093855
CREATED:20230925T181621Z
LAST-MODIFIED:20250204T173945Z
UID:10001308-1712862000-1712865600@centraldenver.com
SUMMARY:Theology on Tap
DESCRIPTION:Theology on Tap\nThursdays\, 7:00PM\nWe get together online and in person at local breweries to discuss questions of faith. Please contact Josh Trimble (trimjosh@gmail.com) to be added to the email list for current topics and location information.
URL:https://centraldenver.com/event/theology-on-tap-event-series/2024-04-11/
LOCATION:Various\, CO\, United States
ATTACH;FMTTYPE=image/jpeg:https://centraldenver.com/wp-content/uploads/2023/09/pexels-pavel-danilyuk-5858064.jpg
END:VEVENT
BEGIN:VEVENT
DTSTART;TZID=America/Denver:20240412T193000
DTEND;TZID=America/Denver:20240412T210000
DTSTAMP:20260422T093855
CREATED:20240327T173625Z
LAST-MODIFIED:20240327T173813Z
UID:10001626-1712950200-1712955600@centraldenver.com
SUMMARY:The Canciones Project
DESCRIPTION:This recital is an all Spanish Recital with performances from our own\nJohn Seesholtz\, baritone section leader\, and singers from all over the United\nStates that have studied with Dr. Seesholtz at CU Boulder. \nThis benefit recital is for the Canciones Project\, a project fiscally sponsored\nby the non-profit\, Art Song Colorado. The project is working to build a\ndatabase and academic text book that will help change the way Latin\nAmerican music is studied and performed through the world.
URL:https://centraldenver.com/event/the-canciones-project/
LOCATION:Central Presbyterian Church\, 1660 Sherman St\, Denver\, CO\, United States
CATEGORIES:Community Events,Concerts,Family Ministries,Music & Choirs,Service & Volunteer Opportunies
ATTACH;FMTTYPE=image/jpeg:https://centraldenver.com/wp-content/uploads/2024/03/Canciones-e1711561078846.jpg
END:VEVENT
BEGIN:VEVENT
DTSTART;TZID=America/Denver:20240413T100000
DTEND;TZID=America/Denver:20240413T120000
DTSTAMP:20260422T093855
CREATED:20240408T182946Z
LAST-MODIFIED:20240408T183243Z
UID:10001636-1713002400-1713009600@centraldenver.com
SUMMARY:Guns to Gardens Event
DESCRIPTION:
URL:https://centraldenver.com/event/turn-your-gun-into-a-garden-tool/
LOCATION:CO
CATEGORIES:Community Events,Service & Volunteer Opportunies
ATTACH;FMTTYPE=image/jpeg:https://centraldenver.com/wp-content/uploads/2024/04/Guns-to-Gardens-April-13-Image_Page_1-e1712601153570.jpg
END:VEVENT
BEGIN:VEVENT
DTSTART;TZID=America/Denver:20240414T103000
DTEND;TZID=America/Denver:20240414T113000
DTSTAMP:20260422T093855
CREATED:20240408T181100Z
LAST-MODIFIED:20240408T181134Z
UID:10001632-1713090600-1713094200@centraldenver.com
SUMMARY:Worship at Central Presbyterian Church
DESCRIPTION:Sermon —  Still Wondering? — Pastor Louise Westfall \nText: Luke 24:36b-48 \nSpecial music from The Chancel Choir; Mallory Bernstein\, piano
URL:https://centraldenver.com/event/worship-at-central-presbyterian-church-47/
LOCATION:Central Presbyterian Church\, 1660 Sherman St\, Denver\, CO\, United States
CATEGORIES:Community Events,Worship
ATTACH;FMTTYPE=image/jpeg:https://centraldenver.com/wp-content/uploads/2024/04/CPC-Easter-Worship-29.jpg
END:VEVENT
BEGIN:VEVENT
DTSTART;TZID=America/Denver:20240414T114500
DTEND;TZID=America/Denver:20240414T130000
DTSTAMP:20260422T093855
CREATED:20240408T181808Z
LAST-MODIFIED:20240408T182043Z
UID:10001633-1713095100-1713099600@centraldenver.com
SUMMARY:Faith Formation Class: Decolonizing Christianity
DESCRIPTION:A map of the world showing the extent of the British Empire in 1886. (Credit: J. C. R. Columb – MacClure & Co. / Norman B. Leventhal Map Center / Wikimedia Commons / CC BY 2.0/ Cropped) \nDecolonizing Christianity with Rev. Evan Amo \nIdentifying the histories and dimensions of colonialism within the living history of Christianity\, seeking to rediscover a pre-imperial Christian imagination\, pursuing the heart of Jesus and the Kingdom he has brought near. \nApril 14th and 21st — West Classroom\, following worship.
URL:https://centraldenver.com/event/faith-formation-class/
LOCATION:Central Presbyterian Church\, 1660 Sherman St\, Denver\, CO\, United States
CATEGORIES:Adult Ministries,Community Events
ATTACH;FMTTYPE=image/jpeg:https://centraldenver.com/wp-content/uploads/2024/04/british-empire-map-1886-1080x675-1.jpg
END:VEVENT
BEGIN:VEVENT
DTSTART;TZID=America/Denver:20240417T190000
DTEND;TZID=America/Denver:20240417T203000
DTSTAMP:20260422T093855
CREATED:20230905T161344Z
LAST-MODIFIED:20231128T174459Z
UID:10000888-1713380400-1713385800@centraldenver.com
SUMMARY:Chancel Choir Practice
DESCRIPTION:
URL:https://centraldenver.com/event/chancel-choir-practice/2024-04-17/
LOCATION:Central Presbyterian Church\, 1660 Sherman St\, Denver\, CO\, United States
CATEGORIES:Adult Ministries,Holiday & Special Services,Music & Choirs,Worship
ATTACH;FMTTYPE=image/jpeg:https://centraldenver.com/wp-content/uploads/2023/09/Chancel-Choir-with-Janinah-Burnett-120.jpg
END:VEVENT
BEGIN:VEVENT
DTSTART;TZID=America/Denver:20240418T190000
DTEND;TZID=America/Denver:20240418T200000
DTSTAMP:20260422T093855
CREATED:20230925T181621Z
LAST-MODIFIED:20250204T173945Z
UID:10001309-1713466800-1713470400@centraldenver.com
SUMMARY:Theology on Tap
DESCRIPTION:Theology on Tap\nThursdays\, 7:00PM\nWe get together online and in person at local breweries to discuss questions of faith. Please contact Josh Trimble (trimjosh@gmail.com) to be added to the email list for current topics and location information.
URL:https://centraldenver.com/event/theology-on-tap-event-series/2024-04-18/
LOCATION:Various\, CO\, United States
ATTACH;FMTTYPE=image/jpeg:https://centraldenver.com/wp-content/uploads/2023/09/pexels-pavel-danilyuk-5858064.jpg
END:VEVENT
BEGIN:VEVENT
DTSTART;TZID=America/Denver:20240419T193000
DTEND;TZID=America/Denver:20240419T193000
DTSTAMP:20260422T093855
CREATED:20240408T183457Z
LAST-MODIFIED:20240408T183702Z
UID:10001637-1713555000-1713555000@centraldenver.com
SUMMARY:Columbine: 25 Years Later -- We Remember --
DESCRIPTION:
URL:https://centraldenver.com/event/join-us-on-the-west-capitol-steps-for-a-columbine-25th-year-remembrance/
LOCATION:CO
CATEGORIES:Community Events,Service & Volunteer Opportunies
ATTACH;FMTTYPE=image/jpeg:https://centraldenver.com/wp-content/uploads/2024/04/Columbine-25th-Flyer-3-e1712601241827.jpg
END:VEVENT
BEGIN:VEVENT
DTSTART;TZID=America/Denver:20240419T193000
DTEND;TZID=America/Denver:20240419T213000
DTSTAMP:20260422T093855
CREATED:20240402T202413Z
LAST-MODIFIED:20240430T163724Z
UID:10001628-1713555000-1713562200@centraldenver.com
SUMMARY:Denver Women's Chorus:  Storytellers
DESCRIPTION:In this powerful show\, DWC joins with professional treble ensemble mirabai and guest conductor Sandra Snow to present Storytellers\, a concert that explores what happens when communities come together to share their stories. Hear powerful music from Joan Szymko\, Andrea Ramsey\, and the world premier of a new work by folk artist and choral composer Moira Smiley.
URL:https://centraldenver.com/event/denver-womens-chorus-storytellers/
LOCATION:Central Presbyterian Church\, 1660 Sherman St\, Denver\, CO\, United States
CATEGORIES:Community Events,Concerts
ATTACH;FMTTYPE=image/jpeg:https://centraldenver.com/wp-content/uploads/2024/04/StoryTellers-600-×-400-px-5-1024x683-1-1.jpg
END:VEVENT
BEGIN:VEVENT
DTSTART;TZID=America/Denver:20240420T193000
DTEND;TZID=America/Denver:20240420T213000
DTSTAMP:20260422T093855
CREATED:20240402T202454Z
LAST-MODIFIED:20240418T180814Z
UID:10001629-1713641400-1713648600@centraldenver.com
SUMMARY:Denver Women's Chorus:  Storytellers
DESCRIPTION:In this powerful show\, DWC joins with professional treble ensemble mirabai and guest conductor Sandra Snow to present Storytellers\, a concert that explores what happens when communities come together to share their stories. Hear powerful music from Joan Szymko\, Andrea Ramsey\, and the world premier of a new work by folk artist and choral composer Moira Smiley.
URL:https://centraldenver.com/event/denver-womens-chorus-storytellers-2/
LOCATION:Central Presbyterian Church\, 1660 Sherman St\, Denver\, CO\, United States
CATEGORIES:Community Events,Concerts
ATTACH;FMTTYPE=image/jpeg:https://centraldenver.com/wp-content/uploads/2024/04/StoryTellers-600-×-400-px-5-1024x683-1.jpg
END:VEVENT
BEGIN:VEVENT
DTSTART;TZID=America/Denver:20240421T103000
DTEND;TZID=America/Denver:20240421T113000
DTSTAMP:20260422T093855
CREATED:20240416T191631Z
LAST-MODIFIED:20240416T191631Z
UID:10001638-1713695400-1713699000@centraldenver.com
SUMMARY:Worship at Central Presbyterian Church
DESCRIPTION:Sermon —  Another Way — Rev. Fernando Rodriguez \nText: Acts 4:5-12 \nSpecial music from The Chancel Choir\, Kassandra Lopez\, flute\, Mallory Bernstein\, piano\, and Douglas Macomber\, organ.
URL:https://centraldenver.com/event/worship-at-central-presbyterian-church-48/
LOCATION:Central Presbyterian Church\, 1660 Sherman St\, Denver\, CO\, United States
CATEGORIES:Community Events,Worship
ATTACH;FMTTYPE=image/jpeg:https://centraldenver.com/wp-content/uploads/2024/04/pexels-nathan-cowley-1192672.jpg
END:VEVENT
BEGIN:VEVENT
DTSTART;TZID=America/Denver:20240421T114500
DTEND;TZID=America/Denver:20240421T130000
DTSTAMP:20260422T093855
CREATED:20240408T181907Z
LAST-MODIFIED:20240408T182002Z
UID:10001634-1713699900-1713704400@centraldenver.com
SUMMARY:Faith Formation Class: Decolonizing Christianity
DESCRIPTION:A map of the world showing the extent of the British Empire in 1886. (Credit: J. C. R. Columb – MacClure & Co. / Norman B. Leventhal Map Center / Wikimedia Commons / CC BY 2.0/ Cropped) \nDecolonizing Christianity with Rev. Evan Amo \nIdentifying the histories and dimensions of colonialism within the living history of Christianity\, seeking to rediscover a pre-imperial Christian imagination\, pursuing the heart of Jesus and the Kingdom he has brought near. \nApril 14th and 21st — West Classroom\, following worship.
URL:https://centraldenver.com/event/faith-formation-class-decolonizing-christianity/
LOCATION:Central Presbyterian Church\, 1660 Sherman St\, Denver\, CO\, United States
CATEGORIES:Adult Ministries,Community Events
ATTACH;FMTTYPE=image/jpeg:https://centraldenver.com/wp-content/uploads/2024/04/british-empire-map-1886-1080x675-1.jpg
END:VEVENT
BEGIN:VEVENT
DTSTART;TZID=America/Denver:20240424T190000
DTEND;TZID=America/Denver:20240424T203000
DTSTAMP:20260422T093855
CREATED:20230905T161344Z
LAST-MODIFIED:20231128T174459Z
UID:10001655-1713985200-1713990600@centraldenver.com
SUMMARY:Chancel Choir Practice
DESCRIPTION:
URL:https://centraldenver.com/event/chancel-choir-practice/2024-04-24/
LOCATION:Central Presbyterian Church\, 1660 Sherman St\, Denver\, CO\, United States
CATEGORIES:Adult Ministries,Holiday & Special Services,Music & Choirs,Worship
ATTACH;FMTTYPE=image/jpeg:https://centraldenver.com/wp-content/uploads/2023/09/Chancel-Choir-with-Janinah-Burnett-120.jpg
END:VEVENT
BEGIN:VEVENT
DTSTART;TZID=America/Denver:20240425T190000
DTEND;TZID=America/Denver:20240425T200000
DTSTAMP:20260422T093855
CREATED:20230925T181621Z
LAST-MODIFIED:20250204T173945Z
UID:10001310-1714071600-1714075200@centraldenver.com
SUMMARY:Theology on Tap
DESCRIPTION:Theology on Tap\nThursdays\, 7:00PM\nWe get together online and in person at local breweries to discuss questions of faith. Please contact Josh Trimble (trimjosh@gmail.com) to be added to the email list for current topics and location information.
URL:https://centraldenver.com/event/theology-on-tap-event-series/2024-04-25/
LOCATION:Various\, CO\, United States
ATTACH;FMTTYPE=image/jpeg:https://centraldenver.com/wp-content/uploads/2023/09/pexels-pavel-danilyuk-5858064.jpg
END:VEVENT
BEGIN:VEVENT
DTSTART;TZID=America/Denver:20240428T103000
DTEND;TZID=America/Denver:20240428T113000
DTSTAMP:20260422T093855
CREATED:20240423T204039Z
LAST-MODIFIED:20240423T204039Z
UID:10001641-1714300200-1714303800@centraldenver.com
SUMMARY:Worship at Central Presbyterian Church
DESCRIPTION:Sermon —  Because God First Loved Us — Rev. Louise Westfall \nText: I John 4:7-21 \nSpecial music from The Chancel Choir Section Leaders\, the Chancel Choir and Paul Falk\, piano.
URL:https://centraldenver.com/event/worship-at-central-presbyterian-church-49/
LOCATION:Central Presbyterian Church\, 1660 Sherman St\, Denver\, CO\, United States
CATEGORIES:Community Events,Worship
ATTACH;FMTTYPE=image/jpeg:https://centraldenver.com/wp-content/uploads/2024/04/central-compassion-in-action.jpeg
END:VEVENT
END:VCALENDAR