BEGIN:VCALENDAR
VERSION:2.0
PRODID:-//Central Presbyterian Church Denver - ECPv6.15.20//NONSGML v1.0//EN
CALSCALE:GREGORIAN
METHOD:PUBLISH
X-WR-CALNAME:Central Presbyterian Church Denver
X-ORIGINAL-URL:https://centraldenver.com
X-WR-CALDESC:Events for Central Presbyterian Church Denver
REFRESH-INTERVAL;VALUE=DURATION:PT1H
X-Robots-Tag:noindex
X-PUBLISHED-TTL:PT1H
BEGIN:VTIMEZONE
TZID:America/Denver
BEGIN:DAYLIGHT
TZOFFSETFROM:-0700
TZOFFSETTO:-0600
TZNAME:MDT
DTSTART:20250309T090000
END:DAYLIGHT
BEGIN:STANDARD
TZOFFSETFROM:-0600
TZOFFSETTO:-0700
TZNAME:MST
DTSTART:20251102T080000
END:STANDARD
BEGIN:DAYLIGHT
TZOFFSETFROM:-0700
TZOFFSETTO:-0600
TZNAME:MDT
DTSTART:20260308T090000
END:DAYLIGHT
BEGIN:STANDARD
TZOFFSETFROM:-0600
TZOFFSETTO:-0700
TZNAME:MST
DTSTART:20261101T080000
END:STANDARD
BEGIN:DAYLIGHT
TZOFFSETFROM:-0700
TZOFFSETTO:-0600
TZNAME:MDT
DTSTART:20270314T090000
END:DAYLIGHT
BEGIN:STANDARD
TZOFFSETFROM:-0600
TZOFFSETTO:-0700
TZNAME:MST
DTSTART:20271107T080000
END:STANDARD
BEGIN:DAYLIGHT
TZOFFSETFROM:-0700
TZOFFSETTO:-0600
TZNAME:MDT
DTSTART:20280312T090000
END:DAYLIGHT
BEGIN:STANDARD
TZOFFSETFROM:-0600
TZOFFSETTO:-0700
TZNAME:MST
DTSTART:20281105T080000
END:STANDARD
END:VTIMEZONE
BEGIN:VEVENT
DTSTART;TZID=America/Denver:20261001T190000
DTEND;TZID=America/Denver:20261001T200000
DTSTAMP:20260421T154233
CREATED:20230925T181621Z
LAST-MODIFIED:20250204T173945Z
UID:10001437-1790881200-1790884800@centraldenver.com
SUMMARY:Theology on Tap
DESCRIPTION:Theology on Tap\nThursdays\, 7:00PM\nWe get together online and in person at local breweries to discuss questions of faith. Please contact Josh Trimble (trimjosh@gmail.com) to be added to the email list for current topics and location information.
URL:https://centraldenver.com/event/theology-on-tap-event-series/2026-10-01/
LOCATION:Various\, CO\, United States
ATTACH;FMTTYPE=image/jpeg:https://centraldenver.com/wp-content/uploads/2023/09/pexels-pavel-danilyuk-5858064.jpg
END:VEVENT
BEGIN:VEVENT
DTSTART;TZID=America/Denver:20261004T084500
DTEND;TZID=America/Denver:20261004T100000
DTSTAMP:20260421T154233
CREATED:20260219T221058Z
LAST-MODIFIED:20260219T221207Z
UID:10002181-1791103500-1791108000@centraldenver.com
SUMMARY:Chancel Choir Practice
DESCRIPTION:
URL:https://centraldenver.com/event/chancel-choir-practice-16/2026-10-04/
LOCATION:Central Presbyterian Church\, 1660 Sherman St\, Denver\, CO\, United States
CATEGORIES:Adult Ministries,Holiday & Special Services,Music & Choirs,Worship
ATTACH;FMTTYPE=image/jpeg:https://centraldenver.com/wp-content/uploads/2024/08/This-Is-The-Day-.-Glenn-Ross-15.jpg
END:VEVENT
BEGIN:VEVENT
DTSTART;TZID=America/Denver:20261008T190000
DTEND;TZID=America/Denver:20261008T200000
DTSTAMP:20260421T154233
CREATED:20230925T181621Z
LAST-MODIFIED:20250204T173945Z
UID:10001438-1791486000-1791489600@centraldenver.com
SUMMARY:Theology on Tap
DESCRIPTION:Theology on Tap\nThursdays\, 7:00PM\nWe get together online and in person at local breweries to discuss questions of faith. Please contact Josh Trimble (trimjosh@gmail.com) to be added to the email list for current topics and location information.
URL:https://centraldenver.com/event/theology-on-tap-event-series/2026-10-08/
LOCATION:Various\, CO\, United States
ATTACH;FMTTYPE=image/jpeg:https://centraldenver.com/wp-content/uploads/2023/09/pexels-pavel-danilyuk-5858064.jpg
END:VEVENT
BEGIN:VEVENT
DTSTART;TZID=America/Denver:20261011T084500
DTEND;TZID=America/Denver:20261011T100000
DTSTAMP:20260421T154233
CREATED:20260219T221058Z
LAST-MODIFIED:20260219T221207Z
UID:10002182-1791708300-1791712800@centraldenver.com
SUMMARY:Chancel Choir Practice
DESCRIPTION:
URL:https://centraldenver.com/event/chancel-choir-practice-16/2026-10-11/
LOCATION:Central Presbyterian Church\, 1660 Sherman St\, Denver\, CO\, United States
CATEGORIES:Adult Ministries,Holiday & Special Services,Music & Choirs,Worship
ATTACH;FMTTYPE=image/jpeg:https://centraldenver.com/wp-content/uploads/2024/08/This-Is-The-Day-.-Glenn-Ross-15.jpg
END:VEVENT
BEGIN:VEVENT
DTSTART;TZID=America/Denver:20261015T190000
DTEND;TZID=America/Denver:20261015T200000
DTSTAMP:20260421T154233
CREATED:20230925T181621Z
LAST-MODIFIED:20250204T173945Z
UID:10001439-1792090800-1792094400@centraldenver.com
SUMMARY:Theology on Tap
DESCRIPTION:Theology on Tap\nThursdays\, 7:00PM\nWe get together online and in person at local breweries to discuss questions of faith. Please contact Josh Trimble (trimjosh@gmail.com) to be added to the email list for current topics and location information.
URL:https://centraldenver.com/event/theology-on-tap-event-series/2026-10-15/
LOCATION:Various\, CO\, United States
ATTACH;FMTTYPE=image/jpeg:https://centraldenver.com/wp-content/uploads/2023/09/pexels-pavel-danilyuk-5858064.jpg
END:VEVENT
BEGIN:VEVENT
DTSTART;TZID=America/Denver:20261018T084500
DTEND;TZID=America/Denver:20261018T100000
DTSTAMP:20260421T154233
CREATED:20260219T221058Z
LAST-MODIFIED:20260219T221207Z
UID:10002183-1792313100-1792317600@centraldenver.com
SUMMARY:Chancel Choir Practice
DESCRIPTION:
URL:https://centraldenver.com/event/chancel-choir-practice-16/2026-10-18/
LOCATION:Central Presbyterian Church\, 1660 Sherman St\, Denver\, CO\, United States
CATEGORIES:Adult Ministries,Holiday & Special Services,Music & Choirs,Worship
ATTACH;FMTTYPE=image/jpeg:https://centraldenver.com/wp-content/uploads/2024/08/This-Is-The-Day-.-Glenn-Ross-15.jpg
END:VEVENT
BEGIN:VEVENT
DTSTART;TZID=America/Denver:20261022T190000
DTEND;TZID=America/Denver:20261022T200000
DTSTAMP:20260421T154233
CREATED:20230925T181621Z
LAST-MODIFIED:20250204T173945Z
UID:10001440-1792695600-1792699200@centraldenver.com
SUMMARY:Theology on Tap
DESCRIPTION:Theology on Tap\nThursdays\, 7:00PM\nWe get together online and in person at local breweries to discuss questions of faith. Please contact Josh Trimble (trimjosh@gmail.com) to be added to the email list for current topics and location information.
URL:https://centraldenver.com/event/theology-on-tap-event-series/2026-10-22/
LOCATION:Various\, CO\, United States
ATTACH;FMTTYPE=image/jpeg:https://centraldenver.com/wp-content/uploads/2023/09/pexels-pavel-danilyuk-5858064.jpg
END:VEVENT
BEGIN:VEVENT
DTSTART;TZID=America/Denver:20261025T084500
DTEND;TZID=America/Denver:20261025T100000
DTSTAMP:20260421T154233
CREATED:20260219T221058Z
LAST-MODIFIED:20260219T221207Z
UID:10002184-1792917900-1792922400@centraldenver.com
SUMMARY:Chancel Choir Practice
DESCRIPTION:
URL:https://centraldenver.com/event/chancel-choir-practice-16/2026-10-25/
LOCATION:Central Presbyterian Church\, 1660 Sherman St\, Denver\, CO\, United States
CATEGORIES:Adult Ministries,Holiday & Special Services,Music & Choirs,Worship
ATTACH;FMTTYPE=image/jpeg:https://centraldenver.com/wp-content/uploads/2024/08/This-Is-The-Day-.-Glenn-Ross-15.jpg
END:VEVENT
BEGIN:VEVENT
DTSTART;TZID=America/Denver:20261029T190000
DTEND;TZID=America/Denver:20261029T200000
DTSTAMP:20260421T154233
CREATED:20230925T181621Z
LAST-MODIFIED:20250204T173945Z
UID:10001441-1793300400-1793304000@centraldenver.com
SUMMARY:Theology on Tap
DESCRIPTION:Theology on Tap\nThursdays\, 7:00PM\nWe get together online and in person at local breweries to discuss questions of faith. Please contact Josh Trimble (trimjosh@gmail.com) to be added to the email list for current topics and location information.
URL:https://centraldenver.com/event/theology-on-tap-event-series/2026-10-29/
LOCATION:Various\, CO\, United States
ATTACH;FMTTYPE=image/jpeg:https://centraldenver.com/wp-content/uploads/2023/09/pexels-pavel-danilyuk-5858064.jpg
END:VEVENT
BEGIN:VEVENT
DTSTART;TZID=America/Denver:20261101T084500
DTEND;TZID=America/Denver:20261101T100000
DTSTAMP:20260421T154233
CREATED:20260219T221058Z
LAST-MODIFIED:20260219T221207Z
UID:10002185-1793522700-1793527200@centraldenver.com
SUMMARY:Chancel Choir Practice
DESCRIPTION:
URL:https://centraldenver.com/event/chancel-choir-practice-16/2026-11-01/
LOCATION:Central Presbyterian Church\, 1660 Sherman St\, Denver\, CO\, United States
CATEGORIES:Adult Ministries,Holiday & Special Services,Music & Choirs,Worship
ATTACH;FMTTYPE=image/jpeg:https://centraldenver.com/wp-content/uploads/2024/08/This-Is-The-Day-.-Glenn-Ross-15.jpg
END:VEVENT
BEGIN:VEVENT
DTSTART;TZID=America/Denver:20261105T190000
DTEND;TZID=America/Denver:20261105T200000
DTSTAMP:20260421T154233
CREATED:20230925T181621Z
LAST-MODIFIED:20250204T173945Z
UID:10001442-1793905200-1793908800@centraldenver.com
SUMMARY:Theology on Tap
DESCRIPTION:Theology on Tap\nThursdays\, 7:00PM\nWe get together online and in person at local breweries to discuss questions of faith. Please contact Josh Trimble (trimjosh@gmail.com) to be added to the email list for current topics and location information.
URL:https://centraldenver.com/event/theology-on-tap-event-series/2026-11-05/
LOCATION:Various\, CO\, United States
ATTACH;FMTTYPE=image/jpeg:https://centraldenver.com/wp-content/uploads/2023/09/pexels-pavel-danilyuk-5858064.jpg
END:VEVENT
BEGIN:VEVENT
DTSTART;TZID=America/Denver:20261108T084500
DTEND;TZID=America/Denver:20261108T100000
DTSTAMP:20260421T154233
CREATED:20260219T221058Z
LAST-MODIFIED:20260219T221207Z
UID:10002186-1794127500-1794132000@centraldenver.com
SUMMARY:Chancel Choir Practice
DESCRIPTION:
URL:https://centraldenver.com/event/chancel-choir-practice-16/2026-11-08/
LOCATION:Central Presbyterian Church\, 1660 Sherman St\, Denver\, CO\, United States
CATEGORIES:Adult Ministries,Holiday & Special Services,Music & Choirs,Worship
ATTACH;FMTTYPE=image/jpeg:https://centraldenver.com/wp-content/uploads/2024/08/This-Is-The-Day-.-Glenn-Ross-15.jpg
END:VEVENT
BEGIN:VEVENT
DTSTART;TZID=America/Denver:20261112T190000
DTEND;TZID=America/Denver:20261112T200000
DTSTAMP:20260421T154233
CREATED:20230925T181621Z
LAST-MODIFIED:20250204T173945Z
UID:10001443-1794510000-1794513600@centraldenver.com
SUMMARY:Theology on Tap
DESCRIPTION:Theology on Tap\nThursdays\, 7:00PM\nWe get together online and in person at local breweries to discuss questions of faith. Please contact Josh Trimble (trimjosh@gmail.com) to be added to the email list for current topics and location information.
URL:https://centraldenver.com/event/theology-on-tap-event-series/2026-11-12/
LOCATION:Various\, CO\, United States
ATTACH;FMTTYPE=image/jpeg:https://centraldenver.com/wp-content/uploads/2023/09/pexels-pavel-danilyuk-5858064.jpg
END:VEVENT
BEGIN:VEVENT
DTSTART;TZID=America/Denver:20261115T084500
DTEND;TZID=America/Denver:20261115T100000
DTSTAMP:20260421T154233
CREATED:20260219T221058Z
LAST-MODIFIED:20260219T221207Z
UID:10002187-1794732300-1794736800@centraldenver.com
SUMMARY:Chancel Choir Practice
DESCRIPTION:
URL:https://centraldenver.com/event/chancel-choir-practice-16/2026-11-15/
LOCATION:Central Presbyterian Church\, 1660 Sherman St\, Denver\, CO\, United States
CATEGORIES:Adult Ministries,Holiday & Special Services,Music & Choirs,Worship
ATTACH;FMTTYPE=image/jpeg:https://centraldenver.com/wp-content/uploads/2024/08/This-Is-The-Day-.-Glenn-Ross-15.jpg
END:VEVENT
BEGIN:VEVENT
DTSTART;TZID=America/Denver:20261119T190000
DTEND;TZID=America/Denver:20261119T200000
DTSTAMP:20260421T154233
CREATED:20230925T181621Z
LAST-MODIFIED:20250204T173945Z
UID:10001444-1795114800-1795118400@centraldenver.com
SUMMARY:Theology on Tap
DESCRIPTION:Theology on Tap\nThursdays\, 7:00PM\nWe get together online and in person at local breweries to discuss questions of faith. Please contact Josh Trimble (trimjosh@gmail.com) to be added to the email list for current topics and location information.
URL:https://centraldenver.com/event/theology-on-tap-event-series/2026-11-19/
LOCATION:Various\, CO\, United States
ATTACH;FMTTYPE=image/jpeg:https://centraldenver.com/wp-content/uploads/2023/09/pexels-pavel-danilyuk-5858064.jpg
END:VEVENT
BEGIN:VEVENT
DTSTART;TZID=America/Denver:20261122T084500
DTEND;TZID=America/Denver:20261122T100000
DTSTAMP:20260421T154233
CREATED:20260219T221058Z
LAST-MODIFIED:20260219T221207Z
UID:10002188-1795337100-1795341600@centraldenver.com
SUMMARY:Chancel Choir Practice
DESCRIPTION:
URL:https://centraldenver.com/event/chancel-choir-practice-16/2026-11-22/
LOCATION:Central Presbyterian Church\, 1660 Sherman St\, Denver\, CO\, United States
CATEGORIES:Adult Ministries,Holiday & Special Services,Music & Choirs,Worship
ATTACH;FMTTYPE=image/jpeg:https://centraldenver.com/wp-content/uploads/2024/08/This-Is-The-Day-.-Glenn-Ross-15.jpg
END:VEVENT
BEGIN:VEVENT
DTSTART;TZID=America/Denver:20261126T190000
DTEND;TZID=America/Denver:20261126T200000
DTSTAMP:20260421T154233
CREATED:20230925T181621Z
LAST-MODIFIED:20250204T173945Z
UID:10001445-1795719600-1795723200@centraldenver.com
SUMMARY:Theology on Tap
DESCRIPTION:Theology on Tap\nThursdays\, 7:00PM\nWe get together online and in person at local breweries to discuss questions of faith. Please contact Josh Trimble (trimjosh@gmail.com) to be added to the email list for current topics and location information.
URL:https://centraldenver.com/event/theology-on-tap-event-series/2026-11-26/
LOCATION:Various\, CO\, United States
ATTACH;FMTTYPE=image/jpeg:https://centraldenver.com/wp-content/uploads/2023/09/pexels-pavel-danilyuk-5858064.jpg
END:VEVENT
BEGIN:VEVENT
DTSTART;TZID=America/Denver:20261129T084500
DTEND;TZID=America/Denver:20261129T100000
DTSTAMP:20260421T154233
CREATED:20260219T221058Z
LAST-MODIFIED:20260219T221207Z
UID:10002189-1795941900-1795946400@centraldenver.com
SUMMARY:Chancel Choir Practice
DESCRIPTION:
URL:https://centraldenver.com/event/chancel-choir-practice-16/2026-11-29/
LOCATION:Central Presbyterian Church\, 1660 Sherman St\, Denver\, CO\, United States
CATEGORIES:Adult Ministries,Holiday & Special Services,Music & Choirs,Worship
ATTACH;FMTTYPE=image/jpeg:https://centraldenver.com/wp-content/uploads/2024/08/This-Is-The-Day-.-Glenn-Ross-15.jpg
END:VEVENT
BEGIN:VEVENT
DTSTART;TZID=America/Denver:20261203T190000
DTEND;TZID=America/Denver:20261203T200000
DTSTAMP:20260421T154233
CREATED:20230925T181621Z
LAST-MODIFIED:20250204T173945Z
UID:10001446-1796324400-1796328000@centraldenver.com
SUMMARY:Theology on Tap
DESCRIPTION:Theology on Tap\nThursdays\, 7:00PM\nWe get together online and in person at local breweries to discuss questions of faith. Please contact Josh Trimble (trimjosh@gmail.com) to be added to the email list for current topics and location information.
URL:https://centraldenver.com/event/theology-on-tap-event-series/2026-12-03/
LOCATION:Various\, CO\, United States
ATTACH;FMTTYPE=image/jpeg:https://centraldenver.com/wp-content/uploads/2023/09/pexels-pavel-danilyuk-5858064.jpg
END:VEVENT
BEGIN:VEVENT
DTSTART;TZID=America/Denver:20261206T084500
DTEND;TZID=America/Denver:20261206T100000
DTSTAMP:20260421T154233
CREATED:20260219T221058Z
LAST-MODIFIED:20260219T221207Z
UID:10002190-1796546700-1796551200@centraldenver.com
SUMMARY:Chancel Choir Practice
DESCRIPTION:
URL:https://centraldenver.com/event/chancel-choir-practice-16/2026-12-06/
LOCATION:Central Presbyterian Church\, 1660 Sherman St\, Denver\, CO\, United States
CATEGORIES:Adult Ministries,Holiday & Special Services,Music & Choirs,Worship
ATTACH;FMTTYPE=image/jpeg:https://centraldenver.com/wp-content/uploads/2024/08/This-Is-The-Day-.-Glenn-Ross-15.jpg
END:VEVENT
BEGIN:VEVENT
DTSTART;TZID=America/Denver:20261210T190000
DTEND;TZID=America/Denver:20261210T200000
DTSTAMP:20260421T154233
CREATED:20230925T181621Z
LAST-MODIFIED:20250204T173945Z
UID:10001447-1796929200-1796932800@centraldenver.com
SUMMARY:Theology on Tap
DESCRIPTION:Theology on Tap\nThursdays\, 7:00PM\nWe get together online and in person at local breweries to discuss questions of faith. Please contact Josh Trimble (trimjosh@gmail.com) to be added to the email list for current topics and location information.
URL:https://centraldenver.com/event/theology-on-tap-event-series/2026-12-10/
LOCATION:Various\, CO\, United States
ATTACH;FMTTYPE=image/jpeg:https://centraldenver.com/wp-content/uploads/2023/09/pexels-pavel-danilyuk-5858064.jpg
END:VEVENT
BEGIN:VEVENT
DTSTART;TZID=America/Denver:20261213T084500
DTEND;TZID=America/Denver:20261213T100000
DTSTAMP:20260421T154233
CREATED:20260219T221058Z
LAST-MODIFIED:20260219T221207Z
UID:10002191-1797151500-1797156000@centraldenver.com
SUMMARY:Chancel Choir Practice
DESCRIPTION:
URL:https://centraldenver.com/event/chancel-choir-practice-16/2026-12-13/
LOCATION:Central Presbyterian Church\, 1660 Sherman St\, Denver\, CO\, United States
CATEGORIES:Adult Ministries,Holiday & Special Services,Music & Choirs,Worship
ATTACH;FMTTYPE=image/jpeg:https://centraldenver.com/wp-content/uploads/2024/08/This-Is-The-Day-.-Glenn-Ross-15.jpg
END:VEVENT
BEGIN:VEVENT
DTSTART;TZID=America/Denver:20261217T190000
DTEND;TZID=America/Denver:20261217T200000
DTSTAMP:20260421T154233
CREATED:20230925T181621Z
LAST-MODIFIED:20250204T173945Z
UID:10001448-1797534000-1797537600@centraldenver.com
SUMMARY:Theology on Tap
DESCRIPTION:Theology on Tap\nThursdays\, 7:00PM\nWe get together online and in person at local breweries to discuss questions of faith. Please contact Josh Trimble (trimjosh@gmail.com) to be added to the email list for current topics and location information.
URL:https://centraldenver.com/event/theology-on-tap-event-series/2026-12-17/
LOCATION:Various\, CO\, United States
ATTACH;FMTTYPE=image/jpeg:https://centraldenver.com/wp-content/uploads/2023/09/pexels-pavel-danilyuk-5858064.jpg
END:VEVENT
BEGIN:VEVENT
DTSTART;TZID=America/Denver:20261220T084500
DTEND;TZID=America/Denver:20261220T100000
DTSTAMP:20260421T154233
CREATED:20260219T221058Z
LAST-MODIFIED:20260219T221207Z
UID:10002192-1797756300-1797760800@centraldenver.com
SUMMARY:Chancel Choir Practice
DESCRIPTION:
URL:https://centraldenver.com/event/chancel-choir-practice-16/2026-12-20/
LOCATION:Central Presbyterian Church\, 1660 Sherman St\, Denver\, CO\, United States
CATEGORIES:Adult Ministries,Holiday & Special Services,Music & Choirs,Worship
ATTACH;FMTTYPE=image/jpeg:https://centraldenver.com/wp-content/uploads/2024/08/This-Is-The-Day-.-Glenn-Ross-15.jpg
END:VEVENT
BEGIN:VEVENT
DTSTART;TZID=America/Denver:20261224T190000
DTEND;TZID=America/Denver:20261224T200000
DTSTAMP:20260421T154233
CREATED:20230925T181621Z
LAST-MODIFIED:20250204T173945Z
UID:10001449-1798138800-1798142400@centraldenver.com
SUMMARY:Theology on Tap
DESCRIPTION:Theology on Tap\nThursdays\, 7:00PM\nWe get together online and in person at local breweries to discuss questions of faith. Please contact Josh Trimble (trimjosh@gmail.com) to be added to the email list for current topics and location information.
URL:https://centraldenver.com/event/theology-on-tap-event-series/2026-12-24/
LOCATION:Various\, CO\, United States
ATTACH;FMTTYPE=image/jpeg:https://centraldenver.com/wp-content/uploads/2023/09/pexels-pavel-danilyuk-5858064.jpg
END:VEVENT
BEGIN:VEVENT
DTSTART;TZID=America/Denver:20261227T084500
DTEND;TZID=America/Denver:20261227T100000
DTSTAMP:20260421T154233
CREATED:20260219T221058Z
LAST-MODIFIED:20260219T221207Z
UID:10002193-1798361100-1798365600@centraldenver.com
SUMMARY:Chancel Choir Practice
DESCRIPTION:
URL:https://centraldenver.com/event/chancel-choir-practice-16/2026-12-27/
LOCATION:Central Presbyterian Church\, 1660 Sherman St\, Denver\, CO\, United States
CATEGORIES:Adult Ministries,Holiday & Special Services,Music & Choirs,Worship
ATTACH;FMTTYPE=image/jpeg:https://centraldenver.com/wp-content/uploads/2024/08/This-Is-The-Day-.-Glenn-Ross-15.jpg
END:VEVENT
BEGIN:VEVENT
DTSTART;TZID=America/Denver:20261231T190000
DTEND;TZID=America/Denver:20261231T200000
DTSTAMP:20260421T154233
CREATED:20230925T181621Z
LAST-MODIFIED:20250204T173945Z
UID:10001450-1798743600-1798747200@centraldenver.com
SUMMARY:Theology on Tap
DESCRIPTION:Theology on Tap\nThursdays\, 7:00PM\nWe get together online and in person at local breweries to discuss questions of faith. Please contact Josh Trimble (trimjosh@gmail.com) to be added to the email list for current topics and location information.
URL:https://centraldenver.com/event/theology-on-tap-event-series/2026-12-31/
LOCATION:Various\, CO\, United States
ATTACH;FMTTYPE=image/jpeg:https://centraldenver.com/wp-content/uploads/2023/09/pexels-pavel-danilyuk-5858064.jpg
END:VEVENT
BEGIN:VEVENT
DTSTART;TZID=America/Denver:20270103T084500
DTEND;TZID=America/Denver:20270103T100000
DTSTAMP:20260421T154233
CREATED:20260219T221058Z
LAST-MODIFIED:20260219T221207Z
UID:10002194-1798965900-1798970400@centraldenver.com
SUMMARY:Chancel Choir Practice
DESCRIPTION:
URL:https://centraldenver.com/event/chancel-choir-practice-16/2027-01-03/
LOCATION:Central Presbyterian Church\, 1660 Sherman St\, Denver\, CO\, United States
CATEGORIES:Adult Ministries,Holiday & Special Services,Music & Choirs,Worship
ATTACH;FMTTYPE=image/jpeg:https://centraldenver.com/wp-content/uploads/2024/08/This-Is-The-Day-.-Glenn-Ross-15.jpg
END:VEVENT
BEGIN:VEVENT
DTSTART;TZID=America/Denver:20270107T190000
DTEND;TZID=America/Denver:20270107T200000
DTSTAMP:20260421T154233
CREATED:20230925T181621Z
LAST-MODIFIED:20250204T173945Z
UID:10001451-1799348400-1799352000@centraldenver.com
SUMMARY:Theology on Tap
DESCRIPTION:Theology on Tap\nThursdays\, 7:00PM\nWe get together online and in person at local breweries to discuss questions of faith. Please contact Josh Trimble (trimjosh@gmail.com) to be added to the email list for current topics and location information.
URL:https://centraldenver.com/event/theology-on-tap-event-series/2027-01-07/
LOCATION:Various\, CO\, United States
ATTACH;FMTTYPE=image/jpeg:https://centraldenver.com/wp-content/uploads/2023/09/pexels-pavel-danilyuk-5858064.jpg
END:VEVENT
BEGIN:VEVENT
DTSTART;TZID=America/Denver:20270110T084500
DTEND;TZID=America/Denver:20270110T100000
DTSTAMP:20260421T154233
CREATED:20260219T221058Z
LAST-MODIFIED:20260219T221207Z
UID:10002195-1799570700-1799575200@centraldenver.com
SUMMARY:Chancel Choir Practice
DESCRIPTION:
URL:https://centraldenver.com/event/chancel-choir-practice-16/2027-01-10/
LOCATION:Central Presbyterian Church\, 1660 Sherman St\, Denver\, CO\, United States
CATEGORIES:Adult Ministries,Holiday & Special Services,Music & Choirs,Worship
ATTACH;FMTTYPE=image/jpeg:https://centraldenver.com/wp-content/uploads/2024/08/This-Is-The-Day-.-Glenn-Ross-15.jpg
END:VEVENT
END:VCALENDAR